BEGIN:VCALENDAR
VERSION:2.0
PRODID:-//The North Parish Church of North Andover - ECPv6.15.13//NONSGML v1.0//EN
CALSCALE:GREGORIAN
METHOD:PUBLISH
X-ORIGINAL-URL:https://www.northparish.org
X-WR-CALDESC:Events for The North Parish Church of North Andover
REFRESH-INTERVAL;VALUE=DURATION:PT1H
X-Robots-Tag:noindex
X-PUBLISHED-TTL:PT1H
BEGIN:VTIMEZONE
TZID:America/New_York
BEGIN:DAYLIGHT
TZOFFSETFROM:-0500
TZOFFSETTO:-0400
TZNAME:EDT
DTSTART:20250309T070000
END:DAYLIGHT
BEGIN:STANDARD
TZOFFSETFROM:-0400
TZOFFSETTO:-0500
TZNAME:EST
DTSTART:20251102T060000
END:STANDARD
BEGIN:DAYLIGHT
TZOFFSETFROM:-0500
TZOFFSETTO:-0400
TZNAME:EDT
DTSTART:20260308T070000
END:DAYLIGHT
BEGIN:STANDARD
TZOFFSETFROM:-0400
TZOFFSETTO:-0500
TZNAME:EST
DTSTART:20261101T060000
END:STANDARD
BEGIN:DAYLIGHT
TZOFFSETFROM:-0500
TZOFFSETTO:-0400
TZNAME:EDT
DTSTART:20270314T070000
END:DAYLIGHT
BEGIN:STANDARD
TZOFFSETFROM:-0400
TZOFFSETTO:-0500
TZNAME:EST
DTSTART:20271107T060000
END:STANDARD
BEGIN:DAYLIGHT
TZOFFSETFROM:-0500
TZOFFSETTO:-0400
TZNAME:EDT
DTSTART:20280312T070000
END:DAYLIGHT
BEGIN:STANDARD
TZOFFSETFROM:-0400
TZOFFSETTO:-0500
TZNAME:EST
DTSTART:20281105T060000
END:STANDARD
END:VTIMEZONE
BEGIN:VEVENT
DTSTART;TZID=America/New_York:20260919T200000
DTEND;TZID=America/New_York:20260919T220000
DTSTAMP:20260423T133949
CREATED:20251202T182224Z
LAST-MODIFIED:20251202T182224Z
UID:10014780-1789848000-1789855200@www.northparish.org
SUMMARY:Crossroads Music Series
DESCRIPTION:
URL:https://www.northparish.org/event/crossroads-music-series-16/
LOCATION:Freeman Hall & Parlor at North Parish\, 190 Academy Road\, North Andover\, MA\, 01845\, United States
END:VEVENT
BEGIN:VEVENT
DTSTART;TZID=America/New_York:20260929T063000
DTEND;TZID=America/New_York:20260929T103000
DTSTAMP:20260423T133949
CREATED:20260105T171350Z
LAST-MODIFIED:20260105T171542Z
UID:10015682-1790663400-1790677800@www.northparish.org
SUMMARY:People's Food Pantry registration
DESCRIPTION:
URL:https://www.northparish.org/event/peoples-food-pantry-registration-2/2026-09-29/
LOCATION:Freeman Hall & Parlor at North Parish\, 190 Academy Road\, North Andover\, MA\, 01845\, United States
END:VEVENT
BEGIN:VEVENT
DTSTART;TZID=America/New_York:20261003T150000
DTEND;TZID=America/New_York:20261003T230000
DTSTAMP:20260423T133949
CREATED:20251202T182320Z
LAST-MODIFIED:20251202T182320Z
UID:10014781-1791039600-1791068400@www.northparish.org
SUMMARY:Crossroads Music Series set-up
DESCRIPTION:
URL:https://www.northparish.org/event/crossroads-music-series-set-up-11/
LOCATION:Freeman Hall & Parlor at North Parish\, 190 Academy Road\, North Andover\, MA\, 01845\, United States
END:VEVENT
BEGIN:VEVENT
DTSTART;TZID=America/New_York:20261003T200000
DTEND;TZID=America/New_York:20261003T220000
DTSTAMP:20260423T133949
CREATED:20251202T182348Z
LAST-MODIFIED:20251202T182348Z
UID:10014782-1791057600-1791064800@www.northparish.org
SUMMARY:Crossroads Music Series
DESCRIPTION:
URL:https://www.northparish.org/event/crossroads-music-series-17/
LOCATION:Freeman Hall & Parlor at North Parish\, 190 Academy Road\, North Andover\, MA\, 01845\, United States
END:VEVENT
BEGIN:VEVENT
DTSTART;TZID=America/New_York:20261012T083000
DTEND;TZID=America/New_York:20261012T173000
DTSTAMP:20260423T133949
CREATED:20260105T153158Z
LAST-MODIFIED:20260105T170931Z
UID:10015662-1791793800-1791826200@www.northparish.org
SUMMARY:People's Food Pantry set-up
DESCRIPTION:
URL:https://www.northparish.org/event/peoples-food-pantry-set-up-3/2026-10-12/
LOCATION:Freeman Hall & Parlor at North Parish\, 190 Academy Road\, North Andover\, MA\, 01845\, United States
END:VEVENT
BEGIN:VEVENT
DTSTART;TZID=America/New_York:20261013T063000
DTEND;TZID=America/New_York:20261013T103000
DTSTAMP:20260423T133949
CREATED:20250507T135210Z
LAST-MODIFIED:20250507T135802Z
UID:10013230-1791873000-1791887400@www.northparish.org
SUMMARY:People's Food Pantry registration
DESCRIPTION:
URL:https://www.northparish.org/event/peoples-food-pantry-2/2026-10-13/
LOCATION:Freeman Hall & Parlor at North Parish\, 190 Academy Road\, North Andover\, MA\, 01845\, United States
END:VEVENT
BEGIN:VEVENT
DTSTART;TZID=America/New_York:20261027T063000
DTEND;TZID=America/New_York:20261027T103000
DTSTAMP:20260423T133949
CREATED:20250507T135701Z
LAST-MODIFIED:20250507T140023Z
UID:10013249-1793082600-1793097000@www.northparish.org
SUMMARY:People's Food Pantry registration
DESCRIPTION:
URL:https://www.northparish.org/event/peoples-food-pantry-registration/2026-10-27/
LOCATION:Freeman Hall & Parlor at North Parish\, 190 Academy Road\, North Andover\, MA\, 01845\, United States
END:VEVENT
BEGIN:VEVENT
DTSTART;TZID=America/New_York:20261109T083000
DTEND;TZID=America/New_York:20261109T173000
DTSTAMP:20260423T133949
CREATED:20260105T153158Z
LAST-MODIFIED:20260105T170931Z
UID:10015663-1794213000-1794245400@www.northparish.org
SUMMARY:People's Food Pantry set-up
DESCRIPTION:
URL:https://www.northparish.org/event/peoples-food-pantry-set-up-3/2026-11-09/
LOCATION:Freeman Hall & Parlor at North Parish\, 190 Academy Road\, North Andover\, MA\, 01845\, United States
END:VEVENT
BEGIN:VEVENT
DTSTART;TZID=America/New_York:20261110T063000
DTEND;TZID=America/New_York:20261110T103000
DTSTAMP:20260423T133949
CREATED:20250507T135210Z
LAST-MODIFIED:20250507T135802Z
UID:10013231-1794292200-1794306600@www.northparish.org
SUMMARY:People's Food Pantry registration
DESCRIPTION:
URL:https://www.northparish.org/event/peoples-food-pantry-2/2026-11-10/
LOCATION:Freeman Hall & Parlor at North Parish\, 190 Academy Road\, North Andover\, MA\, 01845\, United States
END:VEVENT
BEGIN:VEVENT
DTSTART;TZID=America/New_York:20261114T150000
DTEND;TZID=America/New_York:20261114T230000
DTSTAMP:20260423T133949
CREATED:20260306T122151Z
LAST-MODIFIED:20260306T122151Z
UID:10016072-1794668400-1794697200@www.northparish.org
SUMMARY:Crossroads set-up
DESCRIPTION:
URL:https://www.northparish.org/event/crossroads-set-up-3/2026-11-14/
LOCATION:Freeman Hall & Parlor at North Parish\, 190 Academy Road\, North Andover\, MA\, 01845\, United States
END:VEVENT
BEGIN:VEVENT
DTSTART;TZID=America/New_York:20261114T200000
DTEND;TZID=America/New_York:20261114T220000
DTSTAMP:20260423T133949
CREATED:20260306T122349Z
LAST-MODIFIED:20260306T122349Z
UID:10016080-1794686400-1794693600@www.northparish.org
SUMMARY:Crossroads Music Series
DESCRIPTION:
URL:https://www.northparish.org/event/crossroads-music-series-18/2026-11-14/
LOCATION:Freeman Hall & Parlor at North Parish\, 190 Academy Road\, North Andover\, MA\, 01845\, United States
END:VEVENT
BEGIN:VEVENT
DTSTART;TZID=America/New_York:20261124T063000
DTEND;TZID=America/New_York:20261124T103000
DTSTAMP:20260423T133949
CREATED:20250507T135701Z
LAST-MODIFIED:20250507T140023Z
UID:10013250-1795501800-1795516200@www.northparish.org
SUMMARY:People's Food Pantry registration
DESCRIPTION:
URL:https://www.northparish.org/event/peoples-food-pantry-registration/2026-11-24/
LOCATION:Freeman Hall & Parlor at North Parish\, 190 Academy Road\, North Andover\, MA\, 01845\, United States
END:VEVENT
BEGIN:VEVENT
DTSTART;TZID=America/New_York:20261212T150000
DTEND;TZID=America/New_York:20261212T230000
DTSTAMP:20260423T133949
CREATED:20260306T122151Z
LAST-MODIFIED:20260306T122151Z
UID:10016073-1797087600-1797116400@www.northparish.org
SUMMARY:Crossroads set-up
DESCRIPTION:
URL:https://www.northparish.org/event/crossroads-set-up-3/2026-12-12/
LOCATION:Freeman Hall & Parlor at North Parish\, 190 Academy Road\, North Andover\, MA\, 01845\, United States
END:VEVENT
BEGIN:VEVENT
DTSTART;TZID=America/New_York:20261212T200000
DTEND;TZID=America/New_York:20261212T220000
DTSTAMP:20260423T133949
CREATED:20260306T122349Z
LAST-MODIFIED:20260306T122349Z
UID:10016081-1797105600-1797112800@www.northparish.org
SUMMARY:Crossroads Music Series
DESCRIPTION:
URL:https://www.northparish.org/event/crossroads-music-series-18/2026-12-12/
LOCATION:Freeman Hall & Parlor at North Parish\, 190 Academy Road\, North Andover\, MA\, 01845\, United States
END:VEVENT
BEGIN:VEVENT
DTSTART;TZID=America/New_York:20261214T083000
DTEND;TZID=America/New_York:20261214T173000
DTSTAMP:20260423T133949
CREATED:20260105T153158Z
LAST-MODIFIED:20260105T170931Z
UID:10015664-1797237000-1797269400@www.northparish.org
SUMMARY:People's Food Pantry set-up
DESCRIPTION:
URL:https://www.northparish.org/event/peoples-food-pantry-set-up-3/2026-12-14/
LOCATION:Freeman Hall & Parlor at North Parish\, 190 Academy Road\, North Andover\, MA\, 01845\, United States
END:VEVENT
BEGIN:VEVENT
DTSTART;TZID=America/New_York:20261215T063000
DTEND;TZID=America/New_York:20261215T103000
DTSTAMP:20260423T133949
CREATED:20260105T171350Z
LAST-MODIFIED:20260105T171542Z
UID:10015683-1797316200-1797330600@www.northparish.org
SUMMARY:People's Food Pantry registration
DESCRIPTION:
URL:https://www.northparish.org/event/peoples-food-pantry-registration-2/2026-12-15/
LOCATION:Freeman Hall & Parlor at North Parish\, 190 Academy Road\, North Andover\, MA\, 01845\, United States
END:VEVENT
BEGIN:VEVENT
DTSTART;TZID=America/New_York:20261229T063000
DTEND;TZID=America/New_York:20261229T103000
DTSTAMP:20260423T133949
CREATED:20260105T171350Z
LAST-MODIFIED:20260105T171542Z
UID:10015684-1798525800-1798540200@www.northparish.org
SUMMARY:People's Food Pantry registration
DESCRIPTION:
URL:https://www.northparish.org/event/peoples-food-pantry-registration-2/2026-12-29/
LOCATION:Freeman Hall & Parlor at North Parish\, 190 Academy Road\, North Andover\, MA\, 01845\, United States
END:VEVENT
BEGIN:VEVENT
DTSTART;TZID=America/New_York:20270109T150000
DTEND;TZID=America/New_York:20270109T230000
DTSTAMP:20260423T133949
CREATED:20260306T122151Z
LAST-MODIFIED:20260306T122151Z
UID:10016074-1799506800-1799535600@www.northparish.org
SUMMARY:Crossroads set-up
DESCRIPTION:
URL:https://www.northparish.org/event/crossroads-set-up-3/2027-01-09/
LOCATION:Freeman Hall & Parlor at North Parish\, 190 Academy Road\, North Andover\, MA\, 01845\, United States
END:VEVENT
BEGIN:VEVENT
DTSTART;TZID=America/New_York:20270109T200000
DTEND;TZID=America/New_York:20270109T220000
DTSTAMP:20260423T133949
CREATED:20260306T122349Z
LAST-MODIFIED:20260306T122349Z
UID:10016082-1799524800-1799532000@www.northparish.org
SUMMARY:Crossroads Music Series
DESCRIPTION:
URL:https://www.northparish.org/event/crossroads-music-series-18/2027-01-09/
LOCATION:Freeman Hall & Parlor at North Parish\, 190 Academy Road\, North Andover\, MA\, 01845\, United States
END:VEVENT
BEGIN:VEVENT
DTSTART;TZID=America/New_York:20270213T150000
DTEND;TZID=America/New_York:20270213T230000
DTSTAMP:20260423T133949
CREATED:20260306T122151Z
LAST-MODIFIED:20260306T122151Z
UID:10016075-1802530800-1802559600@www.northparish.org
SUMMARY:Crossroads set-up
DESCRIPTION:
URL:https://www.northparish.org/event/crossroads-set-up-3/2027-02-13/
LOCATION:Freeman Hall & Parlor at North Parish\, 190 Academy Road\, North Andover\, MA\, 01845\, United States
END:VEVENT
BEGIN:VEVENT
DTSTART;TZID=America/New_York:20270213T200000
DTEND;TZID=America/New_York:20270213T220000
DTSTAMP:20260423T133949
CREATED:20260306T122349Z
LAST-MODIFIED:20260306T122349Z
UID:10016083-1802548800-1802556000@www.northparish.org
SUMMARY:Crossroads Music Series
DESCRIPTION:
URL:https://www.northparish.org/event/crossroads-music-series-18/2027-02-13/
LOCATION:Freeman Hall & Parlor at North Parish\, 190 Academy Road\, North Andover\, MA\, 01845\, United States
END:VEVENT
BEGIN:VEVENT
DTSTART;TZID=America/New_York:20270313T150000
DTEND;TZID=America/New_York:20270313T230000
DTSTAMP:20260423T133949
CREATED:20260306T122151Z
LAST-MODIFIED:20260306T122151Z
UID:10016076-1804950000-1804978800@www.northparish.org
SUMMARY:Crossroads set-up
DESCRIPTION:
URL:https://www.northparish.org/event/crossroads-set-up-3/2027-03-13/
LOCATION:Freeman Hall & Parlor at North Parish\, 190 Academy Road\, North Andover\, MA\, 01845\, United States
END:VEVENT
BEGIN:VEVENT
DTSTART;TZID=America/New_York:20270313T200000
DTEND;TZID=America/New_York:20270313T220000
DTSTAMP:20260423T133949
CREATED:20260306T122349Z
LAST-MODIFIED:20260306T122349Z
UID:10016084-1804968000-1804975200@www.northparish.org
SUMMARY:Crossroads Music Series
DESCRIPTION:
URL:https://www.northparish.org/event/crossroads-music-series-18/2027-03-13/
LOCATION:Freeman Hall & Parlor at North Parish\, 190 Academy Road\, North Andover\, MA\, 01845\, United States
END:VEVENT
BEGIN:VEVENT
DTSTART;TZID=America/New_York:20270410T150000
DTEND;TZID=America/New_York:20270410T230000
DTSTAMP:20260423T133949
CREATED:20260306T122151Z
LAST-MODIFIED:20260306T122151Z
UID:10016077-1807369200-1807398000@www.northparish.org
SUMMARY:Crossroads set-up
DESCRIPTION:
URL:https://www.northparish.org/event/crossroads-set-up-3/2027-04-10/
LOCATION:Freeman Hall & Parlor at North Parish\, 190 Academy Road\, North Andover\, MA\, 01845\, United States
END:VEVENT
BEGIN:VEVENT
DTSTART;TZID=America/New_York:20270410T200000
DTEND;TZID=America/New_York:20270410T220000
DTSTAMP:20260423T133949
CREATED:20260306T122349Z
LAST-MODIFIED:20260306T122349Z
UID:10016085-1807387200-1807394400@www.northparish.org
SUMMARY:Crossroads Music Series
DESCRIPTION:
URL:https://www.northparish.org/event/crossroads-music-series-18/2027-04-10/
LOCATION:Freeman Hall & Parlor at North Parish\, 190 Academy Road\, North Andover\, MA\, 01845\, United States
END:VEVENT
BEGIN:VEVENT
DTSTART;TZID=America/New_York:20270508T150000
DTEND;TZID=America/New_York:20270508T230000
DTSTAMP:20260423T133949
CREATED:20260306T122151Z
LAST-MODIFIED:20260306T122151Z
UID:10016078-1809788400-1809817200@www.northparish.org
SUMMARY:Crossroads set-up
DESCRIPTION:
URL:https://www.northparish.org/event/crossroads-set-up-3/2027-05-08/
LOCATION:Freeman Hall & Parlor at North Parish\, 190 Academy Road\, North Andover\, MA\, 01845\, United States
END:VEVENT
BEGIN:VEVENT
DTSTART;TZID=America/New_York:20270508T200000
DTEND;TZID=America/New_York:20270508T220000
DTSTAMP:20260423T133949
CREATED:20260306T122349Z
LAST-MODIFIED:20260306T122349Z
UID:10016086-1809806400-1809813600@www.northparish.org
SUMMARY:Crossroads Music Series
DESCRIPTION:
URL:https://www.northparish.org/event/crossroads-music-series-18/2027-05-08/
LOCATION:Freeman Hall & Parlor at North Parish\, 190 Academy Road\, North Andover\, MA\, 01845\, United States
END:VEVENT
BEGIN:VEVENT
DTSTART;TZID=America/New_York:20270612T150000
DTEND;TZID=America/New_York:20270612T230000
DTSTAMP:20260423T133949
CREATED:20260306T122151Z
LAST-MODIFIED:20260306T122151Z
UID:10016079-1812812400-1812841200@www.northparish.org
SUMMARY:Crossroads set-up
DESCRIPTION:
URL:https://www.northparish.org/event/crossroads-set-up-3/2027-06-12/
LOCATION:Freeman Hall & Parlor at North Parish\, 190 Academy Road\, North Andover\, MA\, 01845\, United States
END:VEVENT
BEGIN:VEVENT
DTSTART;TZID=America/New_York:20270612T200000
DTEND;TZID=America/New_York:20270612T220000
DTSTAMP:20260423T133949
CREATED:20260306T122349Z
LAST-MODIFIED:20260306T122349Z
UID:10016087-1812830400-1812837600@www.northparish.org
SUMMARY:Crossroads Music Series
DESCRIPTION:
URL:https://www.northparish.org/event/crossroads-music-series-18/2027-06-12/
LOCATION:Freeman Hall & Parlor at North Parish\, 190 Academy Road\, North Andover\, MA\, 01845\, United States
END:VEVENT
END:VCALENDAR