BEGIN:VCALENDAR
VERSION:2.0
PRODID:-//The North Parish Church of North Andover - ECPv6.15.13//NONSGML v1.0//EN
CALSCALE:GREGORIAN
METHOD:PUBLISH
X-ORIGINAL-URL:https://www.northparish.org
X-WR-CALDESC:Events for The North Parish Church of North Andover
REFRESH-INTERVAL;VALUE=DURATION:PT1H
X-Robots-Tag:noindex
X-PUBLISHED-TTL:PT1H
BEGIN:VTIMEZONE
TZID:America/New_York
BEGIN:DAYLIGHT
TZOFFSETFROM:-0500
TZOFFSETTO:-0400
TZNAME:EDT
DTSTART:20200308T070000
END:DAYLIGHT
BEGIN:STANDARD
TZOFFSETFROM:-0400
TZOFFSETTO:-0500
TZNAME:EST
DTSTART:20201101T060000
END:STANDARD
BEGIN:DAYLIGHT
TZOFFSETFROM:-0500
TZOFFSETTO:-0400
TZNAME:EDT
DTSTART:20210314T070000
END:DAYLIGHT
BEGIN:STANDARD
TZOFFSETFROM:-0400
TZOFFSETTO:-0500
TZNAME:EST
DTSTART:20211107T060000
END:STANDARD
BEGIN:DAYLIGHT
TZOFFSETFROM:-0500
TZOFFSETTO:-0400
TZNAME:EDT
DTSTART:20220313T070000
END:DAYLIGHT
BEGIN:STANDARD
TZOFFSETFROM:-0400
TZOFFSETTO:-0500
TZNAME:EST
DTSTART:20221106T060000
END:STANDARD
BEGIN:DAYLIGHT
TZOFFSETFROM:-0500
TZOFFSETTO:-0400
TZNAME:EDT
DTSTART:20230312T070000
END:DAYLIGHT
BEGIN:STANDARD
TZOFFSETFROM:-0400
TZOFFSETTO:-0500
TZNAME:EST
DTSTART:20231105T060000
END:STANDARD
END:VTIMEZONE
BEGIN:VEVENT
DTSTART;TZID=America/New_York:20221112T150000
DTEND;TZID=America/New_York:20221112T230000
DTSTAMP:20260421T200421
CREATED:20220920T135955Z
LAST-MODIFIED:20220929T132848Z
UID:10006328-1668265200-1668294000@www.northparish.org
SUMMARY:Crossroads Music Series set up
DESCRIPTION:
URL:https://www.northparish.org/event/crossroads-music-series-set-up-3/
LOCATION:Freeman Hall & Parlor at North Parish\, 190 Academy Road\, North Andover\, MA\, 01845\, United States
END:VEVENT
BEGIN:VEVENT
DTSTART;TZID=America/New_York:20221112T120000
DTEND;TZID=America/New_York:20221112T143000
DTSTAMP:20260421T200421
CREATED:20221012T124632Z
LAST-MODIFIED:20221012T124632Z
UID:10006402-1668254400-1668263400@www.northparish.org
SUMMARY:George Edmonds Memorial Service Gathering
DESCRIPTION:
URL:https://www.northparish.org/event/george-edmonds-memorial-service-gathering/
LOCATION:Freeman Hall & Parlor at North Parish\, 190 Academy Road\, North Andover\, MA\, 01845\, United States
CATEGORIES:Exclude from Home
END:VEVENT
BEGIN:VEVENT
DTSTART;TZID=America/New_York:20221111T120000
DTEND;TZID=America/New_York:20221111T150000
DTSTAMP:20260421T200421
CREATED:20221104T142302Z
LAST-MODIFIED:20221104T143010Z
UID:10006425-1668168000-1668178800@www.northparish.org
SUMMARY:Set-up for memorial service
DESCRIPTION:
URL:https://www.northparish.org/event/edmonds-memorial-service-set-up/
LOCATION:Freeman Hall & Parlor at North Parish\, 190 Academy Road\, North Andover\, MA\, 01845\, United States
END:VEVENT
BEGIN:VEVENT
DTSTART;TZID=America/New_York:20221016T111500
DTEND;TZID=America/New_York:20221016T130000
DTSTAMP:20260421T200421
CREATED:20221012T153435Z
LAST-MODIFIED:20221012T153435Z
UID:10006403-1665918900-1665925200@www.northparish.org
SUMMARY:All Hands on Deck Volunteer Fair Sunday October 16
DESCRIPTION:Please join members of Parish Council downstairs in the Parish Hall after church on Sunday October 16 for an All Hands on Deck Volunteer Fair! Many of our operational teams that keep our community functioning and support our amazing staff are in need of team members. In addition\, Sunday volunteers are needed to usher\, make coffee and greet people at the door. We are currently relying on a very small pool of dedicated volunteers. Supporting our community is a spiritual practice! Please come downstairs for refreshments and to learn more about how you can support North Parish!
URL:https://www.northparish.org/event/all-hands-on-deck-volunteer-fair-sunday-october-16/
LOCATION:Freeman Hall & Parlor at North Parish\, 190 Academy Road\, North Andover\, MA\, 01845\, United States
END:VEVENT
BEGIN:VEVENT
DTSTART;TZID=America/New_York:20221015T200000
DTEND;TZID=America/New_York:20221015T220000
DTSTAMP:20260421T200421
CREATED:20220805T183230Z
LAST-MODIFIED:20220929T132749Z
UID:10005467-1665864000-1665871200@www.northparish.org
SUMMARY:Crossroads Music Series
DESCRIPTION:Originally from Boston\, Jen Kearney has spent some time seasoning her unique amalgamation of musical styles\, including soul\, R&B\, funk\, rock\, jazz and Latin. Kearney’s music and attention to lyrics have met critical acclaim nationally and internationally\, and she’s shared the stage with the likes of Maceo Parker\, Los Lobo\, Daryl Hall\, and Mavis Staples. \n“Jen Kearney is a gifted singer who can belt out a song with the best of them. She puts a refreshing spin on funk music\, showing flashes of funk’s horn-drenched heyday in the 70’s\, but also modernizing it with thoughtfully conceived lyrics…simply mesmerizing.”\nSteve Morse – Billboard\, Rolling Stone \nFor more information and to purchase tickets\, please see the Crossroads Music Series website. \n 
URL:https://www.northparish.org/event/crossroads-music-series-4/
LOCATION:Freeman Hall & Parlor at North Parish\, 190 Academy Road\, North Andover\, MA\, 01845\, United States
END:VEVENT
BEGIN:VEVENT
DTSTART;TZID=America/New_York:20221015T200000
DTEND;TZID=America/New_York:20221015T220000
DTSTAMP:20260421T200421
CREATED:20220505T163122Z
LAST-MODIFIED:20231227T190604Z
UID:10006982-1665864000-1665871200@www.northparish.org
SUMMARY:Crossroads Music Series
DESCRIPTION:For more information\, please see the Crossroads Music Series website. \n 
URL:https://www.northparish.org/event/crossroads-music-series-2-2022-09-10-2022-11-05-2022-11-12-2023-03-11-2023-05-13-2023-10-14-2024-05-11/2022-10-15/
LOCATION:Freeman Hall & Parlor at North Parish\, 190 Academy Road\, North Andover\, MA\, 01845\, United States
END:VEVENT
BEGIN:VEVENT
DTSTART;TZID=America/New_York:20221015T150000
DTEND;TZID=America/New_York:20221015T230000
DTSTAMP:20260421T200421
CREATED:20211108T154419Z
LAST-MODIFIED:20221011T150954Z
UID:10005004-1665846000-1665874800@www.northparish.org
SUMMARY:Crossroads Music Series Set up
DESCRIPTION:Crossroads Music Series Set up and Clean up (3pm to 11pm) for 8-10pm show.  Contact is Dave Kovner
URL:https://www.northparish.org/event/crossroads-music-series-set-up-2022-10-08/
LOCATION:Freeman Hall & Parlor at North Parish\, 190 Academy Road\, North Andover\, MA\, 01845\, United States
CATEGORIES:Exclude from Home
END:VEVENT
BEGIN:VEVENT
DTSTART;TZID=America/New_York:20220910T200000
DTEND;TZID=America/New_York:20220910T220000
DTSTAMP:20260421T200421
CREATED:20220505T163122Z
LAST-MODIFIED:20231227T190604Z
UID:10006981-1662840000-1662847200@www.northparish.org
SUMMARY:Crossroads Music Series
DESCRIPTION:For more information\, please see the Crossroads Music Series website. \n 
URL:https://www.northparish.org/event/crossroads-music-series-2-2022-09-10-2022-11-05-2022-11-12-2023-03-11-2023-05-13-2023-10-14-2024-05-11/2022-09-10/
LOCATION:Freeman Hall & Parlor at North Parish\, 190 Academy Road\, North Andover\, MA\, 01845\, United States
END:VEVENT
BEGIN:VEVENT
DTSTART;TZID=America/New_York:20220614T100000
DTEND;TZID=America/New_York:20220614T130000
DTSTAMP:20260421T200421
CREATED:20220531T091129Z
LAST-MODIFIED:20220531T091129Z
UID:10004961-1655200800-1655211600@www.northparish.org
SUMMARY:Racial Justice Team Planning Meeting
DESCRIPTION:Contact is Pat Grimm.
URL:https://www.northparish.org/event/racial-justice-team-planning-meeting-2/
LOCATION:Freeman Hall & Parlor at North Parish\, 190 Academy Road\, North Andover\, MA\, 01845\, United States
END:VEVENT
BEGIN:VEVENT
DTSTART;TZID=America/New_York:20220611T200000
DTEND;TZID=America/New_York:20220611T220000
DTSTAMP:20260421T200421
CREATED:20220505T163122Z
LAST-MODIFIED:20231227T190604Z
UID:10006980-1654977600-1654984800@www.northparish.org
SUMMARY:Crossroads Music Series
DESCRIPTION:For more information\, please see the Crossroads Music Series website. \n 
URL:https://www.northparish.org/event/crossroads-music-series-2-2022-09-10-2022-11-05-2022-11-12-2023-03-11-2023-05-13-2023-10-14-2024-05-11/2022-06-11/
LOCATION:Freeman Hall & Parlor at North Parish\, 190 Academy Road\, North Andover\, MA\, 01845\, United States
END:VEVENT
BEGIN:VEVENT
DTSTART;TZID=America/New_York:20220522T143000
DTEND;TZID=America/New_York:20220522T160000
DTSTAMP:20260421T200421
CREATED:20220518T152212Z
LAST-MODIFIED:20220519T143023Z
UID:10004959-1653229800-1653235200@www.northparish.org
SUMMARY:Indoor Games Afternoon
DESCRIPTION:VENUE CHANGE:  With the forecast of high heat this Sunday\, our Multi-gen Whiffle Ball game is shifting locations.  Stay cool and join us in the Parish Hall for some fun indoor multi-gen games playing!  Ice cream to follow the games\, either in the Labyrinth or over at Cows Rock.  Email RSVP to Stephanie Harrington. \n 
URL:https://www.northparish.org/event/multi-gen-whiffle-ball-tournament/
LOCATION:Freeman Hall & Parlor at North Parish\, 190 Academy Road\, North Andover\, MA\, 01845\, United States
END:VEVENT
BEGIN:VEVENT
DTSTART;VALUE=DATE:20211115
DTEND;VALUE=DATE:20211116
DTSTAMP:20260421T200421
CREATED:20211115T161427Z
LAST-MODIFIED:20211115T161427Z
UID:10005011-1636934400-1637020799@www.northparish.org
SUMMARY:RBF Raffle Drawings
DESCRIPTION:RBF raffle drawings
URL:https://www.northparish.org/event/rbf-raffle-drawings/
LOCATION:Freeman Hall & Parlor at North Parish\, 190 Academy Road\, North Andover\, MA\, 01845\, United States
END:VEVENT
BEGIN:VEVENT
DTSTART;VALUE=DATE:20210805
DTEND;VALUE=DATE:20210806
DTSTAMP:20260421T200421
CREATED:20210726T155949Z
LAST-MODIFIED:20210804T100742Z
UID:10004219-1628121600-1628207999@www.northparish.org
SUMMARY:Reserved for Kirk Olsen
DESCRIPTION:
URL:https://www.northparish.org/event/kirk-olsen/
LOCATION:Freeman Hall & Parlor at North Parish\, 190 Academy Road\, North Andover\, MA\, 01845\, United States
CATEGORIES:Exclude from Home
END:VEVENT
END:VCALENDAR