BEGIN:VCALENDAR
VERSION:2.0
PRODID:-//The North Parish Church of North Andover - ECPv6.15.13//NONSGML v1.0//EN
CALSCALE:GREGORIAN
METHOD:PUBLISH
X-ORIGINAL-URL:https://www.northparish.org
X-WR-CALDESC:Events for The North Parish Church of North Andover
REFRESH-INTERVAL;VALUE=DURATION:PT1H
X-Robots-Tag:noindex
X-PUBLISHED-TTL:PT1H
BEGIN:VTIMEZONE
TZID:America/New_York
BEGIN:DAYLIGHT
TZOFFSETFROM:-0500
TZOFFSETTO:-0400
TZNAME:EDT
DTSTART:20210314T070000
END:DAYLIGHT
BEGIN:STANDARD
TZOFFSETFROM:-0400
TZOFFSETTO:-0500
TZNAME:EST
DTSTART:20211107T060000
END:STANDARD
BEGIN:DAYLIGHT
TZOFFSETFROM:-0500
TZOFFSETTO:-0400
TZNAME:EDT
DTSTART:20220313T070000
END:DAYLIGHT
BEGIN:STANDARD
TZOFFSETFROM:-0400
TZOFFSETTO:-0500
TZNAME:EST
DTSTART:20221106T060000
END:STANDARD
BEGIN:DAYLIGHT
TZOFFSETFROM:-0500
TZOFFSETTO:-0400
TZNAME:EDT
DTSTART:20230312T070000
END:DAYLIGHT
BEGIN:STANDARD
TZOFFSETFROM:-0400
TZOFFSETTO:-0500
TZNAME:EST
DTSTART:20231105T060000
END:STANDARD
BEGIN:DAYLIGHT
TZOFFSETFROM:-0500
TZOFFSETTO:-0400
TZNAME:EDT
DTSTART:20240310T070000
END:DAYLIGHT
BEGIN:STANDARD
TZOFFSETFROM:-0400
TZOFFSETTO:-0500
TZNAME:EST
DTSTART:20241103T060000
END:STANDARD
END:VTIMEZONE
BEGIN:VEVENT
DTSTART;TZID=America/New_York:20230401T150000
DTEND;TZID=America/New_York:20230401T230000
DTSTAMP:20260421T172536
CREATED:20220330T220332Z
LAST-MODIFIED:20221122T133511Z
UID:10005496-1680361200-1680390000@www.northparish.org
SUMMARY:Crossroads Music Series Set-up
DESCRIPTION:Crossroads Music Series Set up and Clean up (3pm to 11pm) for 8-10pm show.  Contact is Dave Kovner
URL:https://www.northparish.org/event/crossroads-music-series-set-up-2-2023-01-14-2023-04-22/
LOCATION:Freeman Hall & Parlor at North Parish\, 190 Academy Road\, North Andover\, MA\, 01845\, United States
END:VEVENT
BEGIN:VEVENT
DTSTART;TZID=America/New_York:20230330T190000
DTEND;TZID=America/New_York:20230330T203000
DTSTAMP:20260421T172536
CREATED:20230308T190353Z
LAST-MODIFIED:20230308T190353Z
UID:10006931-1680202800-1680208200@www.northparish.org
SUMMARY:BIPOC-Only 8th Principle Listening Circle
DESCRIPTION:This is intended to give BIPOC (Black Indigenous and People of Color) members of North Parish an opportunity to discuss the 8th Principle\, as we consider adopting it at our Annual Meeting in May.  Please contact Erika Cohen Maddaluno at emcmaddaluno@gmail.com to register\, and let her know how many will be attending.
URL:https://www.northparish.org/event/bipoc-only-8th-principle-listening-circle/
LOCATION:Freeman Hall & Parlor at North Parish\, 190 Academy Road\, North Andover\, MA\, 01845\, United States
END:VEVENT
BEGIN:VEVENT
DTSTART;TZID=America/New_York:20230324T170000
DTEND;TZID=America/New_York:20230324T200000
DTSTAMP:20260421T172536
CREATED:20230309T154554Z
LAST-MODIFIED:20230309T155046Z
UID:10006952-1679677200-1679688000@www.northparish.org
SUMMARY:SYG Youth Potluck dinner and baking evening
DESCRIPTION:SYG youth and friends are invited to come together for an evening of food\, fun and fellowship. Sign up here to attend. \n 
URL:https://www.northparish.org/event/syg-youth-potluck-dinner-and-baking-evening/
LOCATION:Freeman Hall & Parlor at North Parish\, 190 Academy Road\, North Andover\, MA\, 01845\, United States
END:VEVENT
BEGIN:VEVENT
DTSTART;TZID=America/New_York:20230317T180000
DTEND;TZID=America/New_York:20230317T210000
DTSTAMP:20260421T172536
CREATED:20230113T181552Z
LAST-MODIFIED:20230202T140910Z
UID:10005457-1679076000-1679086800@www.northparish.org
SUMMARY:Climate Justice family veggie potluck dinner/movie night
DESCRIPTION:The Climate Justice Group will be hosting a family potluck dinner and movie night on Friday\, March 17 at 6pm in Parish Hall. The movie will be WALL-E\, the Pixar movie that asks the question\, “What would happen if our world got full of rubbish?” \nWe host these potlucks to highlight the outsized impact the meat industry has on greenhouse gas emissions\, biodiversity\, and human health. Please bring a vegetarian or vegan dish to share\, a meatless pizza if you’re strapped for time\, or join us as a guest. \nThis is a great opportunity for kids and adults to socialize\, to experience a wide variety of meatless meals (hopefully become inspired to incorporate more meatless meals into your week)\, to learn more about climate justice\, and to have fun! \nPlease label food that contains nuts or gluten and if it is vegan. Email climatejustice@northparish.org if you have questions.
URL:https://www.northparish.org/event/climate-justice-family-potluck-dinner-movie-night/
LOCATION:Freeman Hall & Parlor at North Parish\, 190 Academy Road\, North Andover\, MA\, 01845\, United States
END:VEVENT
BEGIN:VEVENT
DTSTART;TZID=America/New_York:20230311T200000
DTEND;TZID=America/New_York:20230311T220000
DTSTAMP:20260421T172536
CREATED:20220505T163122Z
LAST-MODIFIED:20230309T161433Z
UID:10005207-1678564800-1678572000@www.northparish.org
SUMMARY:Tickets selling fast for GA-20 -- coming to Crossroads March 11
DESCRIPTION:One of the hottest blues trios in the country\, GA-20\, is coming to Crossroads Music Series at North Parish on March 11\, 8PM. Tix available while they last (and they’re selling fast) at https://www.crossroadsmusicseries.org/events/ga-20 \nBorn out of a mutual love of heavy traditional 50s-60s era Blues/R&B/Rock & Roll\, GA-20 was formed by Pat Faherty and Matthew Stubbs (Charlie Musselwhite Band) after bonding over legendary artists like Lazy Lester\, J.B. Lenoir\, Earl Hooker\, Buddy Guy\, Otis Rush and Junior Wells. Now a trio featuring two lead guitars\, vocals and drums the music is raw\, passionate and honest. GA-20’s 2021 Hound Dog Taylor tribute album debuted at #1 on the Billboard Blues Chart \n“This is the kind of music that travels through time while taking from the era where it was born and turning it into something fresh. Dirty and raw…timeless and modern.”  Medium.com \n  \nSign up here to volunteer!
URL:https://www.northparish.org/event/crossroads-music-series-2-2022-09-10-2022-11-05-2022-11-12-2023-03-11/
LOCATION:Freeman Hall & Parlor at North Parish\, 190 Academy Road\, North Andover\, MA\, 01845\, United States
END:VEVENT
BEGIN:VEVENT
DTSTART;TZID=America/New_York:20230311T200000
DTEND;TZID=America/New_York:20230311T220000
DTSTAMP:20260421T172536
CREATED:20220505T163122Z
LAST-MODIFIED:20231227T190604Z
UID:10006987-1678564800-1678572000@www.northparish.org
SUMMARY:Crossroads Music Series
DESCRIPTION:For more information\, please see the Crossroads Music Series website. \n 
URL:https://www.northparish.org/event/crossroads-music-series-2-2022-09-10-2022-11-05-2022-11-12-2023-03-11-2023-05-13-2023-10-14-2024-05-11/2023-03-11/
LOCATION:Freeman Hall & Parlor at North Parish\, 190 Academy Road\, North Andover\, MA\, 01845\, United States
END:VEVENT
BEGIN:VEVENT
DTSTART;TZID=America/New_York:20230311T150000
DTEND;TZID=America/New_York:20230311T230000
DTSTAMP:20260421T172536
CREATED:20220330T220332Z
LAST-MODIFIED:20230613T154224Z
UID:10005173-1678546800-1678575600@www.northparish.org
SUMMARY:Crossroads Music Series Set-up
DESCRIPTION:Crossroads Music Series Set up and Clean up (3pm to 11pm) for 8-10pm show.  Contact is Dave Kovner
URL:https://www.northparish.org/event/crossroads-music-series-set-up-2-2023-01-14/2023-03-11/
LOCATION:Freeman Hall & Parlor at North Parish\, 190 Academy Road\, North Andover\, MA\, 01845\, United States
END:VEVENT
BEGIN:VEVENT
DTSTART;TZID=America/New_York:20230226T160000
DTEND;TZID=America/New_York:20230226T180000
DTSTAMP:20260421T172536
CREATED:20230131T193820Z
LAST-MODIFIED:20230207T182405Z
UID:10006858-1677427200-1677434400@www.northparish.org
SUMMARY:Stewardship Soirée \, Hosted by the Board of Trustees & Stewardship Team
DESCRIPTION:Join the Board and Stewardship Committee for an all parish fun gathering. \nAppetizers\, pre-dinner sweets\, drinks and fellowship. \nA time to dream up leadership pledges and challenges before March 5th! \nAll are welcome!
URL:https://www.northparish.org/event/all-parish-reception/
LOCATION:Freeman Hall & Parlor at North Parish\, 190 Academy Road\, North Andover\, MA\, 01845\, United States
END:VEVENT
BEGIN:VEVENT
DTSTART;TZID=America/New_York:20230211T200000
DTEND;TZID=America/New_York:20230211T220000
DTSTAMP:20260421T172536
CREATED:20220505T163122Z
LAST-MODIFIED:20231227T190604Z
UID:10006986-1676145600-1676152800@www.northparish.org
SUMMARY:Crossroads Music Series
DESCRIPTION:For more information\, please see the Crossroads Music Series website. \n 
URL:https://www.northparish.org/event/crossroads-music-series-2-2022-09-10-2022-11-05-2022-11-12-2023-03-11-2023-05-13-2023-10-14-2024-05-11/2023-02-11/
LOCATION:Freeman Hall & Parlor at North Parish\, 190 Academy Road\, North Andover\, MA\, 01845\, United States
END:VEVENT
BEGIN:VEVENT
DTSTART;TZID=America/New_York:20230211T200000
DTEND;TZID=America/New_York:20230211T220000
DTSTAMP:20260421T172536
CREATED:20220505T163122Z
LAST-MODIFIED:20230123T200923Z
UID:10005206-1676145600-1676152800@www.northparish.org
SUMMARY:Crossroads Music Series ~ Julie Rhodes & the Electric Company in concert
DESCRIPTION:Come see Julie Rhodes & the Electric Company in concert at Crossroads\, Saturday Feb. 11\, 8PM.\nJulie Rhodes is a powerhouse vocalist with an authentic soul\, grounded both in the songwriting traditions of yesterday’s Americana and today’s social and political issues. Tix $20 at www.crossroadsmusicseries.org \n 
URL:https://www.northparish.org/event/crossroads-music-series-2-2022-09-10-2022-11-05-2022-11-12-2023-02-11/
LOCATION:Freeman Hall & Parlor at North Parish\, 190 Academy Road\, North Andover\, MA\, 01845\, United States
END:VEVENT
BEGIN:VEVENT
DTSTART;TZID=America/New_York:20230211T150000
DTEND;TZID=America/New_York:20230211T230000
DTSTAMP:20260421T172536
CREATED:20220330T220332Z
LAST-MODIFIED:20230613T154224Z
UID:10005172-1676127600-1676156400@www.northparish.org
SUMMARY:Crossroads Music Series Set-up
DESCRIPTION:Crossroads Music Series Set up and Clean up (3pm to 11pm) for 8-10pm show.  Contact is Dave Kovner
URL:https://www.northparish.org/event/crossroads-music-series-set-up-2-2023-01-14/2023-02-11/
LOCATION:Freeman Hall & Parlor at North Parish\, 190 Academy Road\, North Andover\, MA\, 01845\, United States
END:VEVENT
BEGIN:VEVENT
DTSTART;TZID=America/New_York:20230204T183000
DTEND;TZID=America/New_York:20230204T203000
DTSTAMP:20260421T172536
CREATED:20230112T140118Z
LAST-MODIFIED:20230125T172107Z
UID:10006820-1675535400-1675542600@www.northparish.org
SUMMARY:SYG Youth Potluck & Baking/Decorating Evening
DESCRIPTION:SYG Youth are invited for an evening of community and fun as we share together in a potluck dinner\, games ad photo booth as well as an evening of baking and decorating dessert treats that will be offered for sale during Sunday Coffee Hour to help raise funds for youth events and trips for this year. Bring along a friend to the gathering and join us for the fun! \nRSVP: http://bit.ly/3kwZQLq
URL:https://www.northparish.org/event/youth-potluck-and-cookie-decorating/
LOCATION:Freeman Hall & Parlor at North Parish\, 190 Academy Road\, North Andover\, MA\, 01845\, United States
END:VEVENT
BEGIN:VEVENT
DTSTART;TZID=America/New_York:20230129T111500
DTEND;TZID=America/New_York:20230129T124500
DTSTAMP:20260421T172536
CREATED:20230110T172745Z
LAST-MODIFIED:20230110T174757Z
UID:10006814-1674990900-1674996300@www.northparish.org
SUMMARY:Snow date for Special Congregational Meeting
DESCRIPTION:
URL:https://www.northparish.org/event/snow-date-for-special-congregational-meeting/
LOCATION:Freeman Hall & Parlor at North Parish\, 190 Academy Road\, North Andover\, MA\, 01845\, United States
END:VEVENT
BEGIN:VEVENT
DTSTART;TZID=America/New_York:20230119T190000
DTEND;TZID=America/New_York:20230119T210000
DTSTAMP:20260421T172536
CREATED:20220913T135853Z
LAST-MODIFIED:20230111T161927Z
UID:10005711-1674154800-1674162000@www.northparish.org
SUMMARY:Board of Trustees & Parish Council Joint Meeting
DESCRIPTION:
URL:https://www.northparish.org/event/board-of-trustees-meeting-2-2023-01-19/
LOCATION:Freeman Hall & Parlor at North Parish\, 190 Academy Road\, North Andover\, MA\, 01845\, United States
END:VEVENT
BEGIN:VEVENT
DTSTART;TZID=America/New_York:20230114T200000
DTEND;TZID=America/New_York:20230114T220000
DTSTAMP:20260421T172536
CREATED:20220505T163122Z
LAST-MODIFIED:20231227T190604Z
UID:10006985-1673726400-1673733600@www.northparish.org
SUMMARY:Crossroads Music Series
DESCRIPTION:For more information\, please see the Crossroads Music Series website. \n 
URL:https://www.northparish.org/event/crossroads-music-series-2-2022-09-10-2022-11-05-2022-11-12-2023-03-11-2023-05-13-2023-10-14-2024-05-11/2023-01-14/
LOCATION:Freeman Hall & Parlor at North Parish\, 190 Academy Road\, North Andover\, MA\, 01845\, United States
END:VEVENT
BEGIN:VEVENT
DTSTART;TZID=America/New_York:20230114T200000
DTEND;TZID=America/New_York:20230114T220000
DTSTAMP:20260421T172536
CREATED:20220505T163122Z
LAST-MODIFIED:20221227T194311Z
UID:10005205-1673726400-1673733600@www.northparish.org
SUMMARY:Evan Goodrow Band in concert at Crossroads
DESCRIPTION:Evan Goodrow Band in concert at Crossroads Music Series at North Parish\, Saturday\, Jan. 14\, 8PM. \nEvan Goodrow is an American singer-songwriter-guitarist and has written and produced 14 recordings of original soul\, funk\, blues and rock music. He’s won the Boston Blues Award\, played concerts for Marines on NATO bases in Europe\, jammed with Jimmy Buffet in the Caribbean\, played with B.B. King and even sang for the Yardbirds. \n“Exceptional!”\nB.B. King \n“Sings and grooves with the likes of Curtis Mayfield.”\nThe Noise Magazine \nTickets: $20 https://www.crossroadsmusicseries.org/events/evan-goodrow-band-1
URL:https://www.northparish.org/event/crossroads-music-series-2-2022-09-10-2022-11-05-2022-11-12-2023-01-14/
LOCATION:Freeman Hall & Parlor at North Parish\, 190 Academy Road\, North Andover\, MA\, 01845\, United States
END:VEVENT
BEGIN:VEVENT
DTSTART;TZID=America/New_York:20230114T150000
DTEND;TZID=America/New_York:20230114T230000
DTSTAMP:20260421T172536
CREATED:20220330T220332Z
LAST-MODIFIED:20230613T154224Z
UID:10005171-1673708400-1673737200@www.northparish.org
SUMMARY:Crossroads Music Series Set-up
DESCRIPTION:Crossroads Music Series Set up and Clean up (3pm to 11pm) for 8-10pm show.  Contact is Dave Kovner
URL:https://www.northparish.org/event/crossroads-music-series-set-up-2-2023-01-14/2023-01-14/
LOCATION:Freeman Hall & Parlor at North Parish\, 190 Academy Road\, North Andover\, MA\, 01845\, United States
END:VEVENT
BEGIN:VEVENT
DTSTART;TZID=America/New_York:20221211T160000
DTEND;TZID=America/New_York:20221211T190000
DTSTAMP:20260421T172536
CREATED:20221115T231158Z
LAST-MODIFIED:20221207T142913Z
UID:10006767-1670774400-1670785200@www.northparish.org
SUMMARY:Family Potluck and Singalong!
DESCRIPTION:After three years\, we will finally be back to our traditional potluck and carol sing!  The Music Committee invites all to join us Sunday December 11 from 4 – 7 PM. Bring a potluck dish to share\, and your singing voices for favorite Holiday Tunes led by our own incomparable Barry Low.
URL:https://www.northparish.org/event/pot-luck-and-carol-sing/
LOCATION:Freeman Hall & Parlor at North Parish\, 190 Academy Road\, North Andover\, MA\, 01845\, United States
END:VEVENT
BEGIN:VEVENT
DTSTART;TZID=America/New_York:20221210T200000
DTEND;TZID=America/New_York:20221210T220000
DTSTAMP:20260421T172536
CREATED:20220505T163122Z
LAST-MODIFIED:20231227T190604Z
UID:10006984-1670702400-1670709600@www.northparish.org
SUMMARY:Crossroads Music Series
DESCRIPTION:For more information\, please see the Crossroads Music Series website. \n 
URL:https://www.northparish.org/event/crossroads-music-series-2-2022-09-10-2022-11-05-2022-11-12-2023-03-11-2023-05-13-2023-10-14-2024-05-11/2022-12-10/
LOCATION:Freeman Hall & Parlor at North Parish\, 190 Academy Road\, North Andover\, MA\, 01845\, United States
END:VEVENT
BEGIN:VEVENT
DTSTART;TZID=America/New_York:20221210T200000
DTEND;TZID=America/New_York:20221210T220000
DTSTAMP:20260421T172536
CREATED:20220505T163122Z
LAST-MODIFIED:20221128T151129Z
UID:10005204-1670702400-1670709600@www.northparish.org
SUMMARY:Erin Harpe and the Delta Swingers Holiday Show live at Crossroads
DESCRIPTION:Saturday\, December 10\, 8PM\, $25. Fresh from winning “Album of the Year” at the 2021 New England Music Awards\, Erin Harpe & the Delta Swingers return to celebrate the holidays at Crossroads. Singer/guitarist Erin Harpe leads the roots-rocking electric band on vocals and lead guitar\, playing a mix of styles they call “Boogie\, Blues & Beyond.”  For more information\, please see the Crossroads Music Series website. \n 
URL:https://www.northparish.org/event/crossroads-music-series-2-2022-09-10-2022-11-05-2022-11-12-2022-12-10/
LOCATION:Freeman Hall & Parlor at North Parish\, 190 Academy Road\, North Andover\, MA\, 01845\, United States
END:VEVENT
BEGIN:VEVENT
DTSTART;TZID=America/New_York:20221210T110000
DTEND;TZID=America/New_York:20221210T133000
DTSTAMP:20260421T172536
CREATED:20221121T185511Z
LAST-MODIFIED:20221127T154850Z
UID:10006778-1670670000-1670679000@www.northparish.org
SUMMARY:Blanchard Memorial Service Gathering
DESCRIPTION:
URL:https://www.northparish.org/event/blanchard-memorial-service-gathering/
LOCATION:Freeman Hall & Parlor at North Parish\, 190 Academy Road\, North Andover\, MA\, 01845\, United States
END:VEVENT
BEGIN:VEVENT
DTSTART;TZID=America/New_York:20221209T120000
DTEND;TZID=America/New_York:20221209T170000
DTSTAMP:20260421T172536
CREATED:20221205T152852Z
LAST-MODIFIED:20221205T152920Z
UID:10006781-1670587200-1670605200@www.northparish.org
SUMMARY:Blanchard Memorial set-up
DESCRIPTION:
URL:https://www.northparish.org/event/blanchard-memorial-set-up/
LOCATION:Freeman Hall & Parlor at North Parish\, 190 Academy Road\, North Andover\, MA\, 01845\, United States
CATEGORIES:Exclude from Home
END:VEVENT
BEGIN:VEVENT
DTSTART;TZID=America/New_York:20221112T200000
DTEND;TZID=America/New_York:20221112T220000
DTSTAMP:20260421T172536
CREATED:20220505T163122Z
LAST-MODIFIED:20231227T190604Z
UID:10006983-1668283200-1668290400@www.northparish.org
SUMMARY:Crossroads Music Series
DESCRIPTION:For more information\, please see the Crossroads Music Series website. \n 
URL:https://www.northparish.org/event/crossroads-music-series-2-2022-09-10-2022-11-05-2022-11-12-2023-03-11-2023-05-13-2023-10-14-2024-05-11/2022-11-12/
LOCATION:Freeman Hall & Parlor at North Parish\, 190 Academy Road\, North Andover\, MA\, 01845\, United States
END:VEVENT
BEGIN:VEVENT
DTSTART;TZID=America/New_York:20221112T200000
DTEND;TZID=America/New_York:20221112T220000
DTSTAMP:20260421T172536
CREATED:20220505T163122Z
LAST-MODIFIED:20221018T142522Z
UID:10005203-1668283200-1668290400@www.northparish.org
SUMMARY:Will Evans in concert at Crossroads
DESCRIPTION:Will Evans will be performing at Crossroads Music Series at North Parish on Saturday\, November 12 at 8PM. Advance tix: $26\, available here. His skills as a multi-instrumentalist\, Evans displays technical mastery of live-looping in his shows that include the didgeroo\, steel drums\, percussive beatboxing\, acoustic guitar\, and layers of soulful vocals. \n 
URL:https://www.northparish.org/event/crossroads-music-series-2-2022-09-10-2022-11-05-2022-11-12/
LOCATION:Freeman Hall & Parlor at North Parish\, 190 Academy Road\, North Andover\, MA\, 01845\, United States
END:VEVENT
BEGIN:VEVENT
DTSTART;TZID=America/New_York:20221112T150000
DTEND;TZID=America/New_York:20221112T230000
DTSTAMP:20260421T172536
CREATED:20220920T135955Z
LAST-MODIFIED:20220929T132848Z
UID:10006328-1668265200-1668294000@www.northparish.org
SUMMARY:Crossroads Music Series set up
DESCRIPTION:
URL:https://www.northparish.org/event/crossroads-music-series-set-up-3/
LOCATION:Freeman Hall & Parlor at North Parish\, 190 Academy Road\, North Andover\, MA\, 01845\, United States
END:VEVENT
BEGIN:VEVENT
DTSTART;TZID=America/New_York:20221112T120000
DTEND;TZID=America/New_York:20221112T143000
DTSTAMP:20260421T172536
CREATED:20221012T124632Z
LAST-MODIFIED:20221012T124632Z
UID:10006402-1668254400-1668263400@www.northparish.org
SUMMARY:George Edmonds Memorial Service Gathering
DESCRIPTION:
URL:https://www.northparish.org/event/george-edmonds-memorial-service-gathering/
LOCATION:Freeman Hall & Parlor at North Parish\, 190 Academy Road\, North Andover\, MA\, 01845\, United States
CATEGORIES:Exclude from Home
END:VEVENT
BEGIN:VEVENT
DTSTART;TZID=America/New_York:20221111T120000
DTEND;TZID=America/New_York:20221111T150000
DTSTAMP:20260421T172536
CREATED:20221104T142302Z
LAST-MODIFIED:20221104T143010Z
UID:10006425-1668168000-1668178800@www.northparish.org
SUMMARY:Set-up for memorial service
DESCRIPTION:
URL:https://www.northparish.org/event/edmonds-memorial-service-set-up/
LOCATION:Freeman Hall & Parlor at North Parish\, 190 Academy Road\, North Andover\, MA\, 01845\, United States
END:VEVENT
BEGIN:VEVENT
DTSTART;TZID=America/New_York:20221016T111500
DTEND;TZID=America/New_York:20221016T130000
DTSTAMP:20260421T172536
CREATED:20221012T153435Z
LAST-MODIFIED:20221012T153435Z
UID:10006403-1665918900-1665925200@www.northparish.org
SUMMARY:All Hands on Deck Volunteer Fair Sunday October 16
DESCRIPTION:Please join members of Parish Council downstairs in the Parish Hall after church on Sunday October 16 for an All Hands on Deck Volunteer Fair! Many of our operational teams that keep our community functioning and support our amazing staff are in need of team members. In addition\, Sunday volunteers are needed to usher\, make coffee and greet people at the door. We are currently relying on a very small pool of dedicated volunteers. Supporting our community is a spiritual practice! Please come downstairs for refreshments and to learn more about how you can support North Parish!
URL:https://www.northparish.org/event/all-hands-on-deck-volunteer-fair-sunday-october-16/
LOCATION:Freeman Hall & Parlor at North Parish\, 190 Academy Road\, North Andover\, MA\, 01845\, United States
END:VEVENT
BEGIN:VEVENT
DTSTART;TZID=America/New_York:20221015T200000
DTEND;TZID=America/New_York:20221015T220000
DTSTAMP:20260421T172536
CREATED:20220805T183230Z
LAST-MODIFIED:20220929T132749Z
UID:10005467-1665864000-1665871200@www.northparish.org
SUMMARY:Crossroads Music Series
DESCRIPTION:Originally from Boston\, Jen Kearney has spent some time seasoning her unique amalgamation of musical styles\, including soul\, R&B\, funk\, rock\, jazz and Latin. Kearney’s music and attention to lyrics have met critical acclaim nationally and internationally\, and she’s shared the stage with the likes of Maceo Parker\, Los Lobo\, Daryl Hall\, and Mavis Staples. \n“Jen Kearney is a gifted singer who can belt out a song with the best of them. She puts a refreshing spin on funk music\, showing flashes of funk’s horn-drenched heyday in the 70’s\, but also modernizing it with thoughtfully conceived lyrics…simply mesmerizing.”\nSteve Morse – Billboard\, Rolling Stone \nFor more information and to purchase tickets\, please see the Crossroads Music Series website. \n 
URL:https://www.northparish.org/event/crossroads-music-series-4/
LOCATION:Freeman Hall & Parlor at North Parish\, 190 Academy Road\, North Andover\, MA\, 01845\, United States
END:VEVENT
BEGIN:VEVENT
DTSTART;TZID=America/New_York:20221015T200000
DTEND;TZID=America/New_York:20221015T220000
DTSTAMP:20260421T172536
CREATED:20220505T163122Z
LAST-MODIFIED:20231227T190604Z
UID:10006982-1665864000-1665871200@www.northparish.org
SUMMARY:Crossroads Music Series
DESCRIPTION:For more information\, please see the Crossroads Music Series website. \n 
URL:https://www.northparish.org/event/crossroads-music-series-2-2022-09-10-2022-11-05-2022-11-12-2023-03-11-2023-05-13-2023-10-14-2024-05-11/2022-10-15/
LOCATION:Freeman Hall & Parlor at North Parish\, 190 Academy Road\, North Andover\, MA\, 01845\, United States
END:VEVENT
END:VCALENDAR