BEGIN:VCALENDAR
VERSION:2.0
PRODID:-//The North Parish Church of North Andover - ECPv6.15.13//NONSGML v1.0//EN
CALSCALE:GREGORIAN
METHOD:PUBLISH
X-ORIGINAL-URL:https://www.northparish.org
X-WR-CALDESC:Events for The North Parish Church of North Andover
REFRESH-INTERVAL;VALUE=DURATION:PT1H
X-Robots-Tag:noindex
X-PUBLISHED-TTL:PT1H
BEGIN:VTIMEZONE
TZID:America/New_York
BEGIN:DAYLIGHT
TZOFFSETFROM:-0500
TZOFFSETTO:-0400
TZNAME:EDT
DTSTART:20220313T070000
END:DAYLIGHT
BEGIN:STANDARD
TZOFFSETFROM:-0400
TZOFFSETTO:-0500
TZNAME:EST
DTSTART:20221106T060000
END:STANDARD
BEGIN:DAYLIGHT
TZOFFSETFROM:-0500
TZOFFSETTO:-0400
TZNAME:EDT
DTSTART:20230312T070000
END:DAYLIGHT
BEGIN:STANDARD
TZOFFSETFROM:-0400
TZOFFSETTO:-0500
TZNAME:EST
DTSTART:20231105T060000
END:STANDARD
BEGIN:DAYLIGHT
TZOFFSETFROM:-0500
TZOFFSETTO:-0400
TZNAME:EDT
DTSTART:20240310T070000
END:DAYLIGHT
BEGIN:STANDARD
TZOFFSETFROM:-0400
TZOFFSETTO:-0500
TZNAME:EST
DTSTART:20241103T060000
END:STANDARD
END:VTIMEZONE
BEGIN:VEVENT
DTSTART;TZID=America/New_York:20231104T180000
DTEND;TZID=America/New_York:20231104T200000
DTSTAMP:20260421T125025
CREATED:20231009T133534Z
LAST-MODIFIED:20231031T145147Z
UID:10007539-1699120800-1699128000@www.northparish.org
SUMMARY:Family Movie Night
DESCRIPTION:Join us for snacks\, conversation\, board games\, and a movie on Saturday\, November 4\, from 6pm to 8pm in the Chapel at North Parish. For more information\, please contact our Director of Family Religious Education at dre@northparish.org.  Registration at https://forms.gle/dpyNoNwnczUkwGsu9
URL:https://www.northparish.org/event/family-movie-night/
LOCATION:Freeman Hall & Parlor at North Parish\, 190 Academy Road\, North Andover\, MA\, 01845\, United States
END:VEVENT
BEGIN:VEVENT
DTSTART;TZID=America/New_York:20231030T180000
DTEND;TZID=America/New_York:20231030T210000
DTSTAMP:20260421T125025
CREATED:20231019T145917Z
LAST-MODIFIED:20231019T145948Z
UID:10007547-1698688800-1698699600@www.northparish.org
SUMMARY:Band Practice
DESCRIPTION:
URL:https://www.northparish.org/event/band-practice-3/
LOCATION:Freeman Hall & Parlor at North Parish\, 190 Academy Road\, North Andover\, MA\, 01845\, United States
CATEGORIES:Exclude from Home
END:VEVENT
BEGIN:VEVENT
DTSTART;TZID=America/New_York:20231024T180000
DTEND;TZID=America/New_York:20231024T210000
DTSTAMP:20260421T125025
CREATED:20230720T142733Z
LAST-MODIFIED:20230905T124940Z
UID:10007164-1698170400-1698181200@www.northparish.org
SUMMARY:Band practice
DESCRIPTION:Contact is Tony Daigle
URL:https://www.northparish.org/event/band-practice/2023-10-24/
LOCATION:Freeman Hall & Parlor at North Parish\, 190 Academy Road\, North Andover\, MA\, 01845\, United States
CATEGORIES:Exclude from Home
END:VEVENT
BEGIN:VEVENT
DTSTART;TZID=America/New_York:20231017T180000
DTEND;TZID=America/New_York:20231017T210000
DTSTAMP:20260421T125025
CREATED:20230720T142733Z
LAST-MODIFIED:20230905T124940Z
UID:10007163-1697565600-1697576400@www.northparish.org
SUMMARY:Band practice
DESCRIPTION:Contact is Tony Daigle
URL:https://www.northparish.org/event/band-practice/2023-10-17/
LOCATION:Freeman Hall & Parlor at North Parish\, 190 Academy Road\, North Andover\, MA\, 01845\, United States
CATEGORIES:Exclude from Home
END:VEVENT
BEGIN:VEVENT
DTSTART;TZID=America/New_York:20231014T200000
DTEND;TZID=America/New_York:20231014T220000
DTSTAMP:20260421T125025
CREATED:20220505T163122Z
LAST-MODIFIED:20231227T190604Z
UID:10006992-1697313600-1697320800@www.northparish.org
SUMMARY:Crossroads Music Series
DESCRIPTION:For more information\, please see the Crossroads Music Series website. \n 
URL:https://www.northparish.org/event/crossroads-music-series-2-2022-09-10-2022-11-05-2022-11-12-2023-03-11-2023-05-13-2023-10-14-2024-05-11/2023-10-14/
LOCATION:Freeman Hall & Parlor at North Parish\, 190 Academy Road\, North Andover\, MA\, 01845\, United States
END:VEVENT
BEGIN:VEVENT
DTSTART;TZID=America/New_York:20231014T200000
DTEND;TZID=America/New_York:20231014T220000
DTSTAMP:20260421T125025
CREATED:20220505T163122Z
LAST-MODIFIED:20230921T142148Z
UID:10006974-1697313600-1697320800@www.northparish.org
SUMMARY:Crossroads Music Series
DESCRIPTION:Crystal Shawanda Band live in concert at Crossroads Music Series\, October 14\, 8PM (doors 7:15pm). Tix $29 by clicking here. \nMultiple Juno Award winning performer (including 2021 Blues Album of the Year)\, Crystal Shawanda\, grew up on the Wikwemikong reserve on an island in Ontario\, Canada\, Her parents raised her on country music and taught her to sing and play guitar\, but it was her oldest brother who introduced her to the blues. \nHer latest fiery blues collection\, Midnight Blues (also Juno-nominated)\, showcases her full-throated\, raspy voice\, unmatched in today’s musical landscape\, and an authentic appreciation for the genre. Her 2008 album\, Dawn of the New Day\, was the highest charting album by a full-blooded indigenous country artist (in the SoundScan-era). \n“Crystal Shawanda puts down some serious heat on her new album\, Midnight Blues.\nRock & Blues Muse \n“If you’re a fan of those hard-hitting female blues stars of the past\, you’ll be a fan of hers too. In a word\, this album is exceptional.”\nAmerican Blues Scene \n 
URL:https://www.northparish.org/event/crossroads-music-series-2-2022-09-10-2022-11-05-2022-11-12-2023-03-11-2023-05-13-2023-10-14/
LOCATION:Freeman Hall & Parlor at North Parish\, 190 Academy Road\, North Andover\, MA\, 01845\, United States
END:VEVENT
BEGIN:VEVENT
DTSTART;TZID=America/New_York:20231014T150000
DTEND;TZID=America/New_York:20231014T230000
DTSTAMP:20260421T125025
CREATED:20220330T220332Z
LAST-MODIFIED:20230613T154224Z
UID:10005177-1697295600-1697324400@www.northparish.org
SUMMARY:Crossroads Music Series Set-up
DESCRIPTION:Crossroads Music Series Set up and Clean up (3pm to 11pm) for 8-10pm show.  Contact is Dave Kovner
URL:https://www.northparish.org/event/crossroads-music-series-set-up-2-2023-01-14/2023-10-14/
LOCATION:Freeman Hall & Parlor at North Parish\, 190 Academy Road\, North Andover\, MA\, 01845\, United States
END:VEVENT
BEGIN:VEVENT
DTSTART;TZID=America/New_York:20231012T180000
DTEND;TZID=America/New_York:20231012T210000
DTSTAMP:20260421T125025
CREATED:20230928T164820Z
LAST-MODIFIED:20230928T164820Z
UID:10007531-1697133600-1697144400@www.northparish.org
SUMMARY:Band Practice
DESCRIPTION:
URL:https://www.northparish.org/event/band-practice-2/
LOCATION:Freeman Hall & Parlor at North Parish\, 190 Academy Road\, North Andover\, MA\, 01845\, United States
END:VEVENT
BEGIN:VEVENT
DTSTART;TZID=America/New_York:20230929T183000
DTEND;TZID=America/New_York:20230929T210000
DTSTAMP:20260421T125025
CREATED:20230614T112405Z
LAST-MODIFIED:20230905T154823Z
UID:10007115-1696012200-1696021200@www.northparish.org
SUMMARY:Story Telling at North Parish
DESCRIPTION:
URL:https://www.northparish.org/event/moth-story-slam/
LOCATION:Freeman Hall & Parlor at North Parish\, 190 Academy Road\, North Andover\, MA\, 01845\, United States
END:VEVENT
BEGIN:VEVENT
DTSTART;TZID=America/New_York:20230928T190000
DTEND;TZID=America/New_York:20230928T210000
DTSTAMP:20260421T125025
CREATED:20230621T163540Z
LAST-MODIFIED:20230621T172312Z
UID:10007135-1695927600-1695934800@www.northparish.org
SUMMARY:Board of Trustees and Parish Council Meeting
DESCRIPTION:Parish Hall/Parlor and Kitchen
URL:https://www.northparish.org/event/board-of-trustees-and-parish-council-meeting/
LOCATION:Freeman Hall & Parlor at North Parish\, 190 Academy Road\, North Andover\, MA\, 01845\, United States
END:VEVENT
BEGIN:VEVENT
DTSTART;TZID=America/New_York:20230926T180000
DTEND;TZID=America/New_York:20230926T210000
DTSTAMP:20260421T125025
CREATED:20230720T142733Z
LAST-MODIFIED:20230905T124940Z
UID:10007162-1695751200-1695762000@www.northparish.org
SUMMARY:Band practice
DESCRIPTION:Contact is Tony Daigle
URL:https://www.northparish.org/event/band-practice/2023-09-26/
LOCATION:Freeman Hall & Parlor at North Parish\, 190 Academy Road\, North Andover\, MA\, 01845\, United States
CATEGORIES:Exclude from Home
END:VEVENT
BEGIN:VEVENT
DTSTART;TZID=America/New_York:20230919T180000
DTEND;TZID=America/New_York:20230919T210000
DTSTAMP:20260421T125025
CREATED:20230720T142733Z
LAST-MODIFIED:20230905T124940Z
UID:10007161-1695146400-1695157200@www.northparish.org
SUMMARY:Band practice
DESCRIPTION:Contact is Tony Daigle
URL:https://www.northparish.org/event/band-practice/2023-09-19/
LOCATION:Freeman Hall & Parlor at North Parish\, 190 Academy Road\, North Andover\, MA\, 01845\, United States
CATEGORIES:Exclude from Home
END:VEVENT
BEGIN:VEVENT
DTSTART;TZID=America/New_York:20230912T180000
DTEND;TZID=America/New_York:20230912T210000
DTSTAMP:20260421T125025
CREATED:20230720T142733Z
LAST-MODIFIED:20230905T124940Z
UID:10007160-1694541600-1694552400@www.northparish.org
SUMMARY:Band practice
DESCRIPTION:Contact is Tony Daigle
URL:https://www.northparish.org/event/band-practice/2023-09-12/
LOCATION:Freeman Hall & Parlor at North Parish\, 190 Academy Road\, North Andover\, MA\, 01845\, United States
CATEGORIES:Exclude from Home
END:VEVENT
BEGIN:VEVENT
DTSTART;TZID=America/New_York:20230910T110000
DTEND;TZID=America/New_York:20230910T123000
DTSTAMP:20260421T125025
CREATED:20230817T134116Z
LAST-MODIFIED:20230817T134405Z
UID:10006535-1694343600-1694349000@www.northparish.org
SUMMARY:Second Sunday Lunch
DESCRIPTION:
URL:https://www.northparish.org/event/second-sunday-lunch/2023-09-10/
LOCATION:Freeman Hall & Parlor at North Parish\, 190 Academy Road\, North Andover\, MA\, 01845\, United States
END:VEVENT
BEGIN:VEVENT
DTSTART;TZID=America/New_York:20230909T200000
DTEND;TZID=America/New_York:20230909T220000
DTSTAMP:20260421T125025
CREATED:20220505T163122Z
LAST-MODIFIED:20231227T190604Z
UID:10006991-1694289600-1694296800@www.northparish.org
SUMMARY:Crossroads Music Series
DESCRIPTION:For more information\, please see the Crossroads Music Series website. \n 
URL:https://www.northparish.org/event/crossroads-music-series-2-2022-09-10-2022-11-05-2022-11-12-2023-03-11-2023-05-13-2023-10-14-2024-05-11/2023-09-09/
LOCATION:Freeman Hall & Parlor at North Parish\, 190 Academy Road\, North Andover\, MA\, 01845\, United States
END:VEVENT
BEGIN:VEVENT
DTSTART;TZID=America/New_York:20230909T150000
DTEND;TZID=America/New_York:20230909T230000
DTSTAMP:20260421T125025
CREATED:20220330T220332Z
LAST-MODIFIED:20230613T154224Z
UID:10005176-1694271600-1694300400@www.northparish.org
SUMMARY:Crossroads Music Series Set-up
DESCRIPTION:Crossroads Music Series Set up and Clean up (3pm to 11pm) for 8-10pm show.  Contact is Dave Kovner
URL:https://www.northparish.org/event/crossroads-music-series-set-up-2-2023-01-14/2023-09-09/
LOCATION:Freeman Hall & Parlor at North Parish\, 190 Academy Road\, North Andover\, MA\, 01845\, United States
END:VEVENT
BEGIN:VEVENT
DTSTART;TZID=America/New_York:20230909T110000
DTEND;TZID=America/New_York:20230909T140000
DTSTAMP:20260421T125025
CREATED:20230411T133216Z
LAST-MODIFIED:20230426T143459Z
UID:10006973-1694257200-1694268000@www.northparish.org
SUMMARY:Joannie Warnshuis Memorial Gathering
DESCRIPTION:
URL:https://www.northparish.org/event/joannie-warnshuis-memorial-gathering/
LOCATION:Freeman Hall & Parlor at North Parish\, 190 Academy Road\, North Andover\, MA\, 01845\, United States
END:VEVENT
BEGIN:VEVENT
DTSTART;TZID=America/New_York:20230905T180000
DTEND;TZID=America/New_York:20230905T210000
DTSTAMP:20260421T125025
CREATED:20230720T142733Z
LAST-MODIFIED:20230905T124940Z
UID:10007159-1693936800-1693947600@www.northparish.org
SUMMARY:Band practice
DESCRIPTION:Contact is Tony Daigle
URL:https://www.northparish.org/event/band-practice/2023-09-05/
LOCATION:Freeman Hall & Parlor at North Parish\, 190 Academy Road\, North Andover\, MA\, 01845\, United States
CATEGORIES:Exclude from Home
END:VEVENT
BEGIN:VEVENT
DTSTART;TZID=America/New_York:20230802T190000
DTEND;TZID=America/New_York:20230802T203000
DTSTAMP:20260421T125025
CREATED:20230626T135621Z
LAST-MODIFIED:20230626T135621Z
UID:10007148-1691002800-1691008200@www.northparish.org
SUMMARY:RE Task Force
DESCRIPTION:Contact is Keith Connors
URL:https://www.northparish.org/event/re-task-force/
LOCATION:Freeman Hall & Parlor at North Parish\, 190 Academy Road\, North Andover\, MA\, 01845\, United States
END:VEVENT
BEGIN:VEVENT
DTSTART;TZID=America/New_York:20230730T150000
DTEND;TZID=America/New_York:20230730T200000
DTSTAMP:20260421T125025
CREATED:20230508T132507Z
LAST-MODIFIED:20230508T132507Z
UID:10007076-1690729200-1690747200@www.northparish.org
SUMMARY:Dave Kovner
DESCRIPTION:
URL:https://www.northparish.org/event/dave-kovner/
LOCATION:Freeman Hall & Parlor at North Parish\, 190 Academy Road\, North Andover\, MA\, 01845\, United States
END:VEVENT
BEGIN:VEVENT
DTSTART;TZID=America/New_York:20230610T200000
DTEND;TZID=America/New_York:20230610T220000
DTSTAMP:20260421T125025
CREATED:20220505T163122Z
LAST-MODIFIED:20230519T140438Z
UID:10005209-1686427200-1686434400@www.northparish.org
SUMMARY:Crossroads Music Series
DESCRIPTION:Two-time Grammy nominated singer-songwriter\, Kim Richey\, will be returning to perform at Crossroads at North Parish on June 10\, at 8PM. Based out of Nashville\, and fresh off her European tour with Gretchen Peters\, Kim “writes some of the most beguiling melodies and freshest chord changes of her generation.” (Washington Post) Kim’s hits include Those Words We Said\, Come Around\, and written for Trisha Yearwood\, Believe Me Baby (I Lied). \n“Part of what draws them to the dusky honey of her crystalline alto is the ay she writes: to and from the soul\, never flinching from the conflicts and crushing moments\, yet always finding dignity.” (Holly Gleason) \nTickets for Kim Richey at Crossroads are available on the Crossroads Music Series website. \n 
URL:https://www.northparish.org/event/crossroads-music-series-2-2022-09-10-2022-11-05-2022-11-12-2023-03-11-2023-05-13-2023-06-10/
LOCATION:Freeman Hall & Parlor at North Parish\, 190 Academy Road\, North Andover\, MA\, 01845\, United States
END:VEVENT
BEGIN:VEVENT
DTSTART;TZID=America/New_York:20230610T200000
DTEND;TZID=America/New_York:20230610T220000
DTSTAMP:20260421T125025
CREATED:20220505T163122Z
LAST-MODIFIED:20231227T190604Z
UID:10006990-1686427200-1686434400@www.northparish.org
SUMMARY:Crossroads Music Series
DESCRIPTION:For more information\, please see the Crossroads Music Series website. \n 
URL:https://www.northparish.org/event/crossroads-music-series-2-2022-09-10-2022-11-05-2022-11-12-2023-03-11-2023-05-13-2023-10-14-2024-05-11/2023-06-10/
LOCATION:Freeman Hall & Parlor at North Parish\, 190 Academy Road\, North Andover\, MA\, 01845\, United States
END:VEVENT
BEGIN:VEVENT
DTSTART;TZID=America/New_York:20230610T150000
DTEND;TZID=America/New_York:20230610T230000
DTSTAMP:20260421T125025
CREATED:20220330T220332Z
LAST-MODIFIED:20230613T154224Z
UID:10005175-1686409200-1686438000@www.northparish.org
SUMMARY:Crossroads Music Series Set-up
DESCRIPTION:Crossroads Music Series Set up and Clean up (3pm to 11pm) for 8-10pm show.  Contact is Dave Kovner
URL:https://www.northparish.org/event/crossroads-music-series-set-up-2-2023-01-14/2023-06-10/
LOCATION:Freeman Hall & Parlor at North Parish\, 190 Academy Road\, North Andover\, MA\, 01845\, United States
END:VEVENT
BEGIN:VEVENT
DTSTART;TZID=America/New_York:20230601T123000
DTEND;TZID=America/New_York:20230603T120000
DTSTAMP:20260421T125025
CREATED:20230313T153319Z
LAST-MODIFIED:20230403T145352Z
UID:10006963-1685622600-1685793600@www.northparish.org
SUMMARY:Phila Slade Art Show set-up
DESCRIPTION:
URL:https://www.northparish.org/event/phila-slade-art-show-set-up/
LOCATION:Freeman Hall & Parlor at North Parish\, 190 Academy Road\, North Andover\, MA\, 01845\, United States
END:VEVENT
BEGIN:VEVENT
DTSTART;VALUE=DATE:20230527
DTEND;VALUE=DATE:20230528
DTSTAMP:20260421T125025
CREATED:20230328T173114Z
LAST-MODIFIED:20230426T134229Z
UID:10006966-1685145600-1685231999@www.northparish.org
SUMMARY:Lynn Wentzel Birthday Party
DESCRIPTION:
URL:https://www.northparish.org/event/lynn-wentzel-birthday-party/
LOCATION:Freeman Hall & Parlor at North Parish\, 190 Academy Road\, North Andover\, MA\, 01845\, United States
END:VEVENT
BEGIN:VEVENT
DTSTART;VALUE=DATE:20230526
DTEND;VALUE=DATE:20230527
DTSTAMP:20260421T125025
CREATED:20230525T143141Z
LAST-MODIFIED:20230525T143141Z
UID:10007088-1685059200-1685145599@www.northparish.org
SUMMARY:Wentzel set-up
DESCRIPTION:
URL:https://www.northparish.org/event/wentzel-set-up/
LOCATION:Freeman Hall & Parlor at North Parish\, 190 Academy Road\, North Andover\, MA\, 01845\, United States
END:VEVENT
BEGIN:VEVENT
DTSTART;TZID=America/New_York:20230513T200000
DTEND;TZID=America/New_York:20230513T220000
DTSTAMP:20260421T125025
CREATED:20220505T163122Z
LAST-MODIFIED:20230424T162059Z
UID:10005208-1684008000-1684015200@www.northparish.org
SUMMARY:Crossroads Music Series/Los Sugar Kings
DESCRIPTION:Los Sugar Kings return to Crossroads with their incredible fusion of rock\, reggae and Afro-Cuban beat! Come experience this highly danceable band Saturday\, May 13 at 8PM. Tix: $20 at www.crossroadsmusicseries.org \n 
URL:https://www.northparish.org/event/crossroads-music-series-2-2022-09-10-2022-11-05-2022-11-12-2023-03-11-2023-05-13/
LOCATION:Freeman Hall & Parlor at North Parish\, 190 Academy Road\, North Andover\, MA\, 01845\, United States
END:VEVENT
BEGIN:VEVENT
DTSTART;TZID=America/New_York:20230513T200000
DTEND;TZID=America/New_York:20230513T220000
DTSTAMP:20260421T125025
CREATED:20220505T163122Z
LAST-MODIFIED:20231227T190604Z
UID:10006989-1684008000-1684015200@www.northparish.org
SUMMARY:Crossroads Music Series
DESCRIPTION:For more information\, please see the Crossroads Music Series website. \n 
URL:https://www.northparish.org/event/crossroads-music-series-2-2022-09-10-2022-11-05-2022-11-12-2023-03-11-2023-05-13-2023-10-14-2024-05-11/2023-05-13/
LOCATION:Freeman Hall & Parlor at North Parish\, 190 Academy Road\, North Andover\, MA\, 01845\, United States
END:VEVENT
BEGIN:VEVENT
DTSTART;TZID=America/New_York:20230513T150000
DTEND;TZID=America/New_York:20230513T230000
DTSTAMP:20260421T125025
CREATED:20220330T220332Z
LAST-MODIFIED:20230613T154224Z
UID:10005174-1683990000-1684018800@www.northparish.org
SUMMARY:Crossroads Music Series Set-up
DESCRIPTION:Crossroads Music Series Set up and Clean up (3pm to 11pm) for 8-10pm show.  Contact is Dave Kovner
URL:https://www.northparish.org/event/crossroads-music-series-set-up-2-2023-01-14/2023-05-13/
LOCATION:Freeman Hall & Parlor at North Parish\, 190 Academy Road\, North Andover\, MA\, 01845\, United States
END:VEVENT
BEGIN:VEVENT
DTSTART;TZID=America/New_York:20230508T120000
DTEND;TZID=America/New_York:20230508T150000
DTSTAMP:20260421T125025
CREATED:20230407T125142Z
LAST-MODIFIED:20230412T120009Z
UID:10006971-1683547200-1683558000@www.northparish.org
SUMMARY:Luncheon in honor of Ruth Race
DESCRIPTION:
URL:https://www.northparish.org/event/luncheon/
LOCATION:Freeman Hall & Parlor at North Parish\, 190 Academy Road\, North Andover\, MA\, 01845\, United States
END:VEVENT
END:VCALENDAR