BEGIN:VCALENDAR
VERSION:2.0
PRODID:-//The North Parish Church of North Andover - ECPv6.15.13//NONSGML v1.0//EN
CALSCALE:GREGORIAN
METHOD:PUBLISH
X-WR-CALNAME:The North Parish Church of North Andover
X-ORIGINAL-URL:https://www.northparish.org
X-WR-CALDESC:Events for The North Parish Church of North Andover
REFRESH-INTERVAL;VALUE=DURATION:PT1H
X-Robots-Tag:noindex
X-PUBLISHED-TTL:PT1H
BEGIN:VTIMEZONE
TZID:America/New_York
BEGIN:DAYLIGHT
TZOFFSETFROM:-0500
TZOFFSETTO:-0400
TZNAME:EDT
DTSTART:20220313T070000
END:DAYLIGHT
BEGIN:STANDARD
TZOFFSETFROM:-0400
TZOFFSETTO:-0500
TZNAME:EST
DTSTART:20221106T060000
END:STANDARD
BEGIN:DAYLIGHT
TZOFFSETFROM:-0500
TZOFFSETTO:-0400
TZNAME:EDT
DTSTART:20230312T070000
END:DAYLIGHT
BEGIN:STANDARD
TZOFFSETFROM:-0400
TZOFFSETTO:-0500
TZNAME:EST
DTSTART:20231105T060000
END:STANDARD
BEGIN:DAYLIGHT
TZOFFSETFROM:-0500
TZOFFSETTO:-0400
TZNAME:EDT
DTSTART:20240310T070000
END:DAYLIGHT
BEGIN:STANDARD
TZOFFSETFROM:-0400
TZOFFSETTO:-0500
TZNAME:EST
DTSTART:20241103T060000
END:STANDARD
BEGIN:DAYLIGHT
TZOFFSETFROM:-0500
TZOFFSETTO:-0400
TZNAME:EDT
DTSTART:20250309T070000
END:DAYLIGHT
BEGIN:STANDARD
TZOFFSETFROM:-0400
TZOFFSETTO:-0500
TZNAME:EST
DTSTART:20251102T060000
END:STANDARD
END:VTIMEZONE
BEGIN:VEVENT
DTSTART;TZID=America/New_York:20240411T170000
DTEND;TZID=America/New_York:20240411T183000
DTSTAMP:20260421T083448
CREATED:20240409T155717Z
LAST-MODIFIED:20240409T155717Z
UID:10007093-1712854800-1712860200@www.northparish.org
SUMMARY:Racial Justice Team Planning Meeting
DESCRIPTION:
URL:https://www.northparish.org/event/racial-justice-team-planning-meeting-6/
LOCATION:Freeman Hall & Parlor at North Parish\, 190 Academy Road\, North Andover\, MA\, 01845\, United States
ORGANIZER;CN="Racial Justice Team":MAILTO:RacialJustice@northparish.org
END:VEVENT
BEGIN:VEVENT
DTSTART;TZID=America/New_York:20240406T200000
DTEND;TZID=America/New_York:20240406T220000
DTSTAMP:20260421T083448
CREATED:20220505T163122Z
LAST-MODIFIED:20240320T190201Z
UID:10006979-1712433600-1712440800@www.northparish.org
SUMMARY:Crossroads Music Series
DESCRIPTION:Join us for The Mallett Brothers Band in concert at Crossroads Music Series at North Parish on April 6 at 8pm. With a style that ranges from alt-country to Americana\, jam and roots rock\, this Maine band’s sound is a musical melting pot that’s influenced by the singer/songwriter tradition as well as rock\, classic country and psychedelic sounds. Celebrate Crossroads’ 35th anniversary at this special rocking show! Tickets available at https://www.crossroadsmusicseries.org/events/the-mallett-brothers-band \n  \n  \n  \nFor more information\, please see the Crossroads Music Series website. \n 
URL:https://www.northparish.org/event/crossroads-music-series-2-2022-09-10-2022-11-05-2022-11-12-2023-03-11-2023-05-13-2023-10-14-2024-04-13/
LOCATION:Freeman Hall & Parlor at North Parish\, 190 Academy Road\, North Andover\, MA\, 01845\, United States
END:VEVENT
BEGIN:VEVENT
DTSTART;TZID=America/New_York:20240406T150000
DTEND;TZID=America/New_York:20240406T230000
DTSTAMP:20260421T083448
CREATED:20220330T220332Z
LAST-MODIFIED:20230913T154704Z
UID:10006976-1712415600-1712444400@www.northparish.org
SUMMARY:Crossroads Music Series Set-up
DESCRIPTION:Crossroads Music Series Set up and Clean up (3pm to 11pm) for 8-10pm show.  Contact is Dave Kovner
URL:https://www.northparish.org/event/crossroads-music-series-set-up-2-2023-01-14-2024-04-13/
LOCATION:Freeman Hall & Parlor at North Parish\, 190 Academy Road\, North Andover\, MA\, 01845\, United States
END:VEVENT
BEGIN:VEVENT
DTSTART;TZID=America/New_York:20240316T200000
DTEND;TZID=America/New_York:20240316T220000
DTSTAMP:20260421T083448
CREATED:20220505T163122Z
LAST-MODIFIED:20240220T125113Z
UID:10006978-1710619200-1710626400@www.northparish.org
SUMMARY:Jill Andrews at Crossroads Music Series
DESCRIPTION:Don’t miss Nashville singer-songwriter\, Jill Andrews\, who returns to Crossroads Music Series Saturday\, March 16 at 8PM. Jill has delivered irresistibly melodic\, genre-bending music for nearly two decades. Her 2023 album\, Modern Age\, is dripping in reverence for a simpler time\, when the world was as big as your high school\, when love was waiting by the phone\, when we wondered about the future instead of lived in it.  For more information\, please see the Crossroads Music Series website. \n 
URL:https://www.northparish.org/event/crossroads-music-series-2-2022-09-10-2022-11-05-2022-11-12-2023-03-11-2023-05-13-2023-10-14-2024-03-09/
LOCATION:Freeman Hall & Parlor at North Parish\, 190 Academy Road\, North Andover\, MA\, 01845\, United States
END:VEVENT
BEGIN:VEVENT
DTSTART;TZID=America/New_York:20240316T150000
DTEND;TZID=America/New_York:20240316T230000
DTSTAMP:20260421T083448
CREATED:20220330T220332Z
LAST-MODIFIED:20230829T180710Z
UID:10006975-1710601200-1710630000@www.northparish.org
SUMMARY:Crossroads Music Series Set-up
DESCRIPTION:Crossroads Music Series Set up and Clean up (3pm to 11pm) for 8-10pm show.  Contact is Dave Kovner
URL:https://www.northparish.org/event/crossroads-music-series-set-up-2-2023-01-14-2024-03-09/
LOCATION:Freeman Hall & Parlor at North Parish\, 190 Academy Road\, North Andover\, MA\, 01845\, United States
END:VEVENT
BEGIN:VEVENT
DTSTART;TZID=America/New_York:20240310T110000
DTEND;TZID=America/New_York:20240310T123000
DTSTAMP:20260421T083448
CREATED:20230817T134116Z
LAST-MODIFIED:20230817T134405Z
UID:10006537-1710068400-1710073800@www.northparish.org
SUMMARY:Second Sunday Lunch
DESCRIPTION:
URL:https://www.northparish.org/event/second-sunday-lunch/2024-03-10/
LOCATION:Freeman Hall & Parlor at North Parish\, 190 Academy Road\, North Andover\, MA\, 01845\, United States
END:VEVENT
BEGIN:VEVENT
DTSTART;TZID=America/New_York:20240309T200000
DTEND;TZID=America/New_York:20240309T220000
DTSTAMP:20260421T083448
CREATED:20220505T163122Z
LAST-MODIFIED:20231227T190604Z
UID:10006997-1710014400-1710021600@www.northparish.org
SUMMARY:Crossroads Music Series
DESCRIPTION:For more information\, please see the Crossroads Music Series website. \n 
URL:https://www.northparish.org/event/crossroads-music-series-2-2022-09-10-2022-11-05-2022-11-12-2023-03-11-2023-05-13-2023-10-14-2024-05-11/2024-03-09/
LOCATION:Freeman Hall & Parlor at North Parish\, 190 Academy Road\, North Andover\, MA\, 01845\, United States
END:VEVENT
BEGIN:VEVENT
DTSTART;TZID=America/New_York:20240302T170000
DTEND;TZID=America/New_York:20240302T190000
DTSTAMP:20260421T083448
CREATED:20240123T163855Z
LAST-MODIFIED:20240221T164108Z
UID:10007631-1709398800-1709406000@www.northparish.org
SUMMARY:Family Circle Supper
DESCRIPTION:RSVP here or email Rebecca at community@northparish.org
URL:https://www.northparish.org/event/family-circle-supper/
LOCATION:Freeman Hall & Parlor at North Parish\, 190 Academy Road\, North Andover\, MA\, 01845\, United States
END:VEVENT
BEGIN:VEVENT
DTSTART;TZID=America/New_York:20240302T150000
DTEND;TZID=America/New_York:20240302T170000
DTSTAMP:20260421T083448
CREATED:20240123T163942Z
LAST-MODIFIED:20240123T163942Z
UID:10007632-1709391600-1709398800@www.northparish.org
SUMMARY:Family Circle Supper set-up
DESCRIPTION:
URL:https://www.northparish.org/event/family-circle-supper-set-up/
LOCATION:Freeman Hall & Parlor at North Parish\, 190 Academy Road\, North Andover\, MA\, 01845\, United States
END:VEVENT
BEGIN:VEVENT
DTSTART;TZID=America/New_York:20240224T150000
DTEND;TZID=America/New_York:20240224T180000
DTSTAMP:20260421T083448
CREATED:20240117T150843Z
LAST-MODIFIED:20240223T183937Z
UID:10007624-1708786800-1708797600@www.northparish.org
SUMMARY:Art and Wine Event
DESCRIPTION:Tickets are $15 each before the event; $20 each at the door the day of the event.  To purchase tickets online please click on the link below: \nhttps://onrealm.org/NorthParish/-/form/give/special-projects \nGo to “Give Online”\, Under “Fund”\, choose “Other”.  Please make sure that you put  “Art and Wine” in the memo.  Then follow the prompts to make your payment.  We will leave your name at the door. \n  \n  \n 
URL:https://www.northparish.org/event/art-and-wine-event/
LOCATION:Freeman Hall & Parlor at North Parish\, 190 Academy Road\, North Andover\, MA\, 01845\, United States
END:VEVENT
BEGIN:VEVENT
DTSTART;TZID=America/New_York:20240224T120000
DTEND;TZID=America/New_York:20240224T143000
DTSTAMP:20260421T083448
CREATED:20240117T150810Z
LAST-MODIFIED:20240129T151431Z
UID:10007623-1708776000-1708785000@www.northparish.org
SUMMARY:Art and Wine Event set-up
DESCRIPTION:
URL:https://www.northparish.org/event/art-and-wine-event-set-up/
LOCATION:Freeman Hall & Parlor at North Parish\, 190 Academy Road\, North Andover\, MA\, 01845\, United States
END:VEVENT
BEGIN:VEVENT
DTSTART;TZID=America/New_York:20240217T160000
DTEND;TZID=America/New_York:20240217T180000
DTSTAMP:20260421T083448
CREATED:20240118T133135Z
LAST-MODIFIED:20240118T133135Z
UID:10007626-1708185600-1708192800@www.northparish.org
SUMMARY:Stewardship reception
DESCRIPTION:
URL:https://www.northparish.org/event/stewardship-reception/
LOCATION:Freeman Hall & Parlor at North Parish\, 190 Academy Road\, North Andover\, MA\, 01845\, United States
END:VEVENT
BEGIN:VEVENT
DTSTART;TZID=America/New_York:20240211T110000
DTEND;TZID=America/New_York:20240211T123000
DTSTAMP:20260421T083448
CREATED:20230817T134116Z
LAST-MODIFIED:20230817T134405Z
UID:10006536-1707649200-1707654600@www.northparish.org
SUMMARY:Second Sunday Lunch
DESCRIPTION:
URL:https://www.northparish.org/event/second-sunday-lunch/2024-02-11/
LOCATION:Freeman Hall & Parlor at North Parish\, 190 Academy Road\, North Andover\, MA\, 01845\, United States
END:VEVENT
BEGIN:VEVENT
DTSTART;TZID=America/New_York:20240210T200000
DTEND;TZID=America/New_York:20240210T220000
DTSTAMP:20260421T083448
CREATED:20220505T163122Z
LAST-MODIFIED:20231227T190604Z
UID:10006996-1707595200-1707602400@www.northparish.org
SUMMARY:Crossroads Music Series
DESCRIPTION:For more information\, please see the Crossroads Music Series website. \n 
URL:https://www.northparish.org/event/crossroads-music-series-2-2022-09-10-2022-11-05-2022-11-12-2023-03-11-2023-05-13-2023-10-14-2024-05-11/2024-02-10/
LOCATION:Freeman Hall & Parlor at North Parish\, 190 Academy Road\, North Andover\, MA\, 01845\, United States
END:VEVENT
BEGIN:VEVENT
DTSTART;TZID=America/New_York:20240209T170000
DTEND;TZID=America/New_York:20240209T210000
DTSTAMP:20260421T083448
CREATED:20240111T132434Z
LAST-MODIFIED:20240111T162250Z
UID:10007616-1707498000-1707512400@www.northparish.org
SUMMARY:Climate Justice and Religious Education joint Family Vegetarian Potluck and movie night (Parish Hall/Chapel)
DESCRIPTION:Younger kids will watch a movie in the Parish Hall and older kids a different movie in the chapel. Adults will have the option of socializing in the parlor. \n 
URL:https://www.northparish.org/event/climate-justice-and-religious-education-joint-family-vegetarian-potluck-and-movie-night-parish-hall-chapel/
LOCATION:Freeman Hall & Parlor at North Parish\, 190 Academy Road\, North Andover\, MA\, 01845\, United States
END:VEVENT
BEGIN:VEVENT
DTSTART;TZID=America/New_York:20240202T174500
DTEND;TZID=America/New_York:20240202T181500
DTSTAMP:20260421T083448
CREATED:20240117T184406Z
LAST-MODIFIED:20240201T172953Z
UID:10007625-1706895900-1706897700@www.northparish.org
SUMMARY:Celebration the Dedication of the Cato & Lydia Freeman Hall
DESCRIPTION:The Board of Trustees voted\, with congregational input\, to approve the naming of our Parish Hall to the Cato & Lydia Freeman Hall\, or Freeman Hall for short. You are invited to celebrate the dedication Friday\, February 2nd during the Black History Month opening reception. The reception\, which will include light refreshments\, begins at 5:00 PM. At 5:45 the dedication will take place including live music and speakers. \nFor more information about the North Andover Celebrates Black History Month project please visit: https://sites.google.com/northandoverma.gov/blackhistorymonth/home
URL:https://www.northparish.org/event/celebration-the-dedication-of-the-cato-lydia-freeman-hall/
LOCATION:Freeman Hall & Parlor at North Parish\, 190 Academy Road\, North Andover\, MA\, 01845\, United States
ORGANIZER;CN="Racial Justice Team":MAILTO:RacialJustice@northparish.org
END:VEVENT
BEGIN:VEVENT
DTSTART;TZID=America/New_York:20240202T170000
DTEND;TZID=America/New_York:20240202T183000
DTSTAMP:20260421T083448
CREATED:20231212T192322Z
LAST-MODIFIED:20240201T172943Z
UID:10007595-1706893200-1706898600@www.northparish.org
SUMMARY:Black History Month\, An Evening of Gospel reception
DESCRIPTION:For more information about the North Andover Celebrates Black History Month project please visit: https://sites.google.com/northandoverma.gov/blackhistorymonth/home
URL:https://www.northparish.org/event/black-history-month-an-evening-of-gospel-reception/
LOCATION:Freeman Hall & Parlor at North Parish\, 190 Academy Road\, North Andover\, MA\, 01845\, United States
END:VEVENT
BEGIN:VEVENT
DTSTART;TZID=America/New_York:20240120T070000
DTEND;TZID=America/New_York:20240120T150000
DTSTAMP:20260421T083448
CREATED:20231205T173657Z
LAST-MODIFIED:20240207T140255Z
UID:10006877-1705734000-1705762800@www.northparish.org
SUMMARY:Community Blood Drive
DESCRIPTION:Don’t want to donate but still want to help out? Send an email to Lynn Langton or Jeff Nathan\, your blood drive coordinators
URL:https://www.northparish.org/event/american-red-cross-blood-drive/
LOCATION:Freeman Hall & Parlor at North Parish\, 190 Academy Road\, North Andover\, MA\, 01845\, United States
END:VEVENT
BEGIN:VEVENT
DTSTART;TZID=America/New_York:20240113T200000
DTEND;TZID=America/New_York:20240113T220000
DTSTAMP:20260421T083448
CREATED:20220505T163122Z
LAST-MODIFIED:20231227T191138Z
UID:10006977-1705176000-1705183200@www.northparish.org
SUMMARY:Whiskey Treaty Roadshow in concert at Crossroads
DESCRIPTION:Whiskey Treaty Roadshow in concert at Crossroads Music Series\, North Parish\, Saturday January 13\, 8 pm (doors 7:15 pm). Whiskey Treaty Roadshow puts on a performance that can’t be recreated\, trading off on lead vocals\, and featuring an array of instruments from strings to horns to keys – replete with stomping jams\, sing-along anthems and a larger than life command of the stage. $23.  For more information\, please see the Crossroads Music Series website. \n 
URL:https://www.northparish.org/event/crossroads-music-series-2-2022-09-10-2022-11-05-2022-11-12-2023-03-11-2023-05-13-2023-10-14-2024-01-13/
LOCATION:Freeman Hall & Parlor at North Parish\, 190 Academy Road\, North Andover\, MA\, 01845\, United States
END:VEVENT
BEGIN:VEVENT
DTSTART;TZID=America/New_York:20240113T200000
DTEND;TZID=America/New_York:20240113T220000
DTSTAMP:20260421T083448
CREATED:20220505T163122Z
LAST-MODIFIED:20231227T190604Z
UID:10006995-1705176000-1705183200@www.northparish.org
SUMMARY:Crossroads Music Series
DESCRIPTION:For more information\, please see the Crossroads Music Series website. \n 
URL:https://www.northparish.org/event/crossroads-music-series-2-2022-09-10-2022-11-05-2022-11-12-2023-03-11-2023-05-13-2023-10-14-2024-05-11/2024-01-13/
LOCATION:Freeman Hall & Parlor at North Parish\, 190 Academy Road\, North Andover\, MA\, 01845\, United States
END:VEVENT
BEGIN:VEVENT
DTSTART;TZID=America/New_York:20240113T150000
DTEND;TZID=America/New_York:20240113T230000
DTSTAMP:20260421T083448
CREATED:20220330T220332Z
LAST-MODIFIED:20230613T154224Z
UID:10005179-1705158000-1705186800@www.northparish.org
SUMMARY:Crossroads Music Series Set-up
DESCRIPTION:Crossroads Music Series Set up and Clean up (3pm to 11pm) for 8-10pm show.  Contact is Dave Kovner
URL:https://www.northparish.org/event/crossroads-music-series-set-up-2-2023-01-14/2024-01-13/
LOCATION:Freeman Hall & Parlor at North Parish\, 190 Academy Road\, North Andover\, MA\, 01845\, United States
END:VEVENT
BEGIN:VEVENT
DTSTART;TZID=America/New_York:20240112T183000
DTEND;TZID=America/New_York:20240112T200000
DTSTAMP:20260421T083448
CREATED:20240105T141427Z
LAST-MODIFIED:20240105T141601Z
UID:10007612-1705084200-1705089600@www.northparish.org
SUMMARY:Bridging potluck
DESCRIPTION:
URL:https://www.northparish.org/event/bridging-potluck/
LOCATION:Freeman Hall & Parlor at North Parish\, 190 Academy Road\, North Andover\, MA\, 01845\, United States
END:VEVENT
BEGIN:VEVENT
DTSTART;TZID=America/New_York:20231210T111500
DTEND;TZID=America/New_York:20231210T130000
DTSTAMP:20260421T083448
CREATED:20230817T134116Z
LAST-MODIFIED:20231117T212556Z
UID:10006606-1702206900-1702213200@www.northparish.org
SUMMARY:Family Holiday Sing-a-Long and Second Sunday Lunch
DESCRIPTION:Ring in the holiday season with a FESTIVE family Sing-a-Long and Second Sunday lunch in Parish Hall on 12/10 at 11:15 am\,  featuring Barry Low and hosted by the Music Committee.
URL:https://www.northparish.org/event/second-sunday-lunch-2023-12-10/
LOCATION:Freeman Hall & Parlor at North Parish\, 190 Academy Road\, North Andover\, MA\, 01845\, United States
END:VEVENT
BEGIN:VEVENT
DTSTART;TZID=America/New_York:20231209T200000
DTEND;TZID=America/New_York:20231209T220000
DTSTAMP:20260421T083448
CREATED:20220505T163122Z
LAST-MODIFIED:20231127T154754Z
UID:10006845-1702152000-1702159200@www.northparish.org
SUMMARY:Crossroads Music Series
DESCRIPTION:Mary Fahl\, former lead singer of October Project\, will be performing at Crossroads Music Series at North Parish\, North Andover on Saturday\, December 9 at 8pm. With “a voice for the gods that can transport listeners to other realms” (Boston Globe)\, Mary Fahl is an expressive\, emotional singer/songwriter who first achieved fame as lead singer and co-founder of the mid-1990s chamber-pop group October Project. Mary’s latest album pays tribute to music that defines her as an artist: Pink Floyd\, George Harrison\, Moody Blues\, ELO\, Rolling Stones\, and others. Mary’s own elegant\, cinematic songs draw on classical and world music sources\, American art song\, as well as thinking person’s folk-pop. Don’t miss this full-band holiday performance including songs from Mary’s award-winning Wintersongs and Carols album. \nFor more information\, please see the Crossroads Music Series website. \n 
URL:https://www.northparish.org/event/crossroads-music-series-2-2022-09-10-2022-11-05-2022-11-12-2023-03-11-2023-05-13-2023-10-14-2023-12-09/
LOCATION:Freeman Hall & Parlor at North Parish\, 190 Academy Road\, North Andover\, MA\, 01845\, United States
END:VEVENT
BEGIN:VEVENT
DTSTART;TZID=America/New_York:20231209T200000
DTEND;TZID=America/New_York:20231209T220000
DTSTAMP:20260421T083448
CREATED:20220505T163122Z
LAST-MODIFIED:20231227T190604Z
UID:10006994-1702152000-1702159200@www.northparish.org
SUMMARY:Crossroads Music Series
DESCRIPTION:For more information\, please see the Crossroads Music Series website. \n 
URL:https://www.northparish.org/event/crossroads-music-series-2-2022-09-10-2022-11-05-2022-11-12-2023-03-11-2023-05-13-2023-10-14-2024-05-11/2023-12-09/
LOCATION:Freeman Hall & Parlor at North Parish\, 190 Academy Road\, North Andover\, MA\, 01845\, United States
END:VEVENT
BEGIN:VEVENT
DTSTART;TZID=America/New_York:20231209T150000
DTEND;TZID=America/New_York:20231209T230000
DTSTAMP:20260421T083448
CREATED:20220330T220332Z
LAST-MODIFIED:20230613T154224Z
UID:10005178-1702134000-1702162800@www.northparish.org
SUMMARY:Crossroads Music Series Set-up
DESCRIPTION:Crossroads Music Series Set up and Clean up (3pm to 11pm) for 8-10pm show.  Contact is Dave Kovner
URL:https://www.northparish.org/event/crossroads-music-series-set-up-2-2023-01-14/2023-12-09/
LOCATION:Freeman Hall & Parlor at North Parish\, 190 Academy Road\, North Andover\, MA\, 01845\, United States
END:VEVENT
BEGIN:VEVENT
DTSTART;TZID=America/New_York:20231208T150000
DTEND;TZID=America/New_York:20231208T210000
DTSTAMP:20260421T083448
CREATED:20231205T173410Z
LAST-MODIFIED:20231205T173410Z
UID:10006876-1702047600-1702069200@www.northparish.org
SUMMARY:Crossroads set-up
DESCRIPTION:Parish Hall\, Parlor and Kitchen
URL:https://www.northparish.org/event/crossroads-set-up/
LOCATION:Freeman Hall & Parlor at North Parish\, 190 Academy Road\, North Andover\, MA\, 01845\, United States
END:VEVENT
BEGIN:VEVENT
DTSTART;TZID=America/New_York:20231125T180000
DTEND;TZID=America/New_York:20231125T210000
DTSTAMP:20260421T083448
CREATED:20230720T142733Z
LAST-MODIFIED:20231108T132044Z
UID:10007167-1700935200-1700946000@www.northparish.org
SUMMARY:Band practice
DESCRIPTION:Contact is Tony Daigle
URL:https://www.northparish.org/event/band-practice-2023-10-10/
LOCATION:Freeman Hall & Parlor at North Parish\, 190 Academy Road\, North Andover\, MA\, 01845\, United States
CATEGORIES:Exclude from Home
END:VEVENT
BEGIN:VEVENT
DTSTART;TZID=America/New_York:20231121T180000
DTEND;TZID=America/New_York:20231121T210000
DTSTAMP:20260421T083448
CREATED:20230720T142733Z
LAST-MODIFIED:20230905T124940Z
UID:10007166-1700589600-1700600400@www.northparish.org
SUMMARY:Band practice
DESCRIPTION:Contact is Tony Daigle
URL:https://www.northparish.org/event/band-practice/2023-11-21/
LOCATION:Freeman Hall & Parlor at North Parish\, 190 Academy Road\, North Andover\, MA\, 01845\, United States
CATEGORIES:Exclude from Home
END:VEVENT
BEGIN:VEVENT
DTSTART;TZID=America/New_York:20231120T180000
DTEND;TZID=America/New_York:20231120T210000
DTSTAMP:20260421T083448
CREATED:20231108T132200Z
LAST-MODIFIED:20231108T132200Z
UID:10007563-1700503200-1700514000@www.northparish.org
SUMMARY:Band Practice
DESCRIPTION:
URL:https://www.northparish.org/event/band-practice-4/
LOCATION:Freeman Hall & Parlor at North Parish\, 190 Academy Road\, North Andover\, MA\, 01845\, United States
END:VEVENT
END:VCALENDAR