BEGIN:VCALENDAR
VERSION:2.0
PRODID:-//The North Parish Church of North Andover - ECPv6.15.13//NONSGML v1.0//EN
CALSCALE:GREGORIAN
METHOD:PUBLISH
X-WR-CALNAME:The North Parish Church of North Andover
X-ORIGINAL-URL:https://www.northparish.org
X-WR-CALDESC:Events for The North Parish Church of North Andover
REFRESH-INTERVAL;VALUE=DURATION:PT1H
X-Robots-Tag:noindex
X-PUBLISHED-TTL:PT1H
BEGIN:VTIMEZONE
TZID:America/New_York
BEGIN:DAYLIGHT
TZOFFSETFROM:-0500
TZOFFSETTO:-0400
TZNAME:EDT
DTSTART:20230312T070000
END:DAYLIGHT
BEGIN:STANDARD
TZOFFSETFROM:-0400
TZOFFSETTO:-0500
TZNAME:EST
DTSTART:20231105T060000
END:STANDARD
BEGIN:DAYLIGHT
TZOFFSETFROM:-0500
TZOFFSETTO:-0400
TZNAME:EDT
DTSTART:20240310T070000
END:DAYLIGHT
BEGIN:STANDARD
TZOFFSETFROM:-0400
TZOFFSETTO:-0500
TZNAME:EST
DTSTART:20241103T060000
END:STANDARD
BEGIN:DAYLIGHT
TZOFFSETFROM:-0500
TZOFFSETTO:-0400
TZNAME:EDT
DTSTART:20250309T070000
END:DAYLIGHT
BEGIN:STANDARD
TZOFFSETFROM:-0400
TZOFFSETTO:-0500
TZNAME:EST
DTSTART:20251102T060000
END:STANDARD
END:VTIMEZONE
BEGIN:VEVENT
DTSTART;TZID=America/New_York:20240912T110000
DTEND;TZID=America/New_York:20240912T150000
DTSTAMP:20260421T055351
CREATED:20240829T113654Z
LAST-MODIFIED:20240829T113654Z
UID:10010465-1726138800-1726153200@www.northparish.org
SUMMARY:CAT
DESCRIPTION:to make floral arrangements for Giving Garden
URL:https://www.northparish.org/event/cat/
LOCATION:Freeman Hall & Parlor at North Parish\, 190 Academy Road\, North Andover\, MA\, 01845\, United States
CATEGORIES:Exclude from Home
END:VEVENT
BEGIN:VEVENT
DTSTART;TZID=America/New_York:20240910T180000
DTEND;TZID=America/New_York:20240910T210000
DTSTAMP:20260421T055351
CREATED:20240907T171149Z
LAST-MODIFIED:20240907T171150Z
UID:10010507-1725991200-1726002000@www.northparish.org
SUMMARY:Band Practice
DESCRIPTION:
URL:https://www.northparish.org/event/band-practice-7-2/
LOCATION:Freeman Hall & Parlor at North Parish\, 190 Academy Road\, North Andover\, MA\, 01845\, United States
CATEGORIES:Exclude from Home
END:VEVENT
BEGIN:VEVENT
DTSTART;TZID=America/New_York:20240908T110000
DTEND;TZID=America/New_York:20240908T120000
DTSTAMP:20260421T055351
CREATED:20240617T144715Z
LAST-MODIFIED:20240618T130654Z
UID:10007203-1725793200-1725796800@www.northparish.org
SUMMARY:Second Sunday Lunch hosted by Caring Team
DESCRIPTION:
URL:https://www.northparish.org/event/second-sunday-lunch-2/
LOCATION:Freeman Hall & Parlor at North Parish\, 190 Academy Road\, North Andover\, MA\, 01845\, United States
END:VEVENT
BEGIN:VEVENT
DTSTART;TZID=America/New_York:20240907T200000
DTEND;TZID=America/New_York:20240907T220000
DTSTAMP:20260421T055351
CREATED:20240313T143635Z
LAST-MODIFIED:20240813T124209Z
UID:10007656-1725739200-1725746400@www.northparish.org
SUMMARY:Crossroads Music Series
DESCRIPTION:Catch Celtic folk-rock band\, House of Hamill\, in concert at Crossroads Music Series\, Saturday\, September 7 at 8PM. Tickets available at https://www.crossroadsmusicseries.org/events/house-of-hamill. \nWhether they’re ripping through a set of original jigs and reels\, adding lush three-part harmonies into traditional folk ballads\, performing incredibly fun and creative covers of rock classics\, or cracking up an audience with stories from the road\, House of Hamill puts on a show that captivates audiences from the very first note. \nPennsylvania-based House of Hamill is a fixture on festival stages across the US\, and have shared their music and stories on the country’s premier folk stages. Their version of “Pound a Week Rise” rose to #1 on the US Folk DJ charts\, and the video for their all-violin cover of “Sweet Child O’ Mine” amassed over 16 million views on Facebook\, where it was shared over 400\,000 times. \n“Great hooks\, eclectic arrangements and tuneful melodies that will certainly reach listeners from all walks of life.” – Jeff Goble\, Folk n Rock \n“An extraordinary musical experience.” – Anita Lock\, Irish Music Magazine
URL:https://www.northparish.org/event/crossroads-music-series-6/
LOCATION:Freeman Hall & Parlor at North Parish\, 190 Academy Road\, North Andover\, MA\, 01845\, United States
END:VEVENT
BEGIN:VEVENT
DTSTART;TZID=America/New_York:20240907T150000
DTEND;TZID=America/New_York:20240907T230000
DTSTAMP:20260421T055351
CREATED:20240313T143328Z
LAST-MODIFIED:20240313T143328Z
UID:10007654-1725721200-1725750000@www.northparish.org
SUMMARY:Crossroads Music Series set-up
DESCRIPTION:
URL:https://www.northparish.org/event/crossroads-music-series-set-up-4/
LOCATION:Freeman Hall & Parlor at North Parish\, 190 Academy Road\, North Andover\, MA\, 01845\, United States
END:VEVENT
BEGIN:VEVENT
DTSTART;TZID=America/New_York:20240905T180000
DTEND;TZID=America/New_York:20240905T210000
DTSTAMP:20260421T055351
CREATED:20240801T131836Z
LAST-MODIFIED:20240801T131836Z
UID:10010411-1725559200-1725570000@www.northparish.org
SUMMARY:Band Practice
DESCRIPTION:Contact is Tony Daigle
URL:https://www.northparish.org/event/band-practice-6/2024-09-05/
LOCATION:Freeman Hall & Parlor at North Parish\, 190 Academy Road\, North Andover\, MA\, 01845\, United States
CATEGORIES:Exclude from Home
END:VEVENT
BEGIN:VEVENT
DTSTART;TZID=America/New_York:20240829T180000
DTEND;TZID=America/New_York:20240829T210000
DTSTAMP:20260421T055351
CREATED:20240801T131836Z
LAST-MODIFIED:20240801T131836Z
UID:10010410-1724954400-1724965200@www.northparish.org
SUMMARY:Band Practice
DESCRIPTION:Contact is Tony Daigle
URL:https://www.northparish.org/event/band-practice-6/2024-08-29/
LOCATION:Freeman Hall & Parlor at North Parish\, 190 Academy Road\, North Andover\, MA\, 01845\, United States
CATEGORIES:Exclude from Home
END:VEVENT
BEGIN:VEVENT
DTSTART;TZID=America/New_York:20240822T180000
DTEND;TZID=America/New_York:20240822T210000
DTSTAMP:20260421T055351
CREATED:20240801T131836Z
LAST-MODIFIED:20240801T131836Z
UID:10010409-1724349600-1724360400@www.northparish.org
SUMMARY:Band Practice
DESCRIPTION:Contact is Tony Daigle
URL:https://www.northparish.org/event/band-practice-6/2024-08-22/
LOCATION:Freeman Hall & Parlor at North Parish\, 190 Academy Road\, North Andover\, MA\, 01845\, United States
CATEGORIES:Exclude from Home
END:VEVENT
BEGIN:VEVENT
DTSTART;TZID=America/New_York:20240801T180000
DTEND;TZID=America/New_York:20240801T210000
DTSTAMP:20260421T055351
CREATED:20240801T131836Z
LAST-MODIFIED:20240801T131836Z
UID:10010408-1722535200-1722546000@www.northparish.org
SUMMARY:Band Practice
DESCRIPTION:Contact is Tony Daigle
URL:https://www.northparish.org/event/band-practice-6/2024-08-01/
LOCATION:Freeman Hall & Parlor at North Parish\, 190 Academy Road\, North Andover\, MA\, 01845\, United States
CATEGORIES:Exclude from Home
END:VEVENT
BEGIN:VEVENT
DTSTART;TZID=America/New_York:20240614T180000
DTEND;TZID=America/New_York:20240614T220000
DTSTAMP:20260421T055351
CREATED:20230517T133557Z
LAST-MODIFIED:20230517T133557Z
UID:10007084-1718388000-1718402400@www.northparish.org
SUMMARY:Wedding Welcome "Open Mic" Night
DESCRIPTION:Contact is Janis Scanlon \nParish Hall\, Kitchen
URL:https://www.northparish.org/event/wedding-welcome-open-mic-night/
LOCATION:Freeman Hall & Parlor at North Parish\, 190 Academy Road\, North Andover\, MA\, 01845\, United States
END:VEVENT
BEGIN:VEVENT
DTSTART;TZID=America/New_York:20240609T110000
DTEND;TZID=America/New_York:20240609T120000
DTSTAMP:20260421T055351
CREATED:20240401T123302Z
LAST-MODIFIED:20240401T123302Z
UID:10007081-1717930800-1717934400@www.northparish.org
SUMMARY:Second Sunday Lunch hosted by Great Pond Sangha
DESCRIPTION:
URL:https://www.northparish.org/event/second-sunday-lunch-hosted-by-great-pond-sangha/
LOCATION:Freeman Hall & Parlor at North Parish\, 190 Academy Road\, North Andover\, MA\, 01845\, United States
END:VEVENT
BEGIN:VEVENT
DTSTART;TZID=America/New_York:20240608T200000
DTEND;TZID=America/New_York:20240608T220000
DTSTAMP:20260421T055351
CREATED:20220505T163122Z
LAST-MODIFIED:20231227T190604Z
UID:10007000-1717876800-1717884000@www.northparish.org
SUMMARY:Crossroads Music Series
DESCRIPTION:For more information\, please see the Crossroads Music Series website. \n 
URL:https://www.northparish.org/event/crossroads-music-series-2-2022-09-10-2022-11-05-2022-11-12-2023-03-11-2023-05-13-2023-10-14-2024-05-11/2024-06-08/
LOCATION:Freeman Hall & Parlor at North Parish\, 190 Academy Road\, North Andover\, MA\, 01845\, United States
END:VEVENT
BEGIN:VEVENT
DTSTART;TZID=America/New_York:20240608T150000
DTEND;TZID=America/New_York:20240608T230000
DTSTAMP:20260421T055351
CREATED:20220330T220332Z
LAST-MODIFIED:20230613T154224Z
UID:10005181-1717858800-1717887600@www.northparish.org
SUMMARY:Crossroads Music Series Set-up
DESCRIPTION:Crossroads Music Series Set up and Clean up (3pm to 11pm) for 8-10pm show.  Contact is Dave Kovner
URL:https://www.northparish.org/event/crossroads-music-series-set-up-2-2023-01-14/2024-06-08/
LOCATION:Freeman Hall & Parlor at North Parish\, 190 Academy Road\, North Andover\, MA\, 01845\, United States
END:VEVENT
BEGIN:VEVENT
DTSTART;TZID=America/New_York:20240530T180000
DTEND;TZID=America/New_York:20240530T210000
DTSTAMP:20260421T055351
CREATED:20240515T192624Z
LAST-MODIFIED:20240522T115954Z
UID:10007114-1717092000-1717102800@www.northparish.org
SUMMARY:Climate Justice May Potluck Dinner (Freeman Hall)
DESCRIPTION:Climate Justice Potluck Dinner will be held on May 30th in Freeman Hall. Please bring a vegetarian or vegan dish to share\, or join us as a guest of the Climate Justice Group. Please label food that contains nuts or gluten and if it is vegan. RSVP to climatejustice@northparish.org.
URL:https://www.northparish.org/event/climate-justice-may-potluck-dinner/
LOCATION:Freeman Hall & Parlor at North Parish\, 190 Academy Road\, North Andover\, MA\, 01845\, United States
END:VEVENT
BEGIN:VEVENT
DTSTART;TZID=America/New_York:20240511T200000
DTEND;TZID=America/New_York:20240511T220000
DTSTAMP:20260421T055351
CREATED:20220505T163122Z
LAST-MODIFIED:20231227T190604Z
UID:10006999-1715457600-1715464800@www.northparish.org
SUMMARY:Crossroads Music Series
DESCRIPTION:For more information\, please see the Crossroads Music Series website. \n 
URL:https://www.northparish.org/event/crossroads-music-series-2-2022-09-10-2022-11-05-2022-11-12-2023-03-11-2023-05-13-2023-10-14-2024-05-11/2024-05-11/
LOCATION:Freeman Hall & Parlor at North Parish\, 190 Academy Road\, North Andover\, MA\, 01845\, United States
END:VEVENT
BEGIN:VEVENT
DTSTART;TZID=America/New_York:20240511T150000
DTEND;TZID=America/New_York:20240511T230000
DTSTAMP:20260421T055351
CREATED:20220330T220332Z
LAST-MODIFIED:20230613T154224Z
UID:10005180-1715439600-1715468400@www.northparish.org
SUMMARY:Crossroads Music Series Set-up
DESCRIPTION:Crossroads Music Series Set up and Clean up (3pm to 11pm) for 8-10pm show.  Contact is Dave Kovner
URL:https://www.northparish.org/event/crossroads-music-series-set-up-2-2023-01-14/2024-05-11/
LOCATION:Freeman Hall & Parlor at North Parish\, 190 Academy Road\, North Andover\, MA\, 01845\, United States
END:VEVENT
BEGIN:VEVENT
DTSTART;TZID=America/New_York:20240505T110000
DTEND;TZID=America/New_York:20240505T120000
DTSTAMP:20260421T055351
CREATED:20240401T123112Z
LAST-MODIFIED:20240401T123112Z
UID:10007686-1714906800-1714910400@www.northparish.org
SUMMARY:Sunday Luncheon hosted by Music/Choir
DESCRIPTION:
URL:https://www.northparish.org/event/sunday-luncheon-hosted-by-music-choir/
LOCATION:Freeman Hall & Parlor at North Parish\, 190 Academy Road\, North Andover\, MA\, 01845\, United States
END:VEVENT
BEGIN:VEVENT
DTSTART;TZID=America/New_York:20240504T090000
DTEND;TZID=America/New_York:20240504T140000
DTSTAMP:20260421T055351
CREATED:20230605T164844Z
LAST-MODIFIED:20240502T215153Z
UID:10007100-1714813200-1714831200@www.northparish.org
SUMMARY:North Parish Yard Sale
DESCRIPTION:
URL:https://www.northparish.org/event/north-parish-yard-sale/
LOCATION:Freeman Hall & Parlor at North Parish\, 190 Academy Road\, North Andover\, MA\, 01845\, United States
END:VEVENT
BEGIN:VEVENT
DTSTART;TZID=America/New_York:20240503T120000
DTEND;TZID=America/New_York:20240503T170000
DTSTAMP:20260421T055351
CREATED:20230605T164956Z
LAST-MODIFIED:20240327T115843Z
UID:10007103-1714737600-1714755600@www.northparish.org
SUMMARY:NP Yard Sale drop-off
DESCRIPTION:
URL:https://www.northparish.org/event/np-yard-sale-set-up/2024-05-03/
LOCATION:Freeman Hall & Parlor at North Parish\, 190 Academy Road\, North Andover\, MA\, 01845\, United States
END:VEVENT
BEGIN:VEVENT
DTSTART;TZID=America/New_York:20240502T100000
DTEND;TZID=America/New_York:20240502T160000
DTSTAMP:20260421T055351
CREATED:20230605T164956Z
LAST-MODIFIED:20240327T115843Z
UID:10007102-1714644000-1714665600@www.northparish.org
SUMMARY:NP Yard Sale drop-off
DESCRIPTION:
URL:https://www.northparish.org/event/np-yard-sale-set-up/2024-05-02/
LOCATION:Freeman Hall & Parlor at North Parish\, 190 Academy Road\, North Andover\, MA\, 01845\, United States
END:VEVENT
BEGIN:VEVENT
DTSTART;TZID=America/New_York:20240428T120000
DTEND;TZID=America/New_York:20240428T170000
DTSTAMP:20260421T055351
CREATED:20230605T164956Z
LAST-MODIFIED:20240327T115843Z
UID:10007101-1714305600-1714323600@www.northparish.org
SUMMARY:NP Yard Sale drop-off
DESCRIPTION:
URL:https://www.northparish.org/event/np-yard-sale-set-up/2024-04-28/
LOCATION:Freeman Hall & Parlor at North Parish\, 190 Academy Road\, North Andover\, MA\, 01845\, United States
END:VEVENT
BEGIN:VEVENT
DTSTART;VALUE=DATE:20240428
DTEND;VALUE=DATE:20240505
DTSTAMP:20260421T055351
CREATED:20240327T120005Z
LAST-MODIFIED:20240327T120005Z
UID:10007678-1714262400-1714867199@www.northparish.org
SUMMARY:Yard Sale set-up
DESCRIPTION:
URL:https://www.northparish.org/event/yard-sale-set-up/
LOCATION:Freeman Hall & Parlor at North Parish\, 190 Academy Road\, North Andover\, MA\, 01845\, United States
END:VEVENT
BEGIN:VEVENT
DTSTART;TZID=America/New_York:20240414T110000
DTEND;TZID=America/New_York:20240414T123000
DTSTAMP:20260421T055351
CREATED:20230817T134116Z
LAST-MODIFIED:20240401T122853Z
UID:10007169-1713092400-1713097800@www.northparish.org
SUMMARY:Second Sunday Lunch hosted by Crossroads Music Series
DESCRIPTION:
URL:https://www.northparish.org/event/second-sunday-lunch-2024-04-14/
LOCATION:Freeman Hall & Parlor at North Parish\, 190 Academy Road\, North Andover\, MA\, 01845\, United States
END:VEVENT
BEGIN:VEVENT
DTSTART;TZID=America/New_York:20240413T200000
DTEND;TZID=America/New_York:20240413T220000
DTSTAMP:20260421T055351
CREATED:20220505T163122Z
LAST-MODIFIED:20231227T190604Z
UID:10006998-1713038400-1713045600@www.northparish.org
SUMMARY:Crossroads Music Series
DESCRIPTION:For more information\, please see the Crossroads Music Series website. \n 
URL:https://www.northparish.org/event/crossroads-music-series-2-2022-09-10-2022-11-05-2022-11-12-2023-03-11-2023-05-13-2023-10-14-2024-05-11/2024-04-13/
LOCATION:Freeman Hall & Parlor at North Parish\, 190 Academy Road\, North Andover\, MA\, 01845\, United States
END:VEVENT
BEGIN:VEVENT
DTSTART;TZID=America/New_York:20240411T170000
DTEND;TZID=America/New_York:20240411T183000
DTSTAMP:20260421T055351
CREATED:20240409T155717Z
LAST-MODIFIED:20240409T155717Z
UID:10007093-1712854800-1712860200@www.northparish.org
SUMMARY:Racial Justice Team Planning Meeting
DESCRIPTION:
URL:https://www.northparish.org/event/racial-justice-team-planning-meeting-6/
LOCATION:Freeman Hall & Parlor at North Parish\, 190 Academy Road\, North Andover\, MA\, 01845\, United States
ORGANIZER;CN="Racial Justice Team":MAILTO:RacialJustice@northparish.org
END:VEVENT
BEGIN:VEVENT
DTSTART;TZID=America/New_York:20240406T200000
DTEND;TZID=America/New_York:20240406T220000
DTSTAMP:20260421T055351
CREATED:20220505T163122Z
LAST-MODIFIED:20240320T190201Z
UID:10006979-1712433600-1712440800@www.northparish.org
SUMMARY:Crossroads Music Series
DESCRIPTION:Join us for The Mallett Brothers Band in concert at Crossroads Music Series at North Parish on April 6 at 8pm. With a style that ranges from alt-country to Americana\, jam and roots rock\, this Maine band’s sound is a musical melting pot that’s influenced by the singer/songwriter tradition as well as rock\, classic country and psychedelic sounds. Celebrate Crossroads’ 35th anniversary at this special rocking show! Tickets available at https://www.crossroadsmusicseries.org/events/the-mallett-brothers-band \n  \n  \n  \nFor more information\, please see the Crossroads Music Series website. \n 
URL:https://www.northparish.org/event/crossroads-music-series-2-2022-09-10-2022-11-05-2022-11-12-2023-03-11-2023-05-13-2023-10-14-2024-04-13/
LOCATION:Freeman Hall & Parlor at North Parish\, 190 Academy Road\, North Andover\, MA\, 01845\, United States
END:VEVENT
BEGIN:VEVENT
DTSTART;TZID=America/New_York:20240406T150000
DTEND;TZID=America/New_York:20240406T230000
DTSTAMP:20260421T055351
CREATED:20220330T220332Z
LAST-MODIFIED:20230913T154704Z
UID:10006976-1712415600-1712444400@www.northparish.org
SUMMARY:Crossroads Music Series Set-up
DESCRIPTION:Crossroads Music Series Set up and Clean up (3pm to 11pm) for 8-10pm show.  Contact is Dave Kovner
URL:https://www.northparish.org/event/crossroads-music-series-set-up-2-2023-01-14-2024-04-13/
LOCATION:Freeman Hall & Parlor at North Parish\, 190 Academy Road\, North Andover\, MA\, 01845\, United States
END:VEVENT
BEGIN:VEVENT
DTSTART;TZID=America/New_York:20240316T200000
DTEND;TZID=America/New_York:20240316T220000
DTSTAMP:20260421T055351
CREATED:20220505T163122Z
LAST-MODIFIED:20240220T125113Z
UID:10006978-1710619200-1710626400@www.northparish.org
SUMMARY:Jill Andrews at Crossroads Music Series
DESCRIPTION:Don’t miss Nashville singer-songwriter\, Jill Andrews\, who returns to Crossroads Music Series Saturday\, March 16 at 8PM. Jill has delivered irresistibly melodic\, genre-bending music for nearly two decades. Her 2023 album\, Modern Age\, is dripping in reverence for a simpler time\, when the world was as big as your high school\, when love was waiting by the phone\, when we wondered about the future instead of lived in it.  For more information\, please see the Crossroads Music Series website. \n 
URL:https://www.northparish.org/event/crossroads-music-series-2-2022-09-10-2022-11-05-2022-11-12-2023-03-11-2023-05-13-2023-10-14-2024-03-09/
LOCATION:Freeman Hall & Parlor at North Parish\, 190 Academy Road\, North Andover\, MA\, 01845\, United States
END:VEVENT
BEGIN:VEVENT
DTSTART;TZID=America/New_York:20240316T150000
DTEND;TZID=America/New_York:20240316T230000
DTSTAMP:20260421T055351
CREATED:20220330T220332Z
LAST-MODIFIED:20230829T180710Z
UID:10006975-1710601200-1710630000@www.northparish.org
SUMMARY:Crossroads Music Series Set-up
DESCRIPTION:Crossroads Music Series Set up and Clean up (3pm to 11pm) for 8-10pm show.  Contact is Dave Kovner
URL:https://www.northparish.org/event/crossroads-music-series-set-up-2-2023-01-14-2024-03-09/
LOCATION:Freeman Hall & Parlor at North Parish\, 190 Academy Road\, North Andover\, MA\, 01845\, United States
END:VEVENT
BEGIN:VEVENT
DTSTART;TZID=America/New_York:20240310T110000
DTEND;TZID=America/New_York:20240310T123000
DTSTAMP:20260421T055351
CREATED:20230817T134116Z
LAST-MODIFIED:20230817T134405Z
UID:10006537-1710068400-1710073800@www.northparish.org
SUMMARY:Second Sunday Lunch
DESCRIPTION:
URL:https://www.northparish.org/event/second-sunday-lunch/2024-03-10/
LOCATION:Freeman Hall & Parlor at North Parish\, 190 Academy Road\, North Andover\, MA\, 01845\, United States
END:VEVENT
END:VCALENDAR