BEGIN:VCALENDAR
VERSION:2.0
PRODID:-//The North Parish Church of North Andover - ECPv6.15.13//NONSGML v1.0//EN
CALSCALE:GREGORIAN
METHOD:PUBLISH
X-ORIGINAL-URL:https://www.northparish.org
X-WR-CALDESC:Events for The North Parish Church of North Andover
REFRESH-INTERVAL;VALUE=DURATION:PT1H
X-Robots-Tag:noindex
X-PUBLISHED-TTL:PT1H
BEGIN:VTIMEZONE
TZID:America/New_York
BEGIN:DAYLIGHT
TZOFFSETFROM:-0500
TZOFFSETTO:-0400
TZNAME:EDT
DTSTART:20260308T070000
END:DAYLIGHT
BEGIN:STANDARD
TZOFFSETFROM:-0400
TZOFFSETTO:-0500
TZNAME:EST
DTSTART:20261101T060000
END:STANDARD
BEGIN:DAYLIGHT
TZOFFSETFROM:-0500
TZOFFSETTO:-0400
TZNAME:EDT
DTSTART:20270314T070000
END:DAYLIGHT
BEGIN:STANDARD
TZOFFSETFROM:-0400
TZOFFSETTO:-0500
TZNAME:EST
DTSTART:20271107T060000
END:STANDARD
BEGIN:DAYLIGHT
TZOFFSETFROM:-0500
TZOFFSETTO:-0400
TZNAME:EDT
DTSTART:20280312T070000
END:DAYLIGHT
BEGIN:STANDARD
TZOFFSETFROM:-0400
TZOFFSETTO:-0500
TZNAME:EST
DTSTART:20281105T060000
END:STANDARD
END:VTIMEZONE
BEGIN:VEVENT
DTSTART;TZID=America/New_York:20270915T190000
DTEND;TZID=America/New_York:20270915T201500
DTSTAMP:20260421T193722
CREATED:20240701T013829Z
LAST-MODIFIED:20251216T113411Z
UID:10015272-1821034800-1821039300@www.northparish.org
SUMMARY:Guided Buddhist Meditation and Discussion
DESCRIPTION:
URL:https://www.northparish.org/event/guided-buddhist-meditation-and-discussion-2/2027-09-15/
LOCATION:Chapel at North Parish\, 190 Academy Road\, North Andover\, MA\, 01845-4022\, United States
END:VEVENT
BEGIN:VEVENT
DTSTART;TZID=America/New_York:20270916T093000
DTEND;TZID=America/New_York:20270916T113000
DTSTAMP:20260421T193722
CREATED:20220505T195412Z
LAST-MODIFIED:20250110T204343Z
UID:10008641-1821087000-1821094200@www.northparish.org
SUMMARY:Alanon
DESCRIPTION:
URL:https://www.northparish.org/event/alanon/2027-09-16/
LOCATION:Chapel at North Parish\, 190 Academy Road\, North Andover\, MA\, 01845-4022\, United States
END:VEVENT
BEGIN:VEVENT
DTSTART;TZID=America/New_York:20270920T183000
DTEND;TZID=America/New_York:20270920T203000
DTSTAMP:20260421T193722
CREATED:20220830T125339Z
LAST-MODIFIED:20240730T160405Z
UID:10009546-1821465000-1821472200@www.northparish.org
SUMMARY:McVagly
DESCRIPTION:McVagly meets weekly on Mondays 6:30 – 8:30pm. We are a LGBTQ+ community youth group for high school and college aged youth 14 – 23 years old. \nMeetings to be held in the North Parish Labyrinth.  If weather does not permit\, meetings will be held in the North Parish Chapel.  Contact is Tad Bickford
URL:https://www.northparish.org/event/mcvagly/2027-09-20/
LOCATION:Chapel at North Parish\, 190 Academy Road\, North Andover\, MA\, 01845-4022\, United States
END:VEVENT
BEGIN:VEVENT
DTSTART;TZID=America/New_York:20270923T093000
DTEND;TZID=America/New_York:20270923T113000
DTSTAMP:20260421T193722
CREATED:20220505T195412Z
LAST-MODIFIED:20250110T204343Z
UID:10008642-1821691800-1821699000@www.northparish.org
SUMMARY:Alanon
DESCRIPTION:
URL:https://www.northparish.org/event/alanon/2027-09-23/
LOCATION:Chapel at North Parish\, 190 Academy Road\, North Andover\, MA\, 01845-4022\, United States
END:VEVENT
BEGIN:VEVENT
DTSTART;TZID=America/New_York:20270927T183000
DTEND;TZID=America/New_York:20270927T203000
DTSTAMP:20260421T193722
CREATED:20220830T125339Z
LAST-MODIFIED:20240730T160405Z
UID:10009547-1822069800-1822077000@www.northparish.org
SUMMARY:McVagly
DESCRIPTION:McVagly meets weekly on Mondays 6:30 – 8:30pm. We are a LGBTQ+ community youth group for high school and college aged youth 14 – 23 years old. \nMeetings to be held in the North Parish Labyrinth.  If weather does not permit\, meetings will be held in the North Parish Chapel.  Contact is Tad Bickford
URL:https://www.northparish.org/event/mcvagly/2027-09-27/
LOCATION:Chapel at North Parish\, 190 Academy Road\, North Andover\, MA\, 01845-4022\, United States
END:VEVENT
BEGIN:VEVENT
DTSTART;TZID=America/New_York:20270930T093000
DTEND;TZID=America/New_York:20270930T113000
DTSTAMP:20260421T193722
CREATED:20220505T195412Z
LAST-MODIFIED:20250110T204343Z
UID:10008643-1822296600-1822303800@www.northparish.org
SUMMARY:Alanon
DESCRIPTION:
URL:https://www.northparish.org/event/alanon/2027-09-30/
LOCATION:Chapel at North Parish\, 190 Academy Road\, North Andover\, MA\, 01845-4022\, United States
END:VEVENT
BEGIN:VEVENT
DTSTART;TZID=America/New_York:20271004T183000
DTEND;TZID=America/New_York:20271004T203000
DTSTAMP:20260421T193722
CREATED:20220830T125339Z
LAST-MODIFIED:20240730T160405Z
UID:10009548-1822674600-1822681800@www.northparish.org
SUMMARY:McVagly
DESCRIPTION:McVagly meets weekly on Mondays 6:30 – 8:30pm. We are a LGBTQ+ community youth group for high school and college aged youth 14 – 23 years old. \nMeetings to be held in the North Parish Labyrinth.  If weather does not permit\, meetings will be held in the North Parish Chapel.  Contact is Tad Bickford
URL:https://www.northparish.org/event/mcvagly/2027-10-04/
LOCATION:Chapel at North Parish\, 190 Academy Road\, North Andover\, MA\, 01845-4022\, United States
END:VEVENT
BEGIN:VEVENT
DTSTART;TZID=America/New_York:20271006T183000
DTEND;TZID=America/New_York:20271006T190000
DTSTAMP:20260421T193722
CREATED:20250303T133730Z
LAST-MODIFIED:20250303T133730Z
UID:10012794-1822847400-1822849200@www.northparish.org
SUMMARY:Guided Buddhist Meditation and Discussion set-up
DESCRIPTION:
URL:https://www.northparish.org/event/guided-buddhist-meditation-and-discussion-set-up-2/2027-10-06/
LOCATION:Chapel at North Parish\, 190 Academy Road\, North Andover\, MA\, 01845-4022\, United States
END:VEVENT
BEGIN:VEVENT
DTSTART;TZID=America/New_York:20271006T190000
DTEND;TZID=America/New_York:20271006T201500
DTSTAMP:20260421T193722
CREATED:20250303T133807Z
LAST-MODIFIED:20250303T133807Z
UID:10012854-1822849200-1822853700@www.northparish.org
SUMMARY:Guided Buddhist Meditation and Discussion
DESCRIPTION:
URL:https://www.northparish.org/event/guided-buddhist-meditation-and-discussion-2023-06-07-2/2027-10-06/
LOCATION:Chapel at North Parish\, 190 Academy Road\, North Andover\, MA\, 01845-4022\, United States
END:VEVENT
BEGIN:VEVENT
DTSTART;TZID=America/New_York:20271007T093000
DTEND;TZID=America/New_York:20271007T113000
DTSTAMP:20260421T193722
CREATED:20220505T195412Z
LAST-MODIFIED:20250110T204343Z
UID:10008644-1822901400-1822908600@www.northparish.org
SUMMARY:Alanon
DESCRIPTION:
URL:https://www.northparish.org/event/alanon/2027-10-07/
LOCATION:Chapel at North Parish\, 190 Academy Road\, North Andover\, MA\, 01845-4022\, United States
END:VEVENT
BEGIN:VEVENT
DTSTART;TZID=America/New_York:20271011T183000
DTEND;TZID=America/New_York:20271011T203000
DTSTAMP:20260421T193722
CREATED:20220830T125339Z
LAST-MODIFIED:20240730T160405Z
UID:10009549-1823279400-1823286600@www.northparish.org
SUMMARY:McVagly
DESCRIPTION:McVagly meets weekly on Mondays 6:30 – 8:30pm. We are a LGBTQ+ community youth group for high school and college aged youth 14 – 23 years old. \nMeetings to be held in the North Parish Labyrinth.  If weather does not permit\, meetings will be held in the North Parish Chapel.  Contact is Tad Bickford
URL:https://www.northparish.org/event/mcvagly/2027-10-11/
LOCATION:Chapel at North Parish\, 190 Academy Road\, North Andover\, MA\, 01845-4022\, United States
END:VEVENT
BEGIN:VEVENT
DTSTART;TZID=America/New_York:20271014T093000
DTEND;TZID=America/New_York:20271014T113000
DTSTAMP:20260421T193722
CREATED:20220505T195412Z
LAST-MODIFIED:20250110T204343Z
UID:10008645-1823506200-1823513400@www.northparish.org
SUMMARY:Alanon
DESCRIPTION:
URL:https://www.northparish.org/event/alanon/2027-10-14/
LOCATION:Chapel at North Parish\, 190 Academy Road\, North Andover\, MA\, 01845-4022\, United States
END:VEVENT
BEGIN:VEVENT
DTSTART;TZID=America/New_York:20271018T183000
DTEND;TZID=America/New_York:20271018T203000
DTSTAMP:20260421T193722
CREATED:20220830T125339Z
LAST-MODIFIED:20240730T160405Z
UID:10009550-1823884200-1823891400@www.northparish.org
SUMMARY:McVagly
DESCRIPTION:McVagly meets weekly on Mondays 6:30 – 8:30pm. We are a LGBTQ+ community youth group for high school and college aged youth 14 – 23 years old. \nMeetings to be held in the North Parish Labyrinth.  If weather does not permit\, meetings will be held in the North Parish Chapel.  Contact is Tad Bickford
URL:https://www.northparish.org/event/mcvagly/2027-10-18/
LOCATION:Chapel at North Parish\, 190 Academy Road\, North Andover\, MA\, 01845-4022\, United States
END:VEVENT
BEGIN:VEVENT
DTSTART;TZID=America/New_York:20271020T183000
DTEND;TZID=America/New_York:20271020T190000
DTSTAMP:20260421T193722
CREATED:20220915T143234Z
LAST-MODIFIED:20251216T113324Z
UID:10015175-1824057000-1824058800@www.northparish.org
SUMMARY:Guided Buddhist Meditation and Discussion set-up
DESCRIPTION:
URL:https://www.northparish.org/event/guided-buddhist-meditation-and-discussion-set-up-2023-06-07-2023-06-21-2/2027-10-20/
LOCATION:Chapel at North Parish\, 190 Academy Road\, North Andover\, MA\, 01845-4022\, United States
END:VEVENT
BEGIN:VEVENT
DTSTART;TZID=America/New_York:20271020T190000
DTEND;TZID=America/New_York:20271020T201500
DTSTAMP:20260421T193722
CREATED:20240701T013829Z
LAST-MODIFIED:20251216T113411Z
UID:10015273-1824058800-1824063300@www.northparish.org
SUMMARY:Guided Buddhist Meditation and Discussion
DESCRIPTION:
URL:https://www.northparish.org/event/guided-buddhist-meditation-and-discussion-2/2027-10-20/
LOCATION:Chapel at North Parish\, 190 Academy Road\, North Andover\, MA\, 01845-4022\, United States
END:VEVENT
BEGIN:VEVENT
DTSTART;TZID=America/New_York:20271021T093000
DTEND;TZID=America/New_York:20271021T113000
DTSTAMP:20260421T193722
CREATED:20220505T195412Z
LAST-MODIFIED:20250110T204343Z
UID:10008646-1824111000-1824118200@www.northparish.org
SUMMARY:Alanon
DESCRIPTION:
URL:https://www.northparish.org/event/alanon/2027-10-21/
LOCATION:Chapel at North Parish\, 190 Academy Road\, North Andover\, MA\, 01845-4022\, United States
END:VEVENT
BEGIN:VEVENT
DTSTART;TZID=America/New_York:20271025T183000
DTEND;TZID=America/New_York:20271025T203000
DTSTAMP:20260421T193722
CREATED:20220830T125339Z
LAST-MODIFIED:20240730T160405Z
UID:10009551-1824489000-1824496200@www.northparish.org
SUMMARY:McVagly
DESCRIPTION:McVagly meets weekly on Mondays 6:30 – 8:30pm. We are a LGBTQ+ community youth group for high school and college aged youth 14 – 23 years old. \nMeetings to be held in the North Parish Labyrinth.  If weather does not permit\, meetings will be held in the North Parish Chapel.  Contact is Tad Bickford
URL:https://www.northparish.org/event/mcvagly/2027-10-25/
LOCATION:Chapel at North Parish\, 190 Academy Road\, North Andover\, MA\, 01845-4022\, United States
END:VEVENT
BEGIN:VEVENT
DTSTART;TZID=America/New_York:20271028T093000
DTEND;TZID=America/New_York:20271028T113000
DTSTAMP:20260421T193722
CREATED:20220505T195412Z
LAST-MODIFIED:20250110T204343Z
UID:10008647-1824715800-1824723000@www.northparish.org
SUMMARY:Alanon
DESCRIPTION:
URL:https://www.northparish.org/event/alanon/2027-10-28/
LOCATION:Chapel at North Parish\, 190 Academy Road\, North Andover\, MA\, 01845-4022\, United States
END:VEVENT
BEGIN:VEVENT
DTSTART;TZID=America/New_York:20271101T183000
DTEND;TZID=America/New_York:20271101T203000
DTSTAMP:20260421T193722
CREATED:20220830T125339Z
LAST-MODIFIED:20240730T160405Z
UID:10009552-1825093800-1825101000@www.northparish.org
SUMMARY:McVagly
DESCRIPTION:McVagly meets weekly on Mondays 6:30 – 8:30pm. We are a LGBTQ+ community youth group for high school and college aged youth 14 – 23 years old. \nMeetings to be held in the North Parish Labyrinth.  If weather does not permit\, meetings will be held in the North Parish Chapel.  Contact is Tad Bickford
URL:https://www.northparish.org/event/mcvagly/2027-11-01/
LOCATION:Chapel at North Parish\, 190 Academy Road\, North Andover\, MA\, 01845-4022\, United States
END:VEVENT
BEGIN:VEVENT
DTSTART;TZID=America/New_York:20271103T183000
DTEND;TZID=America/New_York:20271103T190000
DTSTAMP:20260421T193722
CREATED:20250303T133730Z
LAST-MODIFIED:20250303T133730Z
UID:10012795-1825266600-1825268400@www.northparish.org
SUMMARY:Guided Buddhist Meditation and Discussion set-up
DESCRIPTION:
URL:https://www.northparish.org/event/guided-buddhist-meditation-and-discussion-set-up-2/2027-11-03/
LOCATION:Chapel at North Parish\, 190 Academy Road\, North Andover\, MA\, 01845-4022\, United States
END:VEVENT
BEGIN:VEVENT
DTSTART;TZID=America/New_York:20271103T190000
DTEND;TZID=America/New_York:20271103T201500
DTSTAMP:20260421T193722
CREATED:20250303T133807Z
LAST-MODIFIED:20250303T133807Z
UID:10012855-1825268400-1825272900@www.northparish.org
SUMMARY:Guided Buddhist Meditation and Discussion
DESCRIPTION:
URL:https://www.northparish.org/event/guided-buddhist-meditation-and-discussion-2023-06-07-2/2027-11-03/
LOCATION:Chapel at North Parish\, 190 Academy Road\, North Andover\, MA\, 01845-4022\, United States
END:VEVENT
BEGIN:VEVENT
DTSTART;TZID=America/New_York:20271104T093000
DTEND;TZID=America/New_York:20271104T113000
DTSTAMP:20260421T193722
CREATED:20220505T195412Z
LAST-MODIFIED:20250110T204343Z
UID:10008648-1825320600-1825327800@www.northparish.org
SUMMARY:Alanon
DESCRIPTION:
URL:https://www.northparish.org/event/alanon/2027-11-04/
LOCATION:Chapel at North Parish\, 190 Academy Road\, North Andover\, MA\, 01845-4022\, United States
END:VEVENT
BEGIN:VEVENT
DTSTART;TZID=America/New_York:20271108T183000
DTEND;TZID=America/New_York:20271108T203000
DTSTAMP:20260421T193722
CREATED:20220830T125339Z
LAST-MODIFIED:20240730T160405Z
UID:10009553-1825698600-1825705800@www.northparish.org
SUMMARY:McVagly
DESCRIPTION:McVagly meets weekly on Mondays 6:30 – 8:30pm. We are a LGBTQ+ community youth group for high school and college aged youth 14 – 23 years old. \nMeetings to be held in the North Parish Labyrinth.  If weather does not permit\, meetings will be held in the North Parish Chapel.  Contact is Tad Bickford
URL:https://www.northparish.org/event/mcvagly/2027-11-08/
LOCATION:Chapel at North Parish\, 190 Academy Road\, North Andover\, MA\, 01845-4022\, United States
END:VEVENT
BEGIN:VEVENT
DTSTART;TZID=America/New_York:20271111T093000
DTEND;TZID=America/New_York:20271111T113000
DTSTAMP:20260421T193722
CREATED:20220505T195412Z
LAST-MODIFIED:20250110T204343Z
UID:10008649-1825925400-1825932600@www.northparish.org
SUMMARY:Alanon
DESCRIPTION:
URL:https://www.northparish.org/event/alanon/2027-11-11/
LOCATION:Chapel at North Parish\, 190 Academy Road\, North Andover\, MA\, 01845-4022\, United States
END:VEVENT
BEGIN:VEVENT
DTSTART;TZID=America/New_York:20271115T183000
DTEND;TZID=America/New_York:20271115T203000
DTSTAMP:20260421T193722
CREATED:20220830T125339Z
LAST-MODIFIED:20240730T160405Z
UID:10009554-1826303400-1826310600@www.northparish.org
SUMMARY:McVagly
DESCRIPTION:McVagly meets weekly on Mondays 6:30 – 8:30pm. We are a LGBTQ+ community youth group for high school and college aged youth 14 – 23 years old. \nMeetings to be held in the North Parish Labyrinth.  If weather does not permit\, meetings will be held in the North Parish Chapel.  Contact is Tad Bickford
URL:https://www.northparish.org/event/mcvagly/2027-11-15/
LOCATION:Chapel at North Parish\, 190 Academy Road\, North Andover\, MA\, 01845-4022\, United States
END:VEVENT
BEGIN:VEVENT
DTSTART;TZID=America/New_York:20271117T183000
DTEND;TZID=America/New_York:20271117T190000
DTSTAMP:20260421T193722
CREATED:20220915T143234Z
LAST-MODIFIED:20251216T113324Z
UID:10015176-1826476200-1826478000@www.northparish.org
SUMMARY:Guided Buddhist Meditation and Discussion set-up
DESCRIPTION:
URL:https://www.northparish.org/event/guided-buddhist-meditation-and-discussion-set-up-2023-06-07-2023-06-21-2/2027-11-17/
LOCATION:Chapel at North Parish\, 190 Academy Road\, North Andover\, MA\, 01845-4022\, United States
END:VEVENT
BEGIN:VEVENT
DTSTART;TZID=America/New_York:20271117T190000
DTEND;TZID=America/New_York:20271117T201500
DTSTAMP:20260421T193722
CREATED:20240701T013829Z
LAST-MODIFIED:20251216T113411Z
UID:10015274-1826478000-1826482500@www.northparish.org
SUMMARY:Guided Buddhist Meditation and Discussion
DESCRIPTION:
URL:https://www.northparish.org/event/guided-buddhist-meditation-and-discussion-2/2027-11-17/
LOCATION:Chapel at North Parish\, 190 Academy Road\, North Andover\, MA\, 01845-4022\, United States
END:VEVENT
BEGIN:VEVENT
DTSTART;TZID=America/New_York:20271118T093000
DTEND;TZID=America/New_York:20271118T113000
DTSTAMP:20260421T193722
CREATED:20220505T195412Z
LAST-MODIFIED:20250110T204343Z
UID:10008650-1826530200-1826537400@www.northparish.org
SUMMARY:Alanon
DESCRIPTION:
URL:https://www.northparish.org/event/alanon/2027-11-18/
LOCATION:Chapel at North Parish\, 190 Academy Road\, North Andover\, MA\, 01845-4022\, United States
END:VEVENT
BEGIN:VEVENT
DTSTART;TZID=America/New_York:20271122T183000
DTEND;TZID=America/New_York:20271122T203000
DTSTAMP:20260421T193722
CREATED:20220830T125339Z
LAST-MODIFIED:20240730T160405Z
UID:10009555-1826908200-1826915400@www.northparish.org
SUMMARY:McVagly
DESCRIPTION:McVagly meets weekly on Mondays 6:30 – 8:30pm. We are a LGBTQ+ community youth group for high school and college aged youth 14 – 23 years old. \nMeetings to be held in the North Parish Labyrinth.  If weather does not permit\, meetings will be held in the North Parish Chapel.  Contact is Tad Bickford
URL:https://www.northparish.org/event/mcvagly/2027-11-22/
LOCATION:Chapel at North Parish\, 190 Academy Road\, North Andover\, MA\, 01845-4022\, United States
END:VEVENT
BEGIN:VEVENT
DTSTART;TZID=America/New_York:20271125T093000
DTEND;TZID=America/New_York:20271125T113000
DTSTAMP:20260421T193722
CREATED:20220505T195412Z
LAST-MODIFIED:20250110T204343Z
UID:10008651-1827135000-1827142200@www.northparish.org
SUMMARY:Alanon
DESCRIPTION:
URL:https://www.northparish.org/event/alanon/2027-11-25/
LOCATION:Chapel at North Parish\, 190 Academy Road\, North Andover\, MA\, 01845-4022\, United States
END:VEVENT
END:VCALENDAR