BEGIN:VCALENDAR
VERSION:2.0
PRODID:-//The North Parish Church of North Andover - ECPv6.15.13//NONSGML v1.0//EN
CALSCALE:GREGORIAN
METHOD:PUBLISH
X-WR-CALNAME:The North Parish Church of North Andover
X-ORIGINAL-URL:https://www.northparish.org
X-WR-CALDESC:Events for The North Parish Church of North Andover
REFRESH-INTERVAL;VALUE=DURATION:PT1H
X-Robots-Tag:noindex
X-PUBLISHED-TTL:PT1H
BEGIN:VTIMEZONE
TZID:America/New_York
BEGIN:DAYLIGHT
TZOFFSETFROM:-0500
TZOFFSETTO:-0400
TZNAME:EDT
DTSTART:20260308T070000
END:DAYLIGHT
BEGIN:STANDARD
TZOFFSETFROM:-0400
TZOFFSETTO:-0500
TZNAME:EST
DTSTART:20261101T060000
END:STANDARD
BEGIN:DAYLIGHT
TZOFFSETFROM:-0500
TZOFFSETTO:-0400
TZNAME:EDT
DTSTART:20270314T070000
END:DAYLIGHT
BEGIN:STANDARD
TZOFFSETFROM:-0400
TZOFFSETTO:-0500
TZNAME:EST
DTSTART:20271107T060000
END:STANDARD
BEGIN:DAYLIGHT
TZOFFSETFROM:-0500
TZOFFSETTO:-0400
TZNAME:EDT
DTSTART:20280312T070000
END:DAYLIGHT
BEGIN:STANDARD
TZOFFSETFROM:-0400
TZOFFSETTO:-0500
TZNAME:EST
DTSTART:20281105T060000
END:STANDARD
END:VTIMEZONE
BEGIN:VEVENT
DTSTART;TZID=America/New_York:20270426T183000
DTEND;TZID=America/New_York:20270426T203000
DTSTAMP:20260421T123022
CREATED:20220830T125339Z
LAST-MODIFIED:20240730T160405Z
UID:10009525-1808764200-1808771400@www.northparish.org
SUMMARY:McVagly
DESCRIPTION:McVagly meets weekly on Mondays 6:30 – 8:30pm. We are a LGBTQ+ community youth group for high school and college aged youth 14 – 23 years old. \nMeetings to be held in the North Parish Labyrinth.  If weather does not permit\, meetings will be held in the North Parish Chapel.  Contact is Tad Bickford
URL:https://www.northparish.org/event/mcvagly/2027-04-26/
LOCATION:Chapel at North Parish\, 190 Academy Road\, North Andover\, MA\, 01845-4022\, United States
END:VEVENT
BEGIN:VEVENT
DTSTART;TZID=America/New_York:20270429T093000
DTEND;TZID=America/New_York:20270429T113000
DTSTAMP:20260421T123022
CREATED:20220505T195412Z
LAST-MODIFIED:20250110T204343Z
UID:10008621-1808991000-1808998200@www.northparish.org
SUMMARY:Alanon
DESCRIPTION:
URL:https://www.northparish.org/event/alanon/2027-04-29/
LOCATION:Chapel at North Parish\, 190 Academy Road\, North Andover\, MA\, 01845-4022\, United States
END:VEVENT
BEGIN:VEVENT
DTSTART;TZID=America/New_York:20270503T183000
DTEND;TZID=America/New_York:20270503T203000
DTSTAMP:20260421T123022
CREATED:20220830T125339Z
LAST-MODIFIED:20240730T160405Z
UID:10009526-1809369000-1809376200@www.northparish.org
SUMMARY:McVagly
DESCRIPTION:McVagly meets weekly on Mondays 6:30 – 8:30pm. We are a LGBTQ+ community youth group for high school and college aged youth 14 – 23 years old. \nMeetings to be held in the North Parish Labyrinth.  If weather does not permit\, meetings will be held in the North Parish Chapel.  Contact is Tad Bickford
URL:https://www.northparish.org/event/mcvagly/2027-05-03/
LOCATION:Chapel at North Parish\, 190 Academy Road\, North Andover\, MA\, 01845-4022\, United States
END:VEVENT
BEGIN:VEVENT
DTSTART;TZID=America/New_York:20270505T183000
DTEND;TZID=America/New_York:20270505T190000
DTSTAMP:20260421T123022
CREATED:20250303T133730Z
LAST-MODIFIED:20250303T133730Z
UID:10012789-1809541800-1809543600@www.northparish.org
SUMMARY:Guided Buddhist Meditation and Discussion set-up
DESCRIPTION:
URL:https://www.northparish.org/event/guided-buddhist-meditation-and-discussion-set-up-2/2027-05-05/
LOCATION:Chapel at North Parish\, 190 Academy Road\, North Andover\, MA\, 01845-4022\, United States
END:VEVENT
BEGIN:VEVENT
DTSTART;TZID=America/New_York:20270505T190000
DTEND;TZID=America/New_York:20270505T201500
DTSTAMP:20260421T123022
CREATED:20250303T133807Z
LAST-MODIFIED:20250303T133807Z
UID:10012849-1809543600-1809548100@www.northparish.org
SUMMARY:Guided Buddhist Meditation and Discussion
DESCRIPTION:
URL:https://www.northparish.org/event/guided-buddhist-meditation-and-discussion-2023-06-07-2/2027-05-05/
LOCATION:Chapel at North Parish\, 190 Academy Road\, North Andover\, MA\, 01845-4022\, United States
END:VEVENT
BEGIN:VEVENT
DTSTART;TZID=America/New_York:20270506T093000
DTEND;TZID=America/New_York:20270506T113000
DTSTAMP:20260421T123022
CREATED:20220505T195412Z
LAST-MODIFIED:20250110T204343Z
UID:10008622-1809595800-1809603000@www.northparish.org
SUMMARY:Alanon
DESCRIPTION:
URL:https://www.northparish.org/event/alanon/2027-05-06/
LOCATION:Chapel at North Parish\, 190 Academy Road\, North Andover\, MA\, 01845-4022\, United States
END:VEVENT
BEGIN:VEVENT
DTSTART;TZID=America/New_York:20270510T183000
DTEND;TZID=America/New_York:20270510T203000
DTSTAMP:20260421T123022
CREATED:20220830T125339Z
LAST-MODIFIED:20240730T160405Z
UID:10009527-1809973800-1809981000@www.northparish.org
SUMMARY:McVagly
DESCRIPTION:McVagly meets weekly on Mondays 6:30 – 8:30pm. We are a LGBTQ+ community youth group for high school and college aged youth 14 – 23 years old. \nMeetings to be held in the North Parish Labyrinth.  If weather does not permit\, meetings will be held in the North Parish Chapel.  Contact is Tad Bickford
URL:https://www.northparish.org/event/mcvagly/2027-05-10/
LOCATION:Chapel at North Parish\, 190 Academy Road\, North Andover\, MA\, 01845-4022\, United States
END:VEVENT
BEGIN:VEVENT
DTSTART;TZID=America/New_York:20270513T093000
DTEND;TZID=America/New_York:20270513T113000
DTSTAMP:20260421T123022
CREATED:20220505T195412Z
LAST-MODIFIED:20250110T204343Z
UID:10008623-1810200600-1810207800@www.northparish.org
SUMMARY:Alanon
DESCRIPTION:
URL:https://www.northparish.org/event/alanon/2027-05-13/
LOCATION:Chapel at North Parish\, 190 Academy Road\, North Andover\, MA\, 01845-4022\, United States
END:VEVENT
BEGIN:VEVENT
DTSTART;TZID=America/New_York:20270517T183000
DTEND;TZID=America/New_York:20270517T203000
DTSTAMP:20260421T123022
CREATED:20220830T125339Z
LAST-MODIFIED:20240730T160405Z
UID:10009528-1810578600-1810585800@www.northparish.org
SUMMARY:McVagly
DESCRIPTION:McVagly meets weekly on Mondays 6:30 – 8:30pm. We are a LGBTQ+ community youth group for high school and college aged youth 14 – 23 years old. \nMeetings to be held in the North Parish Labyrinth.  If weather does not permit\, meetings will be held in the North Parish Chapel.  Contact is Tad Bickford
URL:https://www.northparish.org/event/mcvagly/2027-05-17/
LOCATION:Chapel at North Parish\, 190 Academy Road\, North Andover\, MA\, 01845-4022\, United States
END:VEVENT
BEGIN:VEVENT
DTSTART;TZID=America/New_York:20270519T183000
DTEND;TZID=America/New_York:20270519T190000
DTSTAMP:20260421T123022
CREATED:20220915T143234Z
LAST-MODIFIED:20251216T113324Z
UID:10015170-1810751400-1810753200@www.northparish.org
SUMMARY:Guided Buddhist Meditation and Discussion set-up
DESCRIPTION:
URL:https://www.northparish.org/event/guided-buddhist-meditation-and-discussion-set-up-2023-06-07-2023-06-21-2/2027-05-19/
LOCATION:Chapel at North Parish\, 190 Academy Road\, North Andover\, MA\, 01845-4022\, United States
END:VEVENT
BEGIN:VEVENT
DTSTART;TZID=America/New_York:20270519T190000
DTEND;TZID=America/New_York:20270519T201500
DTSTAMP:20260421T123022
CREATED:20240701T013829Z
LAST-MODIFIED:20251216T113411Z
UID:10015268-1810753200-1810757700@www.northparish.org
SUMMARY:Guided Buddhist Meditation and Discussion
DESCRIPTION:
URL:https://www.northparish.org/event/guided-buddhist-meditation-and-discussion-2/2027-05-19/
LOCATION:Chapel at North Parish\, 190 Academy Road\, North Andover\, MA\, 01845-4022\, United States
END:VEVENT
BEGIN:VEVENT
DTSTART;TZID=America/New_York:20270520T093000
DTEND;TZID=America/New_York:20270520T113000
DTSTAMP:20260421T123022
CREATED:20220505T195412Z
LAST-MODIFIED:20250110T204343Z
UID:10008624-1810805400-1810812600@www.northparish.org
SUMMARY:Alanon
DESCRIPTION:
URL:https://www.northparish.org/event/alanon/2027-05-20/
LOCATION:Chapel at North Parish\, 190 Academy Road\, North Andover\, MA\, 01845-4022\, United States
END:VEVENT
BEGIN:VEVENT
DTSTART;TZID=America/New_York:20270524T183000
DTEND;TZID=America/New_York:20270524T203000
DTSTAMP:20260421T123022
CREATED:20220830T125339Z
LAST-MODIFIED:20240730T160405Z
UID:10009529-1811183400-1811190600@www.northparish.org
SUMMARY:McVagly
DESCRIPTION:McVagly meets weekly on Mondays 6:30 – 8:30pm. We are a LGBTQ+ community youth group for high school and college aged youth 14 – 23 years old. \nMeetings to be held in the North Parish Labyrinth.  If weather does not permit\, meetings will be held in the North Parish Chapel.  Contact is Tad Bickford
URL:https://www.northparish.org/event/mcvagly/2027-05-24/
LOCATION:Chapel at North Parish\, 190 Academy Road\, North Andover\, MA\, 01845-4022\, United States
END:VEVENT
BEGIN:VEVENT
DTSTART;TZID=America/New_York:20270527T093000
DTEND;TZID=America/New_York:20270527T113000
DTSTAMP:20260421T123022
CREATED:20220505T195412Z
LAST-MODIFIED:20250110T204343Z
UID:10008625-1811410200-1811417400@www.northparish.org
SUMMARY:Alanon
DESCRIPTION:
URL:https://www.northparish.org/event/alanon/2027-05-27/
LOCATION:Chapel at North Parish\, 190 Academy Road\, North Andover\, MA\, 01845-4022\, United States
END:VEVENT
BEGIN:VEVENT
DTSTART;TZID=America/New_York:20270531T183000
DTEND;TZID=America/New_York:20270531T203000
DTSTAMP:20260421T123022
CREATED:20220830T125339Z
LAST-MODIFIED:20240730T160405Z
UID:10009530-1811788200-1811795400@www.northparish.org
SUMMARY:McVagly
DESCRIPTION:McVagly meets weekly on Mondays 6:30 – 8:30pm. We are a LGBTQ+ community youth group for high school and college aged youth 14 – 23 years old. \nMeetings to be held in the North Parish Labyrinth.  If weather does not permit\, meetings will be held in the North Parish Chapel.  Contact is Tad Bickford
URL:https://www.northparish.org/event/mcvagly/2027-05-31/
LOCATION:Chapel at North Parish\, 190 Academy Road\, North Andover\, MA\, 01845-4022\, United States
END:VEVENT
BEGIN:VEVENT
DTSTART;TZID=America/New_York:20270602T183000
DTEND;TZID=America/New_York:20270602T190000
DTSTAMP:20260421T123022
CREATED:20250303T133730Z
LAST-MODIFIED:20250303T133730Z
UID:10012790-1811961000-1811962800@www.northparish.org
SUMMARY:Guided Buddhist Meditation and Discussion set-up
DESCRIPTION:
URL:https://www.northparish.org/event/guided-buddhist-meditation-and-discussion-set-up-2/2027-06-02/
LOCATION:Chapel at North Parish\, 190 Academy Road\, North Andover\, MA\, 01845-4022\, United States
END:VEVENT
BEGIN:VEVENT
DTSTART;TZID=America/New_York:20270602T190000
DTEND;TZID=America/New_York:20270602T201500
DTSTAMP:20260421T123022
CREATED:20250303T133807Z
LAST-MODIFIED:20250303T133807Z
UID:10012850-1811962800-1811967300@www.northparish.org
SUMMARY:Guided Buddhist Meditation and Discussion
DESCRIPTION:
URL:https://www.northparish.org/event/guided-buddhist-meditation-and-discussion-2023-06-07-2/2027-06-02/
LOCATION:Chapel at North Parish\, 190 Academy Road\, North Andover\, MA\, 01845-4022\, United States
END:VEVENT
BEGIN:VEVENT
DTSTART;TZID=America/New_York:20270603T093000
DTEND;TZID=America/New_York:20270603T113000
DTSTAMP:20260421T123022
CREATED:20220505T195412Z
LAST-MODIFIED:20250110T204343Z
UID:10008626-1812015000-1812022200@www.northparish.org
SUMMARY:Alanon
DESCRIPTION:
URL:https://www.northparish.org/event/alanon/2027-06-03/
LOCATION:Chapel at North Parish\, 190 Academy Road\, North Andover\, MA\, 01845-4022\, United States
END:VEVENT
BEGIN:VEVENT
DTSTART;TZID=America/New_York:20270607T183000
DTEND;TZID=America/New_York:20270607T203000
DTSTAMP:20260421T123022
CREATED:20220830T125339Z
LAST-MODIFIED:20240730T160405Z
UID:10009531-1812393000-1812400200@www.northparish.org
SUMMARY:McVagly
DESCRIPTION:McVagly meets weekly on Mondays 6:30 – 8:30pm. We are a LGBTQ+ community youth group for high school and college aged youth 14 – 23 years old. \nMeetings to be held in the North Parish Labyrinth.  If weather does not permit\, meetings will be held in the North Parish Chapel.  Contact is Tad Bickford
URL:https://www.northparish.org/event/mcvagly/2027-06-07/
LOCATION:Chapel at North Parish\, 190 Academy Road\, North Andover\, MA\, 01845-4022\, United States
END:VEVENT
BEGIN:VEVENT
DTSTART;TZID=America/New_York:20270610T093000
DTEND;TZID=America/New_York:20270610T113000
DTSTAMP:20260421T123022
CREATED:20220505T195412Z
LAST-MODIFIED:20250110T204343Z
UID:10008627-1812619800-1812627000@www.northparish.org
SUMMARY:Alanon
DESCRIPTION:
URL:https://www.northparish.org/event/alanon/2027-06-10/
LOCATION:Chapel at North Parish\, 190 Academy Road\, North Andover\, MA\, 01845-4022\, United States
END:VEVENT
BEGIN:VEVENT
DTSTART;TZID=America/New_York:20270614T183000
DTEND;TZID=America/New_York:20270614T203000
DTSTAMP:20260421T123022
CREATED:20220830T125339Z
LAST-MODIFIED:20240730T160405Z
UID:10009532-1812997800-1813005000@www.northparish.org
SUMMARY:McVagly
DESCRIPTION:McVagly meets weekly on Mondays 6:30 – 8:30pm. We are a LGBTQ+ community youth group for high school and college aged youth 14 – 23 years old. \nMeetings to be held in the North Parish Labyrinth.  If weather does not permit\, meetings will be held in the North Parish Chapel.  Contact is Tad Bickford
URL:https://www.northparish.org/event/mcvagly/2027-06-14/
LOCATION:Chapel at North Parish\, 190 Academy Road\, North Andover\, MA\, 01845-4022\, United States
END:VEVENT
BEGIN:VEVENT
DTSTART;TZID=America/New_York:20270616T183000
DTEND;TZID=America/New_York:20270616T190000
DTSTAMP:20260421T123022
CREATED:20220915T143234Z
LAST-MODIFIED:20251216T113324Z
UID:10015171-1813170600-1813172400@www.northparish.org
SUMMARY:Guided Buddhist Meditation and Discussion set-up
DESCRIPTION:
URL:https://www.northparish.org/event/guided-buddhist-meditation-and-discussion-set-up-2023-06-07-2023-06-21-2/2027-06-16/
LOCATION:Chapel at North Parish\, 190 Academy Road\, North Andover\, MA\, 01845-4022\, United States
END:VEVENT
BEGIN:VEVENT
DTSTART;TZID=America/New_York:20270616T190000
DTEND;TZID=America/New_York:20270616T201500
DTSTAMP:20260421T123022
CREATED:20240701T013829Z
LAST-MODIFIED:20251216T113411Z
UID:10015269-1813172400-1813176900@www.northparish.org
SUMMARY:Guided Buddhist Meditation and Discussion
DESCRIPTION:
URL:https://www.northparish.org/event/guided-buddhist-meditation-and-discussion-2/2027-06-16/
LOCATION:Chapel at North Parish\, 190 Academy Road\, North Andover\, MA\, 01845-4022\, United States
END:VEVENT
BEGIN:VEVENT
DTSTART;TZID=America/New_York:20270617T093000
DTEND;TZID=America/New_York:20270617T113000
DTSTAMP:20260421T123022
CREATED:20220505T195412Z
LAST-MODIFIED:20250110T204343Z
UID:10008628-1813224600-1813231800@www.northparish.org
SUMMARY:Alanon
DESCRIPTION:
URL:https://www.northparish.org/event/alanon/2027-06-17/
LOCATION:Chapel at North Parish\, 190 Academy Road\, North Andover\, MA\, 01845-4022\, United States
END:VEVENT
BEGIN:VEVENT
DTSTART;TZID=America/New_York:20270621T183000
DTEND;TZID=America/New_York:20270621T203000
DTSTAMP:20260421T123022
CREATED:20220830T125339Z
LAST-MODIFIED:20240730T160405Z
UID:10009533-1813602600-1813609800@www.northparish.org
SUMMARY:McVagly
DESCRIPTION:McVagly meets weekly on Mondays 6:30 – 8:30pm. We are a LGBTQ+ community youth group for high school and college aged youth 14 – 23 years old. \nMeetings to be held in the North Parish Labyrinth.  If weather does not permit\, meetings will be held in the North Parish Chapel.  Contact is Tad Bickford
URL:https://www.northparish.org/event/mcvagly/2027-06-21/
LOCATION:Chapel at North Parish\, 190 Academy Road\, North Andover\, MA\, 01845-4022\, United States
END:VEVENT
BEGIN:VEVENT
DTSTART;TZID=America/New_York:20270624T093000
DTEND;TZID=America/New_York:20270624T113000
DTSTAMP:20260421T123022
CREATED:20220505T195412Z
LAST-MODIFIED:20250110T204343Z
UID:10008629-1813829400-1813836600@www.northparish.org
SUMMARY:Alanon
DESCRIPTION:
URL:https://www.northparish.org/event/alanon/2027-06-24/
LOCATION:Chapel at North Parish\, 190 Academy Road\, North Andover\, MA\, 01845-4022\, United States
END:VEVENT
BEGIN:VEVENT
DTSTART;TZID=America/New_York:20270628T183000
DTEND;TZID=America/New_York:20270628T203000
DTSTAMP:20260421T123022
CREATED:20220830T125339Z
LAST-MODIFIED:20240730T160405Z
UID:10009534-1814207400-1814214600@www.northparish.org
SUMMARY:McVagly
DESCRIPTION:McVagly meets weekly on Mondays 6:30 – 8:30pm. We are a LGBTQ+ community youth group for high school and college aged youth 14 – 23 years old. \nMeetings to be held in the North Parish Labyrinth.  If weather does not permit\, meetings will be held in the North Parish Chapel.  Contact is Tad Bickford
URL:https://www.northparish.org/event/mcvagly/2027-06-28/
LOCATION:Chapel at North Parish\, 190 Academy Road\, North Andover\, MA\, 01845-4022\, United States
END:VEVENT
BEGIN:VEVENT
DTSTART;TZID=America/New_York:20270701T093000
DTEND;TZID=America/New_York:20270701T113000
DTSTAMP:20260421T123022
CREATED:20220505T195412Z
LAST-MODIFIED:20250110T204343Z
UID:10008630-1814434200-1814441400@www.northparish.org
SUMMARY:Alanon
DESCRIPTION:
URL:https://www.northparish.org/event/alanon/2027-07-01/
LOCATION:Chapel at North Parish\, 190 Academy Road\, North Andover\, MA\, 01845-4022\, United States
END:VEVENT
BEGIN:VEVENT
DTSTART;TZID=America/New_York:20270705T183000
DTEND;TZID=America/New_York:20270705T203000
DTSTAMP:20260421T123022
CREATED:20220830T125339Z
LAST-MODIFIED:20240730T160405Z
UID:10009535-1814812200-1814819400@www.northparish.org
SUMMARY:McVagly
DESCRIPTION:McVagly meets weekly on Mondays 6:30 – 8:30pm. We are a LGBTQ+ community youth group for high school and college aged youth 14 – 23 years old. \nMeetings to be held in the North Parish Labyrinth.  If weather does not permit\, meetings will be held in the North Parish Chapel.  Contact is Tad Bickford
URL:https://www.northparish.org/event/mcvagly/2027-07-05/
LOCATION:Chapel at North Parish\, 190 Academy Road\, North Andover\, MA\, 01845-4022\, United States
END:VEVENT
BEGIN:VEVENT
DTSTART;TZID=America/New_York:20270707T183000
DTEND;TZID=America/New_York:20270707T190000
DTSTAMP:20260421T123022
CREATED:20250303T133730Z
LAST-MODIFIED:20250303T133730Z
UID:10012791-1814985000-1814986800@www.northparish.org
SUMMARY:Guided Buddhist Meditation and Discussion set-up
DESCRIPTION:
URL:https://www.northparish.org/event/guided-buddhist-meditation-and-discussion-set-up-2/2027-07-07/
LOCATION:Chapel at North Parish\, 190 Academy Road\, North Andover\, MA\, 01845-4022\, United States
END:VEVENT
END:VCALENDAR