BEGIN:VCALENDAR
VERSION:2.0
PRODID:-//The North Parish Church of North Andover - ECPv6.15.13//NONSGML v1.0//EN
CALSCALE:GREGORIAN
METHOD:PUBLISH
X-WR-CALNAME:The North Parish Church of North Andover
X-ORIGINAL-URL:https://www.northparish.org
X-WR-CALDESC:Events for The North Parish Church of North Andover
REFRESH-INTERVAL;VALUE=DURATION:PT1H
X-Robots-Tag:noindex
X-PUBLISHED-TTL:PT1H
BEGIN:VTIMEZONE
TZID:America/New_York
BEGIN:DAYLIGHT
TZOFFSETFROM:-0500
TZOFFSETTO:-0400
TZNAME:EDT
DTSTART:20250309T070000
END:DAYLIGHT
BEGIN:STANDARD
TZOFFSETFROM:-0400
TZOFFSETTO:-0500
TZNAME:EST
DTSTART:20251102T060000
END:STANDARD
BEGIN:DAYLIGHT
TZOFFSETFROM:-0500
TZOFFSETTO:-0400
TZNAME:EDT
DTSTART:20260308T070000
END:DAYLIGHT
BEGIN:STANDARD
TZOFFSETFROM:-0400
TZOFFSETTO:-0500
TZNAME:EST
DTSTART:20261101T060000
END:STANDARD
BEGIN:DAYLIGHT
TZOFFSETFROM:-0500
TZOFFSETTO:-0400
TZNAME:EDT
DTSTART:20270314T070000
END:DAYLIGHT
BEGIN:STANDARD
TZOFFSETFROM:-0400
TZOFFSETTO:-0500
TZNAME:EST
DTSTART:20271107T060000
END:STANDARD
END:VTIMEZONE
BEGIN:VEVENT
DTSTART;TZID=America/New_York:20260513T120000
DTEND;TZID=America/New_York:20260513T130000
DTSTAMP:20260423T052640
CREATED:20251009T112556Z
LAST-MODIFIED:20251009T112556Z
UID:10014079-1778673600-1778677200@www.northparish.org
SUMMARY:Brown Bag Lunch with Rev. Lee
DESCRIPTION:See here for Zoom link.
URL:https://www.northparish.org/event/brown-bag-lunch-with-rev-lee-2-2/2026-05-13/
LOCATION:Parlor at North Parish\, 190 Academy Road\, North Andover\, MA\, 01845\, United States
END:VEVENT
BEGIN:VEVENT
DTSTART;TZID=America/New_York:20260520T100000
DTEND;TZID=America/New_York:20260520T133000
DTSTAMP:20260423T052640
CREATED:20260113T170044Z
LAST-MODIFIED:20260113T170044Z
UID:10015713-1779271200-1779283800@www.northparish.org
SUMMARY:Bread and Roses meal prep
DESCRIPTION:
URL:https://www.northparish.org/event/bread-and-roses-meal-prep-3/2026-05-20/
LOCATION:Kitchen at North Parish\, 190 Academy Road\, North Andover\, MA\, 01845\, United States
END:VEVENT
BEGIN:VEVENT
DTSTART;TZID=America/New_York:20260610T120000
DTEND;TZID=America/New_York:20260610T130000
DTSTAMP:20260423T052640
CREATED:20251009T112556Z
LAST-MODIFIED:20251009T112556Z
UID:10014080-1781092800-1781096400@www.northparish.org
SUMMARY:Brown Bag Lunch with Rev. Lee
DESCRIPTION:See here for Zoom link.
URL:https://www.northparish.org/event/brown-bag-lunch-with-rev-lee-2-2/2026-06-10/
LOCATION:Parlor at North Parish\, 190 Academy Road\, North Andover\, MA\, 01845\, United States
END:VEVENT
END:VCALENDAR