BEGIN:VCALENDAR
VERSION:2.0
PRODID:-//The North Parish Church of North Andover - ECPv6.15.13//NONSGML v1.0//EN
CALSCALE:GREGORIAN
METHOD:PUBLISH
X-ORIGINAL-URL:https://www.northparish.org
X-WR-CALDESC:Events for The North Parish Church of North Andover
REFRESH-INTERVAL;VALUE=DURATION:PT1H
X-Robots-Tag:noindex
X-PUBLISHED-TTL:PT1H
BEGIN:VTIMEZONE
TZID:America/New_York
BEGIN:DAYLIGHT
TZOFFSETFROM:-0500
TZOFFSETTO:-0400
TZNAME:EDT
DTSTART:20250309T070000
END:DAYLIGHT
BEGIN:STANDARD
TZOFFSETFROM:-0400
TZOFFSETTO:-0500
TZNAME:EST
DTSTART:20251102T060000
END:STANDARD
BEGIN:DAYLIGHT
TZOFFSETFROM:-0500
TZOFFSETTO:-0400
TZNAME:EDT
DTSTART:20260308T070000
END:DAYLIGHT
BEGIN:STANDARD
TZOFFSETFROM:-0400
TZOFFSETTO:-0500
TZNAME:EST
DTSTART:20261101T060000
END:STANDARD
BEGIN:DAYLIGHT
TZOFFSETFROM:-0500
TZOFFSETTO:-0400
TZNAME:EDT
DTSTART:20270314T070000
END:DAYLIGHT
BEGIN:STANDARD
TZOFFSETFROM:-0400
TZOFFSETTO:-0500
TZNAME:EST
DTSTART:20271107T060000
END:STANDARD
END:VTIMEZONE
BEGIN:VEVENT
DTSTART;TZID=America/New_York:20260624T190000
DTEND;TZID=America/New_York:20260624T201500
DTSTAMP:20260425T124142
CREATED:20250529T140052Z
LAST-MODIFIED:20250529T140052Z
UID:10013460-1782327600-1782332100@www.northparish.org
SUMMARY:Great Pond Sangha Zoom ONLY
DESCRIPTION:Great Pond Sangha meets on Zoom ONLY on the 2nd\, 4th and 5th Wednesdays of every month. No registration or RSVP requires. All are welcome. \nFor more information or to request the Zoom link\, email: greatpondsangha@gmail.com \nOur hybrid meetings (in the Chapel AND on Zoom) occur on the 1st and 3rd Wednesdays of every month. Cost is free. Donations are welcome.
URL:https://www.northparish.org/event/great-pond-sangha-zoom-only-2/2026-06-24/
LOCATION:via a Personal Zoom
END:VEVENT
BEGIN:VEVENT
DTSTART;TZID=America/New_York:20260701T183000
DTEND;TZID=America/New_York:20260701T190000
DTSTAMP:20260425T124142
CREATED:20250303T133730Z
LAST-MODIFIED:20250303T133730Z
UID:10012779-1782930600-1782932400@www.northparish.org
SUMMARY:Guided Buddhist Meditation and Discussion set-up
DESCRIPTION:
URL:https://www.northparish.org/event/guided-buddhist-meditation-and-discussion-set-up-2/2026-07-01/
LOCATION:Chapel at North Parish\, 190 Academy Road\, North Andover\, MA\, 01845-4022\, United States
END:VEVENT
BEGIN:VEVENT
DTSTART;TZID=America/New_York:20260701T190000
DTEND;TZID=America/New_York:20260701T201500
DTSTAMP:20260425T124142
CREATED:20250303T133807Z
LAST-MODIFIED:20250303T133807Z
UID:10012839-1782932400-1782936900@www.northparish.org
SUMMARY:Guided Buddhist Meditation and Discussion
DESCRIPTION:
URL:https://www.northparish.org/event/guided-buddhist-meditation-and-discussion-2023-06-07-2/2026-07-01/
LOCATION:Chapel at North Parish\, 190 Academy Road\, North Andover\, MA\, 01845-4022\, United States
END:VEVENT
BEGIN:VEVENT
DTSTART;TZID=America/New_York:20260708T190000
DTEND;TZID=America/New_York:20260708T201500
DTSTAMP:20260425T124142
CREATED:20250529T135846Z
LAST-MODIFIED:20250529T140125Z
UID:10013401-1783537200-1783541700@www.northparish.org
SUMMARY:Great Pond Sangha Zoom ONLY
DESCRIPTION:Great Pond Sangha meets on Zoom ONLY on the 2nd\, 4th and 5th Wednesdays of every month. No registration or RSVP requires. All are welcome. For more information or to request the Zoom link\, email: greatpondsangha@gmail.com \nOur hybrid meetings (in the Chapel AND on Zoom) occur on the 1st and 3rd Wednesdays of every month. Cost is free. Donations are welcome. \n 
URL:https://www.northparish.org/event/great-pond-sangha-zoom-only/2026-07-08/
LOCATION:via a Personal Zoom
END:VEVENT
BEGIN:VEVENT
DTSTART;TZID=America/New_York:20260715T183000
DTEND;TZID=America/New_York:20260715T190000
DTSTAMP:20260425T124142
CREATED:20220915T143234Z
LAST-MODIFIED:20251216T113324Z
UID:10015160-1784140200-1784142000@www.northparish.org
SUMMARY:Guided Buddhist Meditation and Discussion set-up
DESCRIPTION:
URL:https://www.northparish.org/event/guided-buddhist-meditation-and-discussion-set-up-2023-06-07-2023-06-21-2/2026-07-15/
LOCATION:Chapel at North Parish\, 190 Academy Road\, North Andover\, MA\, 01845-4022\, United States
END:VEVENT
BEGIN:VEVENT
DTSTART;TZID=America/New_York:20260715T190000
DTEND;TZID=America/New_York:20260715T201500
DTSTAMP:20260425T124142
CREATED:20240701T013829Z
LAST-MODIFIED:20251216T113411Z
UID:10015258-1784142000-1784146500@www.northparish.org
SUMMARY:Guided Buddhist Meditation and Discussion
DESCRIPTION:
URL:https://www.northparish.org/event/guided-buddhist-meditation-and-discussion-2/2026-07-15/
LOCATION:Chapel at North Parish\, 190 Academy Road\, North Andover\, MA\, 01845-4022\, United States
END:VEVENT
BEGIN:VEVENT
DTSTART;TZID=America/New_York:20260722T190000
DTEND;TZID=America/New_York:20260722T201500
DTSTAMP:20260425T124142
CREATED:20250529T140052Z
LAST-MODIFIED:20250529T140052Z
UID:10013461-1784746800-1784751300@www.northparish.org
SUMMARY:Great Pond Sangha Zoom ONLY
DESCRIPTION:Great Pond Sangha meets on Zoom ONLY on the 2nd\, 4th and 5th Wednesdays of every month. No registration or RSVP requires. All are welcome. \nFor more information or to request the Zoom link\, email: greatpondsangha@gmail.com \nOur hybrid meetings (in the Chapel AND on Zoom) occur on the 1st and 3rd Wednesdays of every month. Cost is free. Donations are welcome.
URL:https://www.northparish.org/event/great-pond-sangha-zoom-only-2/2026-07-22/
LOCATION:via a Personal Zoom
END:VEVENT
BEGIN:VEVENT
DTSTART;TZID=America/New_York:20260729T190000
DTEND;TZID=America/New_York:20260729T201500
DTSTAMP:20260425T124142
CREATED:20250529T141354Z
LAST-MODIFIED:20250529T141354Z
UID:10013511-1785351600-1785356100@www.northparish.org
SUMMARY:Great Pond Sangha Zoom ONLY
DESCRIPTION:Great Pond Sangha meets on Zoom ONLY on the 2nd\, 4th and 5th Wednesdays of every month. No registration or RSVP requires. All are welcome. For more information or to request the Zoom link\, email: greatpondsangha@gmail.com \nOur hybrid meetings (in the Chapel AND on Zoom) occur on the 1st and 3rd Wednesdays of every month. Cost is free. Donations are welcome.
URL:https://www.northparish.org/event/great-pond-sangha-zoom-only-3/2026-07-29/
LOCATION:via a Personal Zoom
END:VEVENT
BEGIN:VEVENT
DTSTART;TZID=America/New_York:20260805T183000
DTEND;TZID=America/New_York:20260805T190000
DTSTAMP:20260425T124142
CREATED:20250303T133730Z
LAST-MODIFIED:20250303T133730Z
UID:10012780-1785954600-1785956400@www.northparish.org
SUMMARY:Guided Buddhist Meditation and Discussion set-up
DESCRIPTION:
URL:https://www.northparish.org/event/guided-buddhist-meditation-and-discussion-set-up-2/2026-08-05/
LOCATION:Chapel at North Parish\, 190 Academy Road\, North Andover\, MA\, 01845-4022\, United States
END:VEVENT
BEGIN:VEVENT
DTSTART;TZID=America/New_York:20260805T190000
DTEND;TZID=America/New_York:20260805T201500
DTSTAMP:20260425T124142
CREATED:20250303T133807Z
LAST-MODIFIED:20250303T133807Z
UID:10012840-1785956400-1785960900@www.northparish.org
SUMMARY:Guided Buddhist Meditation and Discussion
DESCRIPTION:
URL:https://www.northparish.org/event/guided-buddhist-meditation-and-discussion-2023-06-07-2/2026-08-05/
LOCATION:Chapel at North Parish\, 190 Academy Road\, North Andover\, MA\, 01845-4022\, United States
END:VEVENT
BEGIN:VEVENT
DTSTART;TZID=America/New_York:20260812T190000
DTEND;TZID=America/New_York:20260812T201500
DTSTAMP:20260425T124142
CREATED:20250529T135846Z
LAST-MODIFIED:20250529T140125Z
UID:10013402-1786561200-1786565700@www.northparish.org
SUMMARY:Great Pond Sangha Zoom ONLY
DESCRIPTION:Great Pond Sangha meets on Zoom ONLY on the 2nd\, 4th and 5th Wednesdays of every month. No registration or RSVP requires. All are welcome. For more information or to request the Zoom link\, email: greatpondsangha@gmail.com \nOur hybrid meetings (in the Chapel AND on Zoom) occur on the 1st and 3rd Wednesdays of every month. Cost is free. Donations are welcome. \n 
URL:https://www.northparish.org/event/great-pond-sangha-zoom-only/2026-08-12/
LOCATION:via a Personal Zoom
END:VEVENT
BEGIN:VEVENT
DTSTART;TZID=America/New_York:20260819T183000
DTEND;TZID=America/New_York:20260819T190000
DTSTAMP:20260425T124142
CREATED:20220915T143234Z
LAST-MODIFIED:20251216T113324Z
UID:10015161-1787164200-1787166000@www.northparish.org
SUMMARY:Guided Buddhist Meditation and Discussion set-up
DESCRIPTION:
URL:https://www.northparish.org/event/guided-buddhist-meditation-and-discussion-set-up-2023-06-07-2023-06-21-2/2026-08-19/
LOCATION:Chapel at North Parish\, 190 Academy Road\, North Andover\, MA\, 01845-4022\, United States
END:VEVENT
BEGIN:VEVENT
DTSTART;TZID=America/New_York:20260819T190000
DTEND;TZID=America/New_York:20260819T201500
DTSTAMP:20260425T124142
CREATED:20240701T013829Z
LAST-MODIFIED:20251216T113411Z
UID:10015259-1787166000-1787170500@www.northparish.org
SUMMARY:Guided Buddhist Meditation and Discussion
DESCRIPTION:
URL:https://www.northparish.org/event/guided-buddhist-meditation-and-discussion-2/2026-08-19/
LOCATION:Chapel at North Parish\, 190 Academy Road\, North Andover\, MA\, 01845-4022\, United States
END:VEVENT
BEGIN:VEVENT
DTSTART;TZID=America/New_York:20260826T190000
DTEND;TZID=America/New_York:20260826T201500
DTSTAMP:20260425T124142
CREATED:20250529T140052Z
LAST-MODIFIED:20250529T140052Z
UID:10013462-1787770800-1787775300@www.northparish.org
SUMMARY:Great Pond Sangha Zoom ONLY
DESCRIPTION:Great Pond Sangha meets on Zoom ONLY on the 2nd\, 4th and 5th Wednesdays of every month. No registration or RSVP requires. All are welcome. \nFor more information or to request the Zoom link\, email: greatpondsangha@gmail.com \nOur hybrid meetings (in the Chapel AND on Zoom) occur on the 1st and 3rd Wednesdays of every month. Cost is free. Donations are welcome.
URL:https://www.northparish.org/event/great-pond-sangha-zoom-only-2/2026-08-26/
LOCATION:via a Personal Zoom
END:VEVENT
BEGIN:VEVENT
DTSTART;TZID=America/New_York:20260902T183000
DTEND;TZID=America/New_York:20260902T190000
DTSTAMP:20260425T124142
CREATED:20250303T133730Z
LAST-MODIFIED:20250303T133730Z
UID:10012781-1788373800-1788375600@www.northparish.org
SUMMARY:Guided Buddhist Meditation and Discussion set-up
DESCRIPTION:
URL:https://www.northparish.org/event/guided-buddhist-meditation-and-discussion-set-up-2/2026-09-02/
LOCATION:Chapel at North Parish\, 190 Academy Road\, North Andover\, MA\, 01845-4022\, United States
END:VEVENT
BEGIN:VEVENT
DTSTART;TZID=America/New_York:20260902T190000
DTEND;TZID=America/New_York:20260902T201500
DTSTAMP:20260425T124142
CREATED:20250303T133807Z
LAST-MODIFIED:20250303T133807Z
UID:10012841-1788375600-1788380100@www.northparish.org
SUMMARY:Guided Buddhist Meditation and Discussion
DESCRIPTION:
URL:https://www.northparish.org/event/guided-buddhist-meditation-and-discussion-2023-06-07-2/2026-09-02/
LOCATION:Chapel at North Parish\, 190 Academy Road\, North Andover\, MA\, 01845-4022\, United States
END:VEVENT
BEGIN:VEVENT
DTSTART;TZID=America/New_York:20260909T190000
DTEND;TZID=America/New_York:20260909T201500
DTSTAMP:20260425T124142
CREATED:20250529T135846Z
LAST-MODIFIED:20250529T140125Z
UID:10013403-1788980400-1788984900@www.northparish.org
SUMMARY:Great Pond Sangha Zoom ONLY
DESCRIPTION:Great Pond Sangha meets on Zoom ONLY on the 2nd\, 4th and 5th Wednesdays of every month. No registration or RSVP requires. All are welcome. For more information or to request the Zoom link\, email: greatpondsangha@gmail.com \nOur hybrid meetings (in the Chapel AND on Zoom) occur on the 1st and 3rd Wednesdays of every month. Cost is free. Donations are welcome. \n 
URL:https://www.northparish.org/event/great-pond-sangha-zoom-only/2026-09-09/
LOCATION:via a Personal Zoom
END:VEVENT
BEGIN:VEVENT
DTSTART;TZID=America/New_York:20260916T183000
DTEND;TZID=America/New_York:20260916T190000
DTSTAMP:20260425T124142
CREATED:20220915T143234Z
LAST-MODIFIED:20251216T113324Z
UID:10015162-1789583400-1789585200@www.northparish.org
SUMMARY:Guided Buddhist Meditation and Discussion set-up
DESCRIPTION:
URL:https://www.northparish.org/event/guided-buddhist-meditation-and-discussion-set-up-2023-06-07-2023-06-21-2/2026-09-16/
LOCATION:Chapel at North Parish\, 190 Academy Road\, North Andover\, MA\, 01845-4022\, United States
END:VEVENT
BEGIN:VEVENT
DTSTART;TZID=America/New_York:20260916T190000
DTEND;TZID=America/New_York:20260916T201500
DTSTAMP:20260425T124142
CREATED:20240701T013829Z
LAST-MODIFIED:20251216T113411Z
UID:10015260-1789585200-1789589700@www.northparish.org
SUMMARY:Guided Buddhist Meditation and Discussion
DESCRIPTION:
URL:https://www.northparish.org/event/guided-buddhist-meditation-and-discussion-2/2026-09-16/
LOCATION:Chapel at North Parish\, 190 Academy Road\, North Andover\, MA\, 01845-4022\, United States
END:VEVENT
BEGIN:VEVENT
DTSTART;TZID=America/New_York:20260923T190000
DTEND;TZID=America/New_York:20260923T201500
DTSTAMP:20260425T124142
CREATED:20250529T140052Z
LAST-MODIFIED:20250529T140052Z
UID:10013463-1790190000-1790194500@www.northparish.org
SUMMARY:Great Pond Sangha Zoom ONLY
DESCRIPTION:Great Pond Sangha meets on Zoom ONLY on the 2nd\, 4th and 5th Wednesdays of every month. No registration or RSVP requires. All are welcome. \nFor more information or to request the Zoom link\, email: greatpondsangha@gmail.com \nOur hybrid meetings (in the Chapel AND on Zoom) occur on the 1st and 3rd Wednesdays of every month. Cost is free. Donations are welcome.
URL:https://www.northparish.org/event/great-pond-sangha-zoom-only-2/2026-09-23/
LOCATION:via a Personal Zoom
END:VEVENT
BEGIN:VEVENT
DTSTART;TZID=America/New_York:20260930T190000
DTEND;TZID=America/New_York:20260930T201500
DTSTAMP:20260425T124142
CREATED:20250529T141354Z
LAST-MODIFIED:20250529T141354Z
UID:10013512-1790794800-1790799300@www.northparish.org
SUMMARY:Great Pond Sangha Zoom ONLY
DESCRIPTION:Great Pond Sangha meets on Zoom ONLY on the 2nd\, 4th and 5th Wednesdays of every month. No registration or RSVP requires. All are welcome. For more information or to request the Zoom link\, email: greatpondsangha@gmail.com \nOur hybrid meetings (in the Chapel AND on Zoom) occur on the 1st and 3rd Wednesdays of every month. Cost is free. Donations are welcome.
URL:https://www.northparish.org/event/great-pond-sangha-zoom-only-3/2026-09-30/
LOCATION:via a Personal Zoom
END:VEVENT
BEGIN:VEVENT
DTSTART;TZID=America/New_York:20261007T183000
DTEND;TZID=America/New_York:20261007T190000
DTSTAMP:20260425T124142
CREATED:20250303T133730Z
LAST-MODIFIED:20250303T133730Z
UID:10012782-1791397800-1791399600@www.northparish.org
SUMMARY:Guided Buddhist Meditation and Discussion set-up
DESCRIPTION:
URL:https://www.northparish.org/event/guided-buddhist-meditation-and-discussion-set-up-2/2026-10-07/
LOCATION:Chapel at North Parish\, 190 Academy Road\, North Andover\, MA\, 01845-4022\, United States
END:VEVENT
BEGIN:VEVENT
DTSTART;TZID=America/New_York:20261007T190000
DTEND;TZID=America/New_York:20261007T201500
DTSTAMP:20260425T124142
CREATED:20250303T133807Z
LAST-MODIFIED:20250303T133807Z
UID:10012842-1791399600-1791404100@www.northparish.org
SUMMARY:Guided Buddhist Meditation and Discussion
DESCRIPTION:
URL:https://www.northparish.org/event/guided-buddhist-meditation-and-discussion-2023-06-07-2/2026-10-07/
LOCATION:Chapel at North Parish\, 190 Academy Road\, North Andover\, MA\, 01845-4022\, United States
END:VEVENT
BEGIN:VEVENT
DTSTART;TZID=America/New_York:20261014T190000
DTEND;TZID=America/New_York:20261014T201500
DTSTAMP:20260425T124142
CREATED:20250529T135846Z
LAST-MODIFIED:20250529T140125Z
UID:10013404-1792004400-1792008900@www.northparish.org
SUMMARY:Great Pond Sangha Zoom ONLY
DESCRIPTION:Great Pond Sangha meets on Zoom ONLY on the 2nd\, 4th and 5th Wednesdays of every month. No registration or RSVP requires. All are welcome. For more information or to request the Zoom link\, email: greatpondsangha@gmail.com \nOur hybrid meetings (in the Chapel AND on Zoom) occur on the 1st and 3rd Wednesdays of every month. Cost is free. Donations are welcome. \n 
URL:https://www.northparish.org/event/great-pond-sangha-zoom-only/2026-10-14/
LOCATION:via a Personal Zoom
END:VEVENT
BEGIN:VEVENT
DTSTART;TZID=America/New_York:20261021T183000
DTEND;TZID=America/New_York:20261021T190000
DTSTAMP:20260425T124142
CREATED:20220915T143234Z
LAST-MODIFIED:20251216T113324Z
UID:10015163-1792607400-1792609200@www.northparish.org
SUMMARY:Guided Buddhist Meditation and Discussion set-up
DESCRIPTION:
URL:https://www.northparish.org/event/guided-buddhist-meditation-and-discussion-set-up-2023-06-07-2023-06-21-2/2026-10-21/
LOCATION:Chapel at North Parish\, 190 Academy Road\, North Andover\, MA\, 01845-4022\, United States
END:VEVENT
BEGIN:VEVENT
DTSTART;TZID=America/New_York:20261021T190000
DTEND;TZID=America/New_York:20261021T201500
DTSTAMP:20260425T124142
CREATED:20240701T013829Z
LAST-MODIFIED:20251216T113411Z
UID:10015261-1792609200-1792613700@www.northparish.org
SUMMARY:Guided Buddhist Meditation and Discussion
DESCRIPTION:
URL:https://www.northparish.org/event/guided-buddhist-meditation-and-discussion-2/2026-10-21/
LOCATION:Chapel at North Parish\, 190 Academy Road\, North Andover\, MA\, 01845-4022\, United States
END:VEVENT
BEGIN:VEVENT
DTSTART;TZID=America/New_York:20261028T190000
DTEND;TZID=America/New_York:20261028T201500
DTSTAMP:20260425T124142
CREATED:20250529T140052Z
LAST-MODIFIED:20250529T140052Z
UID:10013464-1793214000-1793218500@www.northparish.org
SUMMARY:Great Pond Sangha Zoom ONLY
DESCRIPTION:Great Pond Sangha meets on Zoom ONLY on the 2nd\, 4th and 5th Wednesdays of every month. No registration or RSVP requires. All are welcome. \nFor more information or to request the Zoom link\, email: greatpondsangha@gmail.com \nOur hybrid meetings (in the Chapel AND on Zoom) occur on the 1st and 3rd Wednesdays of every month. Cost is free. Donations are welcome.
URL:https://www.northparish.org/event/great-pond-sangha-zoom-only-2/2026-10-28/
LOCATION:via a Personal Zoom
END:VEVENT
BEGIN:VEVENT
DTSTART;TZID=America/New_York:20261104T183000
DTEND;TZID=America/New_York:20261104T190000
DTSTAMP:20260425T124142
CREATED:20250303T133730Z
LAST-MODIFIED:20250303T133730Z
UID:10012783-1793817000-1793818800@www.northparish.org
SUMMARY:Guided Buddhist Meditation and Discussion set-up
DESCRIPTION:
URL:https://www.northparish.org/event/guided-buddhist-meditation-and-discussion-set-up-2/2026-11-04/
LOCATION:Chapel at North Parish\, 190 Academy Road\, North Andover\, MA\, 01845-4022\, United States
END:VEVENT
BEGIN:VEVENT
DTSTART;TZID=America/New_York:20261104T190000
DTEND;TZID=America/New_York:20261104T201500
DTSTAMP:20260425T124142
CREATED:20250303T133807Z
LAST-MODIFIED:20250303T133807Z
UID:10012843-1793818800-1793823300@www.northparish.org
SUMMARY:Guided Buddhist Meditation and Discussion
DESCRIPTION:
URL:https://www.northparish.org/event/guided-buddhist-meditation-and-discussion-2023-06-07-2/2026-11-04/
LOCATION:Chapel at North Parish\, 190 Academy Road\, North Andover\, MA\, 01845-4022\, United States
END:VEVENT
BEGIN:VEVENT
DTSTART;TZID=America/New_York:20261111T190000
DTEND;TZID=America/New_York:20261111T201500
DTSTAMP:20260425T124142
CREATED:20250529T135846Z
LAST-MODIFIED:20250529T140125Z
UID:10013405-1794423600-1794428100@www.northparish.org
SUMMARY:Great Pond Sangha Zoom ONLY
DESCRIPTION:Great Pond Sangha meets on Zoom ONLY on the 2nd\, 4th and 5th Wednesdays of every month. No registration or RSVP requires. All are welcome. For more information or to request the Zoom link\, email: greatpondsangha@gmail.com \nOur hybrid meetings (in the Chapel AND on Zoom) occur on the 1st and 3rd Wednesdays of every month. Cost is free. Donations are welcome. \n 
URL:https://www.northparish.org/event/great-pond-sangha-zoom-only/2026-11-11/
LOCATION:via a Personal Zoom
END:VEVENT
END:VCALENDAR