BEGIN:VCALENDAR
VERSION:2.0
PRODID:-//The North Parish Church of North Andover - ECPv6.15.13//NONSGML v1.0//EN
CALSCALE:GREGORIAN
METHOD:PUBLISH
X-ORIGINAL-URL:https://www.northparish.org
X-WR-CALDESC:Events for The North Parish Church of North Andover
REFRESH-INTERVAL;VALUE=DURATION:PT1H
X-Robots-Tag:noindex
X-PUBLISHED-TTL:PT1H
BEGIN:VTIMEZONE
TZID:America/New_York
BEGIN:DAYLIGHT
TZOFFSETFROM:-0500
TZOFFSETTO:-0400
TZNAME:EDT
DTSTART:20260308T070000
END:DAYLIGHT
BEGIN:STANDARD
TZOFFSETFROM:-0400
TZOFFSETTO:-0500
TZNAME:EST
DTSTART:20261101T060000
END:STANDARD
BEGIN:DAYLIGHT
TZOFFSETFROM:-0500
TZOFFSETTO:-0400
TZNAME:EDT
DTSTART:20270314T070000
END:DAYLIGHT
BEGIN:STANDARD
TZOFFSETFROM:-0400
TZOFFSETTO:-0500
TZNAME:EST
DTSTART:20271107T060000
END:STANDARD
BEGIN:DAYLIGHT
TZOFFSETFROM:-0500
TZOFFSETTO:-0400
TZNAME:EDT
DTSTART:20280312T070000
END:DAYLIGHT
BEGIN:STANDARD
TZOFFSETFROM:-0400
TZOFFSETTO:-0500
TZNAME:EST
DTSTART:20281105T060000
END:STANDARD
BEGIN:DAYLIGHT
TZOFFSETFROM:-0500
TZOFFSETTO:-0400
TZNAME:EDT
DTSTART:20290311T070000
END:DAYLIGHT
BEGIN:STANDARD
TZOFFSETFROM:-0400
TZOFFSETTO:-0500
TZNAME:EST
DTSTART:20291104T060000
END:STANDARD
END:VTIMEZONE
BEGIN:VEVENT
DTSTART;TZID=America/New_York:20270922T190000
DTEND;TZID=America/New_York:20270922T201500
DTSTAMP:20260425T230933
CREATED:20250529T141354Z
LAST-MODIFIED:20250529T141354Z
UID:10013516-1821639600-1821644100@www.northparish.org
SUMMARY:Great Pond Sangha Zoom ONLY
DESCRIPTION:Great Pond Sangha meets on Zoom ONLY on the 2nd\, 4th and 5th Wednesdays of every month. No registration or RSVP requires. All are welcome. For more information or to request the Zoom link\, email: greatpondsangha@gmail.com \nOur hybrid meetings (in the Chapel AND on Zoom) occur on the 1st and 3rd Wednesdays of every month. Cost is free. Donations are welcome.
URL:https://www.northparish.org/event/great-pond-sangha-zoom-only-3/2027-09-22/
LOCATION:via a Personal Zoom
END:VEVENT
BEGIN:VEVENT
DTSTART;TZID=America/New_York:20271006T183000
DTEND;TZID=America/New_York:20271006T190000
DTSTAMP:20260425T230933
CREATED:20250303T133730Z
LAST-MODIFIED:20250303T133730Z
UID:10012794-1822847400-1822849200@www.northparish.org
SUMMARY:Guided Buddhist Meditation and Discussion set-up
DESCRIPTION:
URL:https://www.northparish.org/event/guided-buddhist-meditation-and-discussion-set-up-2/2027-10-06/
LOCATION:Chapel at North Parish\, 190 Academy Road\, North Andover\, MA\, 01845-4022\, United States
END:VEVENT
BEGIN:VEVENT
DTSTART;TZID=America/New_York:20271006T190000
DTEND;TZID=America/New_York:20271006T201500
DTSTAMP:20260425T230933
CREATED:20250303T133807Z
LAST-MODIFIED:20250303T133807Z
UID:10012854-1822849200-1822853700@www.northparish.org
SUMMARY:Guided Buddhist Meditation and Discussion
DESCRIPTION:
URL:https://www.northparish.org/event/guided-buddhist-meditation-and-discussion-2023-06-07-2/2027-10-06/
LOCATION:Chapel at North Parish\, 190 Academy Road\, North Andover\, MA\, 01845-4022\, United States
END:VEVENT
BEGIN:VEVENT
DTSTART;TZID=America/New_York:20271013T190000
DTEND;TZID=America/New_York:20271013T201500
DTSTAMP:20260425T230933
CREATED:20250529T135846Z
LAST-MODIFIED:20250529T140125Z
UID:10013416-1823454000-1823458500@www.northparish.org
SUMMARY:Great Pond Sangha Zoom ONLY
DESCRIPTION:Great Pond Sangha meets on Zoom ONLY on the 2nd\, 4th and 5th Wednesdays of every month. No registration or RSVP requires. All are welcome. For more information or to request the Zoom link\, email: greatpondsangha@gmail.com \nOur hybrid meetings (in the Chapel AND on Zoom) occur on the 1st and 3rd Wednesdays of every month. Cost is free. Donations are welcome. \n 
URL:https://www.northparish.org/event/great-pond-sangha-zoom-only/2027-10-13/
LOCATION:via a Personal Zoom
END:VEVENT
BEGIN:VEVENT
DTSTART;TZID=America/New_York:20271020T183000
DTEND;TZID=America/New_York:20271020T190000
DTSTAMP:20260425T230933
CREATED:20220915T143234Z
LAST-MODIFIED:20251216T113324Z
UID:10015175-1824057000-1824058800@www.northparish.org
SUMMARY:Guided Buddhist Meditation and Discussion set-up
DESCRIPTION:
URL:https://www.northparish.org/event/guided-buddhist-meditation-and-discussion-set-up-2023-06-07-2023-06-21-2/2027-10-20/
LOCATION:Chapel at North Parish\, 190 Academy Road\, North Andover\, MA\, 01845-4022\, United States
END:VEVENT
BEGIN:VEVENT
DTSTART;TZID=America/New_York:20271020T190000
DTEND;TZID=America/New_York:20271020T201500
DTSTAMP:20260425T230933
CREATED:20240701T013829Z
LAST-MODIFIED:20251216T113411Z
UID:10015273-1824058800-1824063300@www.northparish.org
SUMMARY:Guided Buddhist Meditation and Discussion
DESCRIPTION:
URL:https://www.northparish.org/event/guided-buddhist-meditation-and-discussion-2/2027-10-20/
LOCATION:Chapel at North Parish\, 190 Academy Road\, North Andover\, MA\, 01845-4022\, United States
END:VEVENT
BEGIN:VEVENT
DTSTART;TZID=America/New_York:20271027T190000
DTEND;TZID=America/New_York:20271027T201500
DTSTAMP:20260425T230933
CREATED:20250529T140052Z
LAST-MODIFIED:20250529T140052Z
UID:10013476-1824663600-1824668100@www.northparish.org
SUMMARY:Great Pond Sangha Zoom ONLY
DESCRIPTION:Great Pond Sangha meets on Zoom ONLY on the 2nd\, 4th and 5th Wednesdays of every month. No registration or RSVP requires. All are welcome. \nFor more information or to request the Zoom link\, email: greatpondsangha@gmail.com \nOur hybrid meetings (in the Chapel AND on Zoom) occur on the 1st and 3rd Wednesdays of every month. Cost is free. Donations are welcome.
URL:https://www.northparish.org/event/great-pond-sangha-zoom-only-2/2027-10-27/
LOCATION:via a Personal Zoom
END:VEVENT
BEGIN:VEVENT
DTSTART;TZID=America/New_York:20271103T183000
DTEND;TZID=America/New_York:20271103T190000
DTSTAMP:20260425T230933
CREATED:20250303T133730Z
LAST-MODIFIED:20250303T133730Z
UID:10012795-1825266600-1825268400@www.northparish.org
SUMMARY:Guided Buddhist Meditation and Discussion set-up
DESCRIPTION:
URL:https://www.northparish.org/event/guided-buddhist-meditation-and-discussion-set-up-2/2027-11-03/
LOCATION:Chapel at North Parish\, 190 Academy Road\, North Andover\, MA\, 01845-4022\, United States
END:VEVENT
BEGIN:VEVENT
DTSTART;TZID=America/New_York:20271103T190000
DTEND;TZID=America/New_York:20271103T201500
DTSTAMP:20260425T230933
CREATED:20250303T133807Z
LAST-MODIFIED:20250303T133807Z
UID:10012855-1825268400-1825272900@www.northparish.org
SUMMARY:Guided Buddhist Meditation and Discussion
DESCRIPTION:
URL:https://www.northparish.org/event/guided-buddhist-meditation-and-discussion-2023-06-07-2/2027-11-03/
LOCATION:Chapel at North Parish\, 190 Academy Road\, North Andover\, MA\, 01845-4022\, United States
END:VEVENT
BEGIN:VEVENT
DTSTART;TZID=America/New_York:20271110T190000
DTEND;TZID=America/New_York:20271110T201500
DTSTAMP:20260425T230933
CREATED:20250529T135846Z
LAST-MODIFIED:20250529T140125Z
UID:10013417-1825873200-1825877700@www.northparish.org
SUMMARY:Great Pond Sangha Zoom ONLY
DESCRIPTION:Great Pond Sangha meets on Zoom ONLY on the 2nd\, 4th and 5th Wednesdays of every month. No registration or RSVP requires. All are welcome. For more information or to request the Zoom link\, email: greatpondsangha@gmail.com \nOur hybrid meetings (in the Chapel AND on Zoom) occur on the 1st and 3rd Wednesdays of every month. Cost is free. Donations are welcome. \n 
URL:https://www.northparish.org/event/great-pond-sangha-zoom-only/2027-11-10/
LOCATION:via a Personal Zoom
END:VEVENT
BEGIN:VEVENT
DTSTART;TZID=America/New_York:20271117T183000
DTEND;TZID=America/New_York:20271117T190000
DTSTAMP:20260425T230933
CREATED:20220915T143234Z
LAST-MODIFIED:20251216T113324Z
UID:10015176-1826476200-1826478000@www.northparish.org
SUMMARY:Guided Buddhist Meditation and Discussion set-up
DESCRIPTION:
URL:https://www.northparish.org/event/guided-buddhist-meditation-and-discussion-set-up-2023-06-07-2023-06-21-2/2027-11-17/
LOCATION:Chapel at North Parish\, 190 Academy Road\, North Andover\, MA\, 01845-4022\, United States
END:VEVENT
BEGIN:VEVENT
DTSTART;TZID=America/New_York:20271117T190000
DTEND;TZID=America/New_York:20271117T201500
DTSTAMP:20260425T230933
CREATED:20240701T013829Z
LAST-MODIFIED:20251216T113411Z
UID:10015274-1826478000-1826482500@www.northparish.org
SUMMARY:Guided Buddhist Meditation and Discussion
DESCRIPTION:
URL:https://www.northparish.org/event/guided-buddhist-meditation-and-discussion-2/2027-11-17/
LOCATION:Chapel at North Parish\, 190 Academy Road\, North Andover\, MA\, 01845-4022\, United States
END:VEVENT
BEGIN:VEVENT
DTSTART;TZID=America/New_York:20271124T190000
DTEND;TZID=America/New_York:20271124T201500
DTSTAMP:20260425T230933
CREATED:20250529T140052Z
LAST-MODIFIED:20250529T140052Z
UID:10013477-1827082800-1827087300@www.northparish.org
SUMMARY:Great Pond Sangha Zoom ONLY
DESCRIPTION:Great Pond Sangha meets on Zoom ONLY on the 2nd\, 4th and 5th Wednesdays of every month. No registration or RSVP requires. All are welcome. \nFor more information or to request the Zoom link\, email: greatpondsangha@gmail.com \nOur hybrid meetings (in the Chapel AND on Zoom) occur on the 1st and 3rd Wednesdays of every month. Cost is free. Donations are welcome.
URL:https://www.northparish.org/event/great-pond-sangha-zoom-only-2/2027-11-24/
LOCATION:via a Personal Zoom
END:VEVENT
BEGIN:VEVENT
DTSTART;TZID=America/New_York:20271201T183000
DTEND;TZID=America/New_York:20271201T190000
DTSTAMP:20260425T230933
CREATED:20250303T133730Z
LAST-MODIFIED:20250303T133730Z
UID:10012796-1827685800-1827687600@www.northparish.org
SUMMARY:Guided Buddhist Meditation and Discussion set-up
DESCRIPTION:
URL:https://www.northparish.org/event/guided-buddhist-meditation-and-discussion-set-up-2/2027-12-01/
LOCATION:Chapel at North Parish\, 190 Academy Road\, North Andover\, MA\, 01845-4022\, United States
END:VEVENT
BEGIN:VEVENT
DTSTART;TZID=America/New_York:20271201T190000
DTEND;TZID=America/New_York:20271201T201500
DTSTAMP:20260425T230933
CREATED:20250303T133807Z
LAST-MODIFIED:20250303T133807Z
UID:10012856-1827687600-1827692100@www.northparish.org
SUMMARY:Guided Buddhist Meditation and Discussion
DESCRIPTION:
URL:https://www.northparish.org/event/guided-buddhist-meditation-and-discussion-2023-06-07-2/2027-12-01/
LOCATION:Chapel at North Parish\, 190 Academy Road\, North Andover\, MA\, 01845-4022\, United States
END:VEVENT
BEGIN:VEVENT
DTSTART;TZID=America/New_York:20271208T190000
DTEND;TZID=America/New_York:20271208T201500
DTSTAMP:20260425T230933
CREATED:20250529T135846Z
LAST-MODIFIED:20250529T140125Z
UID:10013418-1828292400-1828296900@www.northparish.org
SUMMARY:Great Pond Sangha Zoom ONLY
DESCRIPTION:Great Pond Sangha meets on Zoom ONLY on the 2nd\, 4th and 5th Wednesdays of every month. No registration or RSVP requires. All are welcome. For more information or to request the Zoom link\, email: greatpondsangha@gmail.com \nOur hybrid meetings (in the Chapel AND on Zoom) occur on the 1st and 3rd Wednesdays of every month. Cost is free. Donations are welcome. \n 
URL:https://www.northparish.org/event/great-pond-sangha-zoom-only/2027-12-08/
LOCATION:via a Personal Zoom
END:VEVENT
BEGIN:VEVENT
DTSTART;TZID=America/New_York:20271215T183000
DTEND;TZID=America/New_York:20271215T190000
DTSTAMP:20260425T230933
CREATED:20220915T143234Z
LAST-MODIFIED:20251216T113324Z
UID:10015177-1828895400-1828897200@www.northparish.org
SUMMARY:Guided Buddhist Meditation and Discussion set-up
DESCRIPTION:
URL:https://www.northparish.org/event/guided-buddhist-meditation-and-discussion-set-up-2023-06-07-2023-06-21-2/2027-12-15/
LOCATION:Chapel at North Parish\, 190 Academy Road\, North Andover\, MA\, 01845-4022\, United States
END:VEVENT
BEGIN:VEVENT
DTSTART;TZID=America/New_York:20271215T190000
DTEND;TZID=America/New_York:20271215T201500
DTSTAMP:20260425T230933
CREATED:20240701T013829Z
LAST-MODIFIED:20251216T113411Z
UID:10015275-1828897200-1828901700@www.northparish.org
SUMMARY:Guided Buddhist Meditation and Discussion
DESCRIPTION:
URL:https://www.northparish.org/event/guided-buddhist-meditation-and-discussion-2/2027-12-15/
LOCATION:Chapel at North Parish\, 190 Academy Road\, North Andover\, MA\, 01845-4022\, United States
END:VEVENT
BEGIN:VEVENT
DTSTART;TZID=America/New_York:20271222T190000
DTEND;TZID=America/New_York:20271222T201500
DTSTAMP:20260425T230933
CREATED:20250529T140052Z
LAST-MODIFIED:20250529T140052Z
UID:10013478-1829502000-1829506500@www.northparish.org
SUMMARY:Great Pond Sangha Zoom ONLY
DESCRIPTION:Great Pond Sangha meets on Zoom ONLY on the 2nd\, 4th and 5th Wednesdays of every month. No registration or RSVP requires. All are welcome. \nFor more information or to request the Zoom link\, email: greatpondsangha@gmail.com \nOur hybrid meetings (in the Chapel AND on Zoom) occur on the 1st and 3rd Wednesdays of every month. Cost is free. Donations are welcome.
URL:https://www.northparish.org/event/great-pond-sangha-zoom-only-2/2027-12-22/
LOCATION:via a Personal Zoom
END:VEVENT
BEGIN:VEVENT
DTSTART;TZID=America/New_York:20271229T190000
DTEND;TZID=America/New_York:20271229T201500
DTSTAMP:20260425T230933
CREATED:20250529T141354Z
LAST-MODIFIED:20250529T141354Z
UID:10013517-1830106800-1830111300@www.northparish.org
SUMMARY:Great Pond Sangha Zoom ONLY
DESCRIPTION:Great Pond Sangha meets on Zoom ONLY on the 2nd\, 4th and 5th Wednesdays of every month. No registration or RSVP requires. All are welcome. For more information or to request the Zoom link\, email: greatpondsangha@gmail.com \nOur hybrid meetings (in the Chapel AND on Zoom) occur on the 1st and 3rd Wednesdays of every month. Cost is free. Donations are welcome.
URL:https://www.northparish.org/event/great-pond-sangha-zoom-only-3/2027-12-29/
LOCATION:via a Personal Zoom
END:VEVENT
BEGIN:VEVENT
DTSTART;TZID=America/New_York:20280105T183000
DTEND;TZID=America/New_York:20280105T190000
DTSTAMP:20260425T230933
CREATED:20250303T133730Z
LAST-MODIFIED:20250303T133730Z
UID:10012797-1830709800-1830711600@www.northparish.org
SUMMARY:Guided Buddhist Meditation and Discussion set-up
DESCRIPTION:
URL:https://www.northparish.org/event/guided-buddhist-meditation-and-discussion-set-up-2/2028-01-05/
LOCATION:Chapel at North Parish\, 190 Academy Road\, North Andover\, MA\, 01845-4022\, United States
END:VEVENT
BEGIN:VEVENT
DTSTART;TZID=America/New_York:20280105T190000
DTEND;TZID=America/New_York:20280105T201500
DTSTAMP:20260425T230933
CREATED:20250303T133807Z
LAST-MODIFIED:20250303T133807Z
UID:10012857-1830711600-1830716100@www.northparish.org
SUMMARY:Guided Buddhist Meditation and Discussion
DESCRIPTION:
URL:https://www.northparish.org/event/guided-buddhist-meditation-and-discussion-2023-06-07-2/2028-01-05/
LOCATION:Chapel at North Parish\, 190 Academy Road\, North Andover\, MA\, 01845-4022\, United States
END:VEVENT
BEGIN:VEVENT
DTSTART;TZID=America/New_York:20280112T190000
DTEND;TZID=America/New_York:20280112T201500
DTSTAMP:20260425T230933
CREATED:20250529T135846Z
LAST-MODIFIED:20250529T140125Z
UID:10013419-1831316400-1831320900@www.northparish.org
SUMMARY:Great Pond Sangha Zoom ONLY
DESCRIPTION:Great Pond Sangha meets on Zoom ONLY on the 2nd\, 4th and 5th Wednesdays of every month. No registration or RSVP requires. All are welcome. For more information or to request the Zoom link\, email: greatpondsangha@gmail.com \nOur hybrid meetings (in the Chapel AND on Zoom) occur on the 1st and 3rd Wednesdays of every month. Cost is free. Donations are welcome. \n 
URL:https://www.northparish.org/event/great-pond-sangha-zoom-only/2028-01-12/
LOCATION:via a Personal Zoom
END:VEVENT
BEGIN:VEVENT
DTSTART;TZID=America/New_York:20280119T183000
DTEND;TZID=America/New_York:20280119T190000
DTSTAMP:20260425T230933
CREATED:20220915T143234Z
LAST-MODIFIED:20251216T113324Z
UID:10015178-1831919400-1831921200@www.northparish.org
SUMMARY:Guided Buddhist Meditation and Discussion set-up
DESCRIPTION:
URL:https://www.northparish.org/event/guided-buddhist-meditation-and-discussion-set-up-2023-06-07-2023-06-21-2/2028-01-19/
LOCATION:Chapel at North Parish\, 190 Academy Road\, North Andover\, MA\, 01845-4022\, United States
END:VEVENT
BEGIN:VEVENT
DTSTART;TZID=America/New_York:20280119T190000
DTEND;TZID=America/New_York:20280119T201500
DTSTAMP:20260425T230933
CREATED:20240701T013829Z
LAST-MODIFIED:20251216T113411Z
UID:10015276-1831921200-1831925700@www.northparish.org
SUMMARY:Guided Buddhist Meditation and Discussion
DESCRIPTION:
URL:https://www.northparish.org/event/guided-buddhist-meditation-and-discussion-2/2028-01-19/
LOCATION:Chapel at North Parish\, 190 Academy Road\, North Andover\, MA\, 01845-4022\, United States
END:VEVENT
BEGIN:VEVENT
DTSTART;TZID=America/New_York:20280126T190000
DTEND;TZID=America/New_York:20280126T201500
DTSTAMP:20260425T230933
CREATED:20250529T140052Z
LAST-MODIFIED:20250529T140052Z
UID:10013479-1832526000-1832530500@www.northparish.org
SUMMARY:Great Pond Sangha Zoom ONLY
DESCRIPTION:Great Pond Sangha meets on Zoom ONLY on the 2nd\, 4th and 5th Wednesdays of every month. No registration or RSVP requires. All are welcome. \nFor more information or to request the Zoom link\, email: greatpondsangha@gmail.com \nOur hybrid meetings (in the Chapel AND on Zoom) occur on the 1st and 3rd Wednesdays of every month. Cost is free. Donations are welcome.
URL:https://www.northparish.org/event/great-pond-sangha-zoom-only-2/2028-01-26/
LOCATION:via a Personal Zoom
END:VEVENT
BEGIN:VEVENT
DTSTART;TZID=America/New_York:20280202T183000
DTEND;TZID=America/New_York:20280202T190000
DTSTAMP:20260425T230933
CREATED:20250303T133730Z
LAST-MODIFIED:20250303T133730Z
UID:10012798-1833129000-1833130800@www.northparish.org
SUMMARY:Guided Buddhist Meditation and Discussion set-up
DESCRIPTION:
URL:https://www.northparish.org/event/guided-buddhist-meditation-and-discussion-set-up-2/2028-02-02/
LOCATION:Chapel at North Parish\, 190 Academy Road\, North Andover\, MA\, 01845-4022\, United States
END:VEVENT
BEGIN:VEVENT
DTSTART;TZID=America/New_York:20280202T190000
DTEND;TZID=America/New_York:20280202T201500
DTSTAMP:20260425T230933
CREATED:20250303T133807Z
LAST-MODIFIED:20250303T133807Z
UID:10012858-1833130800-1833135300@www.northparish.org
SUMMARY:Guided Buddhist Meditation and Discussion
DESCRIPTION:
URL:https://www.northparish.org/event/guided-buddhist-meditation-and-discussion-2023-06-07-2/2028-02-02/
LOCATION:Chapel at North Parish\, 190 Academy Road\, North Andover\, MA\, 01845-4022\, United States
END:VEVENT
BEGIN:VEVENT
DTSTART;TZID=America/New_York:20280209T190000
DTEND;TZID=America/New_York:20280209T201500
DTSTAMP:20260425T230933
CREATED:20250529T135846Z
LAST-MODIFIED:20250529T140125Z
UID:10013420-1833735600-1833740100@www.northparish.org
SUMMARY:Great Pond Sangha Zoom ONLY
DESCRIPTION:Great Pond Sangha meets on Zoom ONLY on the 2nd\, 4th and 5th Wednesdays of every month. No registration or RSVP requires. All are welcome. For more information or to request the Zoom link\, email: greatpondsangha@gmail.com \nOur hybrid meetings (in the Chapel AND on Zoom) occur on the 1st and 3rd Wednesdays of every month. Cost is free. Donations are welcome. \n 
URL:https://www.northparish.org/event/great-pond-sangha-zoom-only/2028-02-09/
LOCATION:via a Personal Zoom
END:VEVENT
BEGIN:VEVENT
DTSTART;TZID=America/New_York:20280216T183000
DTEND;TZID=America/New_York:20280216T190000
DTSTAMP:20260425T230933
CREATED:20220915T143234Z
LAST-MODIFIED:20251216T113324Z
UID:10015179-1834338600-1834340400@www.northparish.org
SUMMARY:Guided Buddhist Meditation and Discussion set-up
DESCRIPTION:
URL:https://www.northparish.org/event/guided-buddhist-meditation-and-discussion-set-up-2023-06-07-2023-06-21-2/2028-02-16/
LOCATION:Chapel at North Parish\, 190 Academy Road\, North Andover\, MA\, 01845-4022\, United States
END:VEVENT
END:VCALENDAR