BEGIN:VCALENDAR
VERSION:2.0
PRODID:-//The North Parish Church of North Andover - ECPv6.15.13//NONSGML v1.0//EN
CALSCALE:GREGORIAN
METHOD:PUBLISH
X-ORIGINAL-URL:https://www.northparish.org
X-WR-CALDESC:Events for The North Parish Church of North Andover
REFRESH-INTERVAL;VALUE=DURATION:PT1H
X-Robots-Tag:noindex
X-PUBLISHED-TTL:PT1H
BEGIN:VTIMEZONE
TZID:America/New_York
BEGIN:DAYLIGHT
TZOFFSETFROM:-0500
TZOFFSETTO:-0400
TZNAME:EDT
DTSTART:20220313T070000
END:DAYLIGHT
BEGIN:STANDARD
TZOFFSETFROM:-0400
TZOFFSETTO:-0500
TZNAME:EST
DTSTART:20221106T060000
END:STANDARD
BEGIN:DAYLIGHT
TZOFFSETFROM:-0500
TZOFFSETTO:-0400
TZNAME:EDT
DTSTART:20230312T070000
END:DAYLIGHT
BEGIN:STANDARD
TZOFFSETFROM:-0400
TZOFFSETTO:-0500
TZNAME:EST
DTSTART:20231105T060000
END:STANDARD
BEGIN:DAYLIGHT
TZOFFSETFROM:-0500
TZOFFSETTO:-0400
TZNAME:EDT
DTSTART:20240310T070000
END:DAYLIGHT
BEGIN:STANDARD
TZOFFSETFROM:-0400
TZOFFSETTO:-0500
TZNAME:EST
DTSTART:20241103T060000
END:STANDARD
END:VTIMEZONE
BEGIN:VEVENT
DTSTART;TZID=America/New_York:20230521T101500
DTEND;TZID=America/New_York:20230521T110000
DTSTAMP:20260421T140837
CREATED:20220919T165951Z
LAST-MODIFIED:20220919T165951Z
UID:10006325-1684664100-1684666800@www.northparish.org
SUMMARY:Children's Chapel
DESCRIPTION:PreK through 5th Grade\, Children’s Chapel Gathering.  Meets in the Chapel Room
URL:https://www.northparish.org/event/childrens-chapel/2023-05-21/
LOCATION:Chapel at North Parish\, 190 Academy Road\, North Andover\, MA\, 01845-4022\, United States
END:VEVENT
BEGIN:VEVENT
DTSTART;TZID=America/New_York:20230521T100000
DTEND;TZID=America/New_York:20230521T113000
DTSTAMP:20260421T140837
CREATED:20230119T164905Z
LAST-MODIFIED:20230214T152611Z
UID:10005478-1684663200-1684668600@www.northparish.org
SUMMARY:Coming of Age
DESCRIPTION:
URL:https://www.northparish.org/event/coming-of-age-2023-02-12-2023-03-05/2023-05-21/
LOCATION:Flex Room E&W at North Parish\, 190 Great Pond Road\, North Andover\, MA\, 01845\, United States
END:VEVENT
BEGIN:VEVENT
DTSTART;TZID=America/New_York:20230521T100000
DTEND;TZID=America/New_York:20230521T110000
DTSTAMP:20260421T140837
CREATED:20230119T165251Z
LAST-MODIFIED:20230119T165251Z
UID:10006841-1684663200-1684666800@www.northparish.org
SUMMARY:JYG
DESCRIPTION:
URL:https://www.northparish.org/event/jyg-2/2023-05-21/
LOCATION:Parlor at North Parish\, 190 Academy Road\, North Andover\, MA\, 01845\, United States
END:VEVENT
BEGIN:VEVENT
DTSTART;TZID=America/New_York:20230519T180000
DTEND;TZID=America/New_York:20230520T180000
DTSTAMP:20260421T140837
CREATED:20230516T125311Z
LAST-MODIFIED:20230516T125311Z
UID:10007082-1684519200-1684605600@www.northparish.org
SUMMARY:SYG Sleepover
DESCRIPTION:
URL:https://www.northparish.org/event/syg-sleepover/
LOCATION:Whole building at North Parish\, 190 Academy Road\, North Andover\, MA\, 01845\, United States
END:VEVENT
BEGIN:VEVENT
DTSTART;TZID=America/New_York:20230514T100000
DTEND;TZID=America/New_York:20230514T113000
DTSTAMP:20260421T140837
CREATED:20230119T164905Z
LAST-MODIFIED:20230214T152611Z
UID:10005477-1684058400-1684063800@www.northparish.org
SUMMARY:Coming of Age
DESCRIPTION:
URL:https://www.northparish.org/event/coming-of-age-2023-02-12-2023-03-05/2023-05-14/
LOCATION:Flex Room E&W at North Parish\, 190 Great Pond Road\, North Andover\, MA\, 01845\, United States
END:VEVENT
BEGIN:VEVENT
DTSTART;TZID=America/New_York:20230514T100000
DTEND;TZID=America/New_York:20230514T110000
DTSTAMP:20260421T140837
CREATED:20230119T165251Z
LAST-MODIFIED:20230119T165251Z
UID:10006840-1684058400-1684062000@www.northparish.org
SUMMARY:JYG
DESCRIPTION:
URL:https://www.northparish.org/event/jyg-2/2023-05-14/
LOCATION:Parlor at North Parish\, 190 Academy Road\, North Andover\, MA\, 01845\, United States
END:VEVENT
BEGIN:VEVENT
DTSTART;TZID=America/New_York:20230507T100000
DTEND;TZID=America/New_York:20230507T113000
DTSTAMP:20260421T140837
CREATED:20230119T164905Z
LAST-MODIFIED:20230214T152611Z
UID:10005476-1683453600-1683459000@www.northparish.org
SUMMARY:Coming of Age
DESCRIPTION:
URL:https://www.northparish.org/event/coming-of-age-2023-02-12-2023-03-05/2023-05-07/
LOCATION:Flex Room E&W at North Parish\, 190 Great Pond Road\, North Andover\, MA\, 01845\, United States
END:VEVENT
BEGIN:VEVENT
DTSTART;TZID=America/New_York:20230507T100000
DTEND;TZID=America/New_York:20230507T110000
DTSTAMP:20260421T140837
CREATED:20230119T165251Z
LAST-MODIFIED:20230119T165251Z
UID:10006839-1683453600-1683457200@www.northparish.org
SUMMARY:JYG
DESCRIPTION:
URL:https://www.northparish.org/event/jyg-2/2023-05-07/
LOCATION:Parlor at North Parish\, 190 Academy Road\, North Andover\, MA\, 01845\, United States
END:VEVENT
BEGIN:VEVENT
DTSTART;TZID=America/New_York:20230430T100000
DTEND;TZID=America/New_York:20230430T113000
DTSTAMP:20260421T140837
CREATED:20230119T164905Z
LAST-MODIFIED:20230214T152611Z
UID:10005475-1682848800-1682854200@www.northparish.org
SUMMARY:Coming of Age
DESCRIPTION:
URL:https://www.northparish.org/event/coming-of-age-2023-02-12-2023-03-05/2023-04-30/
LOCATION:Flex Room E&W at North Parish\, 190 Great Pond Road\, North Andover\, MA\, 01845\, United States
END:VEVENT
BEGIN:VEVENT
DTSTART;TZID=America/New_York:20230430T100000
DTEND;TZID=America/New_York:20230430T110000
DTSTAMP:20260421T140837
CREATED:20230119T165251Z
LAST-MODIFIED:20230119T165251Z
UID:10006838-1682848800-1682852400@www.northparish.org
SUMMARY:JYG
DESCRIPTION:
URL:https://www.northparish.org/event/jyg-2/2023-04-30/
LOCATION:Parlor at North Parish\, 190 Academy Road\, North Andover\, MA\, 01845\, United States
END:VEVENT
BEGIN:VEVENT
DTSTART;TZID=America/New_York:20230428T170000
DTEND;TZID=America/New_York:20230429T100000
DTSTAMP:20260421T140837
CREATED:20230327T132945Z
LAST-MODIFIED:20230327T132945Z
UID:10005973-1682701200-1682762400@www.northparish.org
SUMMARY:JYG Overnight Event at North Parish
DESCRIPTION:
URL:https://www.northparish.org/event/jyg-overnight-event-at-north-parish/
LOCATION:Whole building at North Parish\, 190 Academy Road\, North Andover\, MA\, 01845\, United States
END:VEVENT
BEGIN:VEVENT
DTSTART;TZID=America/New_York:20230423T111500
DTEND;TZID=America/New_York:20230423T120000
DTSTAMP:20260421T140837
CREATED:20230420T131602Z
LAST-MODIFIED:20230420T131602Z
UID:10007034-1682248500-1682251200@www.northparish.org
SUMMARY:Tentative post service refreshments
DESCRIPTION:
URL:https://www.northparish.org/event/tentative-post-service-refreshments/
LOCATION:Chapel at North Parish\, 190 Academy Road\, North Andover\, MA\, 01845-4022\, United States
END:VEVENT
BEGIN:VEVENT
DTSTART;TZID=America/New_York:20230423T100000
DTEND;TZID=America/New_York:20230423T113000
DTSTAMP:20260421T140837
CREATED:20230119T164905Z
LAST-MODIFIED:20230214T152611Z
UID:10005474-1682244000-1682249400@www.northparish.org
SUMMARY:Coming of Age
DESCRIPTION:
URL:https://www.northparish.org/event/coming-of-age-2023-02-12-2023-03-05/2023-04-23/
LOCATION:Flex Room E&W at North Parish\, 190 Great Pond Road\, North Andover\, MA\, 01845\, United States
END:VEVENT
BEGIN:VEVENT
DTSTART;TZID=America/New_York:20230423T100000
DTEND;TZID=America/New_York:20230423T110000
DTSTAMP:20260421T140837
CREATED:20230119T165251Z
LAST-MODIFIED:20230119T165251Z
UID:10006837-1682244000-1682247600@www.northparish.org
SUMMARY:JYG
DESCRIPTION:
URL:https://www.northparish.org/event/jyg-2/2023-04-23/
LOCATION:Parlor at North Parish\, 190 Academy Road\, North Andover\, MA\, 01845\, United States
END:VEVENT
BEGIN:VEVENT
DTSTART;TZID=America/New_York:20230416T101500
DTEND;TZID=America/New_York:20230416T110000
DTSTAMP:20260421T140837
CREATED:20220919T165951Z
LAST-MODIFIED:20220919T165951Z
UID:10006324-1681640100-1681642800@www.northparish.org
SUMMARY:Children's Chapel
DESCRIPTION:PreK through 5th Grade\, Children’s Chapel Gathering.  Meets in the Chapel Room
URL:https://www.northparish.org/event/childrens-chapel/2023-04-16/
LOCATION:Chapel at North Parish\, 190 Academy Road\, North Andover\, MA\, 01845-4022\, United States
END:VEVENT
BEGIN:VEVENT
DTSTART;TZID=America/New_York:20230416T100000
DTEND;TZID=America/New_York:20230416T110000
DTSTAMP:20260421T140837
CREATED:20230119T165251Z
LAST-MODIFIED:20230119T165251Z
UID:10006836-1681639200-1681642800@www.northparish.org
SUMMARY:JYG
DESCRIPTION:
URL:https://www.northparish.org/event/jyg-2/2023-04-16/
LOCATION:Parlor at North Parish\, 190 Academy Road\, North Andover\, MA\, 01845\, United States
END:VEVENT
BEGIN:VEVENT
DTSTART;TZID=America/New_York:20230402T100000
DTEND;TZID=America/New_York:20230402T113000
DTSTAMP:20260421T140837
CREATED:20230119T164905Z
LAST-MODIFIED:20230214T152611Z
UID:10005473-1680429600-1680435000@www.northparish.org
SUMMARY:Coming of Age
DESCRIPTION:
URL:https://www.northparish.org/event/coming-of-age-2023-02-12-2023-03-05/2023-04-02/
LOCATION:Flex Room E&W at North Parish\, 190 Great Pond Road\, North Andover\, MA\, 01845\, United States
END:VEVENT
BEGIN:VEVENT
DTSTART;TZID=America/New_York:20230402T100000
DTEND;TZID=America/New_York:20230402T110000
DTSTAMP:20260421T140837
CREATED:20230119T165251Z
LAST-MODIFIED:20230119T165251Z
UID:10006835-1680429600-1680433200@www.northparish.org
SUMMARY:JYG
DESCRIPTION:
URL:https://www.northparish.org/event/jyg-2/2023-04-02/
LOCATION:Parlor at North Parish\, 190 Academy Road\, North Andover\, MA\, 01845\, United States
END:VEVENT
BEGIN:VEVENT
DTSTART;TZID=America/New_York:20230326T100000
DTEND;TZID=America/New_York:20230326T113000
DTSTAMP:20260421T140837
CREATED:20230119T164905Z
LAST-MODIFIED:20230214T152611Z
UID:10005472-1679824800-1679830200@www.northparish.org
SUMMARY:Coming of Age
DESCRIPTION:
URL:https://www.northparish.org/event/coming-of-age-2023-02-12-2023-03-05/2023-03-26/
LOCATION:Flex Room E&W at North Parish\, 190 Great Pond Road\, North Andover\, MA\, 01845\, United States
END:VEVENT
BEGIN:VEVENT
DTSTART;TZID=America/New_York:20230326T100000
DTEND;TZID=America/New_York:20230326T110000
DTSTAMP:20260421T140837
CREATED:20230119T165251Z
LAST-MODIFIED:20230119T165251Z
UID:10006834-1679824800-1679828400@www.northparish.org
SUMMARY:JYG
DESCRIPTION:
URL:https://www.northparish.org/event/jyg-2/2023-03-26/
LOCATION:Parlor at North Parish\, 190 Academy Road\, North Andover\, MA\, 01845\, United States
END:VEVENT
BEGIN:VEVENT
DTSTART;TZID=America/New_York:20230324T170000
DTEND;TZID=America/New_York:20230324T200000
DTSTAMP:20260421T140837
CREATED:20230309T154554Z
LAST-MODIFIED:20230309T155046Z
UID:10006952-1679677200-1679688000@www.northparish.org
SUMMARY:SYG Youth Potluck dinner and baking evening
DESCRIPTION:SYG youth and friends are invited to come together for an evening of food\, fun and fellowship. Sign up here to attend. \n 
URL:https://www.northparish.org/event/syg-youth-potluck-dinner-and-baking-evening/
LOCATION:Freeman Hall & Parlor at North Parish\, 190 Academy Road\, North Andover\, MA\, 01845\, United States
END:VEVENT
BEGIN:VEVENT
DTSTART;TZID=America/New_York:20230319T114500
DTEND;TZID=America/New_York:20230319T150000
DTSTAMP:20260421T140837
CREATED:20230126T151400Z
LAST-MODIFIED:20230126T151400Z
UID:10006847-1679226300-1679238000@www.northparish.org
SUMMARY:Bridging Meeting
DESCRIPTION:
URL:https://www.northparish.org/event/bridging-meeting-2/
LOCATION:Chapel at North Parish\, 190 Academy Road\, North Andover\, MA\, 01845-4022\, United States
END:VEVENT
BEGIN:VEVENT
DTSTART;TZID=America/New_York:20230319T100000
DTEND;TZID=America/New_York:20230319T113000
DTSTAMP:20260421T140837
CREATED:20230119T164905Z
LAST-MODIFIED:20230214T152611Z
UID:10005471-1679220000-1679225400@www.northparish.org
SUMMARY:Coming of Age
DESCRIPTION:
URL:https://www.northparish.org/event/coming-of-age-2023-02-12-2023-03-05/2023-03-19/
LOCATION:Flex Room E&W at North Parish\, 190 Great Pond Road\, North Andover\, MA\, 01845\, United States
END:VEVENT
BEGIN:VEVENT
DTSTART;TZID=America/New_York:20230319T100000
DTEND;TZID=America/New_York:20230319T110000
DTSTAMP:20260421T140837
CREATED:20230119T165251Z
LAST-MODIFIED:20230119T165251Z
UID:10006833-1679220000-1679223600@www.northparish.org
SUMMARY:JYG
DESCRIPTION:
URL:https://www.northparish.org/event/jyg-2/2023-03-19/
LOCATION:Parlor at North Parish\, 190 Academy Road\, North Andover\, MA\, 01845\, United States
END:VEVENT
BEGIN:VEVENT
DTSTART;TZID=America/New_York:20230312T100000
DTEND;TZID=America/New_York:20230312T113000
DTSTAMP:20260421T140837
CREATED:20230119T164905Z
LAST-MODIFIED:20230214T152611Z
UID:10005470-1678615200-1678620600@www.northparish.org
SUMMARY:Coming of Age
DESCRIPTION:
URL:https://www.northparish.org/event/coming-of-age-2023-02-12-2023-03-05/2023-03-12/
LOCATION:Flex Room E&W at North Parish\, 190 Great Pond Road\, North Andover\, MA\, 01845\, United States
END:VEVENT
BEGIN:VEVENT
DTSTART;TZID=America/New_York:20230312T100000
DTEND;TZID=America/New_York:20230312T110000
DTSTAMP:20260421T140837
CREATED:20230119T165251Z
LAST-MODIFIED:20230119T165251Z
UID:10006832-1678615200-1678618800@www.northparish.org
SUMMARY:JYG
DESCRIPTION:
URL:https://www.northparish.org/event/jyg-2/2023-03-12/
LOCATION:Parlor at North Parish\, 190 Academy Road\, North Andover\, MA\, 01845\, United States
END:VEVENT
BEGIN:VEVENT
DTSTART;TZID=America/New_York:20230305T100000
DTEND;TZID=America/New_York:20230305T113000
DTSTAMP:20260421T140837
CREATED:20230119T164905Z
LAST-MODIFIED:20230214T152611Z
UID:10005469-1678010400-1678015800@www.northparish.org
SUMMARY:Coming of Age
DESCRIPTION:
URL:https://www.northparish.org/event/coming-of-age-2023-02-12-2023-03-05/2023-03-05/
LOCATION:Flex Room E&W at North Parish\, 190 Great Pond Road\, North Andover\, MA\, 01845\, United States
END:VEVENT
BEGIN:VEVENT
DTSTART;TZID=America/New_York:20230305T100000
DTEND;TZID=America/New_York:20230305T110000
DTSTAMP:20260421T140837
CREATED:20230119T165251Z
LAST-MODIFIED:20230119T165251Z
UID:10006831-1678010400-1678014000@www.northparish.org
SUMMARY:JYG
DESCRIPTION:
URL:https://www.northparish.org/event/jyg-2/2023-03-05/
LOCATION:Parlor at North Parish\, 190 Academy Road\, North Andover\, MA\, 01845\, United States
END:VEVENT
BEGIN:VEVENT
DTSTART;TZID=America/New_York:20230302T190000
DTEND;TZID=America/New_York:20230302T200000
DTSTAMP:20260421T140837
CREATED:20230222T164905Z
LAST-MODIFIED:20230222T164905Z
UID:10006885-1677783600-1677787200@www.northparish.org
SUMMARY:RE Team Meeting
DESCRIPTION:We are hosting an RE Team Zoom meeting on Thursday\, March 2nd at 7pm. Come with ideas and a good sense of humor as we reinvigorate the RE program! You can join the meeting by clicking on this Zoom link: https://us02web.zoom.us/j/88117323645?pwd=Y2RGOGxWUXNRUlVrL1JLdWY5OUNrdz09 \n  \nMeeting details below if you have trouble with the link  \nMeeting ID: 881 1732 3645 \nPasscode: 071362 \n  \nSee you all then!  \n  \nAny questions\, please feel free to contact Erika Cohen Maddaluno (emcmaddaluno@gmail.com) or Kerry Anne Kilkelly (faithformation@northparish.org)
URL:https://www.northparish.org/event/re-team-meeting/
LOCATION:via a Personal Zoom
END:VEVENT
BEGIN:VEVENT
DTSTART;TZID=America/New_York:20230226T100000
DTEND;TZID=America/New_York:20230226T113000
DTSTAMP:20260421T140837
CREATED:20230119T164905Z
LAST-MODIFIED:20230214T152622Z
UID:10005466-1677405600-1677411000@www.northparish.org
SUMMARY:Coming of Age Orientation
DESCRIPTION:
URL:https://www.northparish.org/event/coming-of-age-2023-02-12/
LOCATION:Flex Room E&W at North Parish\, 190 Great Pond Road\, North Andover\, MA\, 01845\, United States
END:VEVENT
END:VCALENDAR