BEGIN:VCALENDAR
VERSION:2.0
PRODID:-//The North Parish Church of North Andover - ECPv6.15.13//NONSGML v1.0//EN
CALSCALE:GREGORIAN
METHOD:PUBLISH
X-ORIGINAL-URL:https://www.northparish.org
X-WR-CALDESC:Events for The North Parish Church of North Andover
REFRESH-INTERVAL;VALUE=DURATION:PT1H
X-Robots-Tag:noindex
X-PUBLISHED-TTL:PT1H
BEGIN:VTIMEZONE
TZID:America/New_York
BEGIN:DAYLIGHT
TZOFFSETFROM:-0500
TZOFFSETTO:-0400
TZNAME:EDT
DTSTART:20220313T070000
END:DAYLIGHT
BEGIN:STANDARD
TZOFFSETFROM:-0400
TZOFFSETTO:-0500
TZNAME:EST
DTSTART:20221106T060000
END:STANDARD
BEGIN:DAYLIGHT
TZOFFSETFROM:-0500
TZOFFSETTO:-0400
TZNAME:EDT
DTSTART:20230312T070000
END:DAYLIGHT
BEGIN:STANDARD
TZOFFSETFROM:-0400
TZOFFSETTO:-0500
TZNAME:EST
DTSTART:20231105T060000
END:STANDARD
BEGIN:DAYLIGHT
TZOFFSETFROM:-0500
TZOFFSETTO:-0400
TZNAME:EDT
DTSTART:20240310T070000
END:DAYLIGHT
BEGIN:STANDARD
TZOFFSETFROM:-0400
TZOFFSETTO:-0500
TZNAME:EST
DTSTART:20241103T060000
END:STANDARD
BEGIN:DAYLIGHT
TZOFFSETFROM:-0500
TZOFFSETTO:-0400
TZNAME:EDT
DTSTART:20250309T070000
END:DAYLIGHT
BEGIN:STANDARD
TZOFFSETFROM:-0400
TZOFFSETTO:-0500
TZNAME:EST
DTSTART:20251102T060000
END:STANDARD
BEGIN:DAYLIGHT
TZOFFSETFROM:-0500
TZOFFSETTO:-0400
TZNAME:EDT
DTSTART:20260308T070000
END:DAYLIGHT
BEGIN:STANDARD
TZOFFSETFROM:-0400
TZOFFSETTO:-0500
TZNAME:EST
DTSTART:20261101T060000
END:STANDARD
END:VTIMEZONE
BEGIN:VEVENT
DTSTART;TZID=America/New_York:20251012T113000
DTEND;TZID=America/New_York:20251012T123000
DTSTAMP:20260421T081708
CREATED:20250922T073942Z
LAST-MODIFIED:20250923T080723Z
UID:10014116-1760268600-1760272200@www.northparish.org
SUMMARY:5th-12th grade parents group meeting
DESCRIPTION:
URL:https://www.northparish.org/event/5th-12th-grade-parents-group-meeting-2/2025-10-12/
LOCATION:Blue Room at North Parish\, 190 Academy Road\, North Andover\, MA\, 01845\, United States
END:VEVENT
BEGIN:VEVENT
DTSTART;TZID=America/New_York:20251012T101500
DTEND;TZID=America/New_York:20251012T110000
DTSTAMP:20260421T081708
CREATED:20250930T183535Z
LAST-MODIFIED:20251007T122115Z
UID:10014174-1760264100-1760266800@www.northparish.org
SUMMARY:RE
DESCRIPTION:
URL:https://www.northparish.org/event/re-3/2025-10-12/
LOCATION:Chapel at North Parish\, 190 Academy Road\, North Andover\, MA\, 01845-4022\, United States
END:VEVENT
BEGIN:VEVENT
DTSTART;TZID=America/New_York:20251012T093000
DTEND;TZID=America/New_York:20251012T221500
DTSTAMP:20260421T081708
CREATED:20250930T183648Z
LAST-MODIFIED:20251007T121627Z
UID:10014173-1760261400-1760307300@www.northparish.org
SUMMARY:RE set-up
DESCRIPTION:
URL:https://www.northparish.org/event/re-set-up/2025-10-12/
LOCATION:Chapel at North Parish\, 190 Academy Road\, North Andover\, MA\, 01845-4022\, United States
CATEGORIES:Exclude from Home
END:VEVENT
BEGIN:VEVENT
DTSTART;TZID=America/New_York:20251005T093000
DTEND;TZID=America/New_York:20251005T233000
DTSTAMP:20260421T081708
CREATED:20250930T162254Z
LAST-MODIFIED:20250930T162254Z
UID:10014165-1759656600-1759707000@www.northparish.org
SUMMARY:PK-Kindergarten will be meeting in Chapel instead of Yellow Room
DESCRIPTION:
URL:https://www.northparish.org/event/pk-kindergarten-will-be-meeting-in-chapel-instead-of-yellow-room/
LOCATION:Chapel at North Parish\, 190 Academy Road\, North Andover\, MA\, 01845-4022\, United States
END:VEVENT
BEGIN:VEVENT
DTSTART;TZID=America/New_York:20250928T100000
DTEND;TZID=America/New_York:20250928T120000
DTSTAMP:20260421T081708
CREATED:20250618T163455Z
LAST-MODIFIED:20250618T163455Z
UID:10013641-1759053600-1759060800@www.northparish.org
SUMMARY:RE field trip to Giving Garden
DESCRIPTION:
URL:https://www.northparish.org/event/re-field-trip-to-giving-garden/
END:VEVENT
BEGIN:VEVENT
DTSTART;TZID=America/New_York:20250921T103000
DTEND;TZID=America/New_York:20250921T113000
DTSTAMP:20260421T081708
CREATED:20250915T112132Z
LAST-MODIFIED:20250915T112132Z
UID:10014107-1758450600-1758454200@www.northparish.org
SUMMARY:RE stations
DESCRIPTION:
URL:https://www.northparish.org/event/re-stations/
LOCATION:Chapel at North Parish\, 190 Academy Road\, North Andover\, MA\, 01845-4022\, United States
END:VEVENT
BEGIN:VEVENT
DTSTART;TZID=America/New_York:20250914T090000
DTEND;TZID=America/New_York:20250914T120000
DTSTAMP:20260421T081708
CREATED:20250819T143757Z
LAST-MODIFIED:20250819T143757Z
UID:10014052-1757840400-1757851200@www.northparish.org
SUMMARY:SYG Youth Mosaic RE Group
DESCRIPTION:
URL:https://www.northparish.org/event/syg-youth-mosaic-re-group/
LOCATION:Flex Room E at North Parish\, 190 Academy Road\, North Andover\, MA\, 01845\, United States
END:VEVENT
BEGIN:VEVENT
DTSTART;TZID=America/New_York:20250912T113000
DTEND;TZID=America/New_York:20250912T123000
DTSTAMP:20260421T081708
CREATED:20250922T072957Z
LAST-MODIFIED:20250922T072957Z
UID:10014115-1757676600-1757680200@www.northparish.org
SUMMARY:5th-12th grade parents group meeting
DESCRIPTION:
URL:https://www.northparish.org/event/5th-12th-grade-parents-group-meeting/
LOCATION:Green Room at North Parish\, 190 Academy Road\, North Andover\, MA\, 01845\, United States
END:VEVENT
BEGIN:VEVENT
DTSTART;TZID=America/New_York:20250711T170000
DTEND;TZID=America/New_York:20250712T090000
DTSTAMP:20260421T081708
CREATED:20250527T102433Z
LAST-MODIFIED:20250630T203238Z
UID:10013360-1752253200-1752310800@www.northparish.org
SUMMARY:JYG/SYG Summer Sleepover
DESCRIPTION:
URL:https://www.northparish.org/event/jyg-syg-summer-sleepover/
LOCATION:Whole building at North Parish\, 190 Academy Road\, North Andover\, MA\, 01845\, United States
END:VEVENT
BEGIN:VEVENT
DTSTART;TZID=America/New_York:20250622T100000
DTEND;TZID=America/New_York:20250622T120000
DTSTAMP:20260421T081708
CREATED:20250522T150316Z
LAST-MODIFIED:20250612T160207Z
UID:10013359-1750586400-1750593600@www.northparish.org
SUMMARY:Parents of Preschoolers - 4th Graders will meet at Drummond Park at 10am so parents can socialize and kids can play
DESCRIPTION:There will be no RE today.
URL:https://www.northparish.org/event/parents-of-preschoolers-2nd-graders-will-meet-at-drummond-park-at-10am-so-parents-can-socialize-and-kids-can-play/
END:VEVENT
BEGIN:VEVENT
DTSTART;TZID=America/New_York:20250608T101500
DTEND;TZID=America/New_York:20250608T110000
DTSTAMP:20260421T081708
CREATED:20250529T122931Z
LAST-MODIFIED:20250529T142046Z
UID:10013387-1749377700-1749380400@www.northparish.org
SUMMARY:RE in the Chapel-making paper flowers for the Flower Communion Service
DESCRIPTION:
URL:https://www.northparish.org/event/re-in-the-chapel-making-paper-flowers-for-the-flower-communion-service/
LOCATION:Chapel at North Parish\, 190 Academy Road\, North Andover\, MA\, 01845-4022\, United States
END:VEVENT
BEGIN:VEVENT
DTSTART;TZID=America/New_York:20250531T180000
DTEND;TZID=America/New_York:20250531T210000
DTSTAMP:20260421T081708
CREATED:20250521T182958Z
LAST-MODIFIED:20250521T182958Z
UID:10013358-1748714400-1748725200@www.northparish.org
SUMMARY:COA service rehearsal and dinner
DESCRIPTION:
URL:https://www.northparish.org/event/coa-service-rehearsal-and-dinner/
LOCATION:Freeman Hall & Parlor at North Parish\, 190 Academy Road\, North Andover\, MA\, 01845\, United States
END:VEVENT
BEGIN:VEVENT
DTSTART;TZID=America/New_York:20250516T183000
DTEND;TZID=America/New_York:20250516T203000
DTSTAMP:20260421T081708
CREATED:20250506T131021Z
LAST-MODIFIED:20250506T131021Z
UID:10013194-1747420200-1747427400@www.northparish.org
SUMMARY:Bridgers rehearsal
DESCRIPTION:
URL:https://www.northparish.org/event/bridgers-rehearsal/
LOCATION:Sanctuary at North Parish\, 190 Academy Road\, North Andover\, MA\, 01845\, United States
END:VEVENT
BEGIN:VEVENT
DTSTART;TZID=America/New_York:20250504T113000
DTEND;TZID=America/New_York:20250504T130000
DTSTAMP:20260421T081708
CREATED:20250109T123545Z
LAST-MODIFIED:20250109T162300Z
UID:10011839-1746358200-1746363600@www.northparish.org
SUMMARY:Parents of Preschoolers meeting
DESCRIPTION:
URL:https://www.northparish.org/event/parents-of-preschoolers-meeting-3/2025-05-04/
LOCATION:Blue Room at North Parish\, 190 Academy Road\, North Andover\, MA\, 01845\, United States
END:VEVENT
BEGIN:VEVENT
DTSTART;TZID=America/New_York:20250504T090000
DTEND;TZID=America/New_York:20250504T110000
DTSTAMP:20260421T081708
CREATED:20250430T162157Z
LAST-MODIFIED:20250430T162157Z
UID:10013057-1746349200-1746356400@www.northparish.org
SUMMARY:RE Meeting for PS-5th Graders
DESCRIPTION:
URL:https://www.northparish.org/event/re-meeting-for-ps-5th-graders/
LOCATION:Chapel at North Parish\, 190 Academy Road\, North Andover\, MA\, 01845-4022\, United States
END:VEVENT
BEGIN:VEVENT
DTSTART;TZID=America/New_York:20250501T160000
DTEND;TZID=America/New_York:20250501T190000
DTSTAMP:20260421T081708
CREATED:20250415T171448Z
LAST-MODIFIED:20250415T171448Z
UID:10013021-1746115200-1746126000@www.northparish.org
SUMMARY:Susanne Hinson-Rieger
DESCRIPTION:
URL:https://www.northparish.org/event/susanne-hinson-rieger/
LOCATION:Sanctuary at North Parish\, 190 Academy Road\, North Andover\, MA\, 01845\, United States
END:VEVENT
BEGIN:VEVENT
DTSTART;TZID=America/New_York:20250420T080000
DTEND;TZID=America/New_York:20250420T123000
DTSTAMP:20260421T081708
CREATED:20250417T122625Z
LAST-MODIFIED:20250417T122625Z
UID:10013024-1745136000-1745152200@www.northparish.org
SUMMARY:RE for PS-5th Grades in the Chapel
DESCRIPTION:
URL:https://www.northparish.org/event/re-for-ps-5th-grades-in-the-chapel/
LOCATION:Chapel at North Parish\, 190 Academy Road\, North Andover\, MA\, 01845-4022\, United States
END:VEVENT
BEGIN:VEVENT
DTSTART;TZID=America/New_York:20250413T113000
DTEND;TZID=America/New_York:20250413T130000
DTSTAMP:20260421T081708
CREATED:20250109T123545Z
LAST-MODIFIED:20250109T162300Z
UID:10011838-1744543800-1744549200@www.northparish.org
SUMMARY:Parents of Preschoolers meeting
DESCRIPTION:
URL:https://www.northparish.org/event/parents-of-preschoolers-meeting-3/2025-04-13/
LOCATION:Blue Room at North Parish\, 190 Academy Road\, North Andover\, MA\, 01845\, United States
END:VEVENT
BEGIN:VEVENT
DTSTART;TZID=America/New_York:20250309T113000
DTEND;TZID=America/New_York:20250309T130000
DTSTAMP:20260421T081708
CREATED:20250109T123545Z
LAST-MODIFIED:20250109T162300Z
UID:10011837-1741519800-1741525200@www.northparish.org
SUMMARY:Parents of Preschoolers meeting
DESCRIPTION:
URL:https://www.northparish.org/event/parents-of-preschoolers-meeting-3/2025-03-09/
LOCATION:Blue Room at North Parish\, 190 Academy Road\, North Andover\, MA\, 01845\, United States
END:VEVENT
BEGIN:VEVENT
DTSTART;TZID=America/New_York:20250209T113000
DTEND;TZID=America/New_York:20250209T130000
DTSTAMP:20260421T081708
CREATED:20250109T123545Z
LAST-MODIFIED:20250109T162300Z
UID:10011836-1739100600-1739106000@www.northparish.org
SUMMARY:Parents of Preschoolers meeting
DESCRIPTION:
URL:https://www.northparish.org/event/parents-of-preschoolers-meeting-3/2025-02-09/
LOCATION:Blue Room at North Parish\, 190 Academy Road\, North Andover\, MA\, 01845\, United States
END:VEVENT
BEGIN:VEVENT
DTSTART;TZID=America/New_York:20250117T170000
DTEND;TZID=America/New_York:20250118T100000
DTSTAMP:20260421T081708
CREATED:20241121T151426Z
LAST-MODIFIED:20241121T151426Z
UID:10011548-1737133200-1737194400@www.northparish.org
SUMMARY:JYG/SYG Sleepover
DESCRIPTION:
URL:https://www.northparish.org/event/jyg-syg-sleepover-2/
LOCATION:Whole building at North Parish\, 190 Academy Road\, North Andover\, MA\, 01845\, United States
END:VEVENT
BEGIN:VEVENT
DTSTART;TZID=America/New_York:20250112T113000
DTEND;TZID=America/New_York:20250112T130000
DTSTAMP:20260421T081708
CREATED:20250109T123545Z
LAST-MODIFIED:20250109T162300Z
UID:10011831-1736681400-1736686800@www.northparish.org
SUMMARY:Parents of Preschoolers meeting
DESCRIPTION:
URL:https://www.northparish.org/event/parents-of-preschoolers-meeting-3/2025-01-12/
LOCATION:Blue Room at North Parish\, 190 Academy Road\, North Andover\, MA\, 01845\, United States
END:VEVENT
BEGIN:VEVENT
DTSTART;TZID=America/New_York:20241208T094500
DTEND;TZID=America/New_York:20241208T113000
DTSTAMP:20260421T081708
CREATED:20241203T174356Z
LAST-MODIFIED:20241203T174356Z
UID:10011577-1733651100-1733657400@www.northparish.org
SUMMARY:RE in the Chapel
DESCRIPTION:
URL:https://www.northparish.org/event/re-in-the-chapel/
LOCATION:Chapel at North Parish\, 190 Academy Road\, North Andover\, MA\, 01845-4022\, United States
END:VEVENT
BEGIN:VEVENT
DTSTART;TZID=America/New_York:20241026T180000
DTEND;TZID=America/New_York:20241026T200000
DTSTAMP:20260421T081708
CREATED:20240606T123821Z
LAST-MODIFIED:20241017T175307Z
UID:10007722-1729965600-1729972800@www.northparish.org
SUMMARY:Halloween Party and Haunted House
DESCRIPTION:
URL:https://www.northparish.org/event/halloween-party-and-haunted-house/
LOCATION:Whole building at North Parish\, 190 Academy Road\, North Andover\, MA\, 01845\, United States
END:VEVENT
BEGIN:VEVENT
DTSTART;TZID=America/New_York:20241025T080000
DTEND;TZID=America/New_York:20241026T230000
DTSTAMP:20260421T081708
CREATED:20240606T123731Z
LAST-MODIFIED:20240606T123731Z
UID:10007721-1729843200-1729983600@www.northparish.org
SUMMARY:Halloween Party and Haunted House set-up
DESCRIPTION:
URL:https://www.northparish.org/event/halloween-party-and-haunted-house-set-up/
LOCATION:Whole building at North Parish\, 190 Academy Road\, North Andover\, MA\, 01845\, United States
END:VEVENT
BEGIN:VEVENT
DTSTART;TZID=America/New_York:20241013T110000
DTEND;TZID=America/New_York:20241013T120000
DTSTAMP:20260421T081708
CREATED:20240912T143907Z
LAST-MODIFIED:20240912T143907Z
UID:10010551-1728817200-1728820800@www.northparish.org
SUMMARY:Parents of Preschoolers Meeting
DESCRIPTION:
URL:https://www.northparish.org/event/parents-of-preschoolers-meeting-2/
LOCATION:Blue Room at North Parish\, 190 Academy Road\, North Andover\, MA\, 01845\, United States
END:VEVENT
BEGIN:VEVENT
DTSTART;TZID=America/New_York:20240908T100000
DTEND;TZID=America/New_York:20240908T110000
DTSTAMP:20260421T081708
CREATED:20240611T160009Z
LAST-MODIFIED:20240611T160055Z
UID:10007747-1725789600-1725793200@www.northparish.org
SUMMARY:RE begins
DESCRIPTION:
URL:https://www.northparish.org/event/re-begins/
END:VEVENT
BEGIN:VEVENT
DTSTART;TZID=America/New_York:20240210T130000
DTEND;TZID=America/New_York:20240210T150000
DTSTAMP:20260421T081708
CREATED:20230831T142609Z
LAST-MODIFIED:20230831T142609Z
UID:10007202-1707570000-1707577200@www.northparish.org
SUMMARY:RE Facilitator Training
DESCRIPTION:
URL:https://www.northparish.org/event/re-facilitator-training/2024-02-10/
LOCATION:Chapel at North Parish\, 190 Academy Road\, North Andover\, MA\, 01845-4022\, United States
END:VEVENT
BEGIN:VEVENT
DTSTART;TZID=America/New_York:20231203T110000
DTEND;TZID=America/New_York:20231203T120000
DTSTAMP:20260421T081708
CREATED:20230905T163803Z
LAST-MODIFIED:20230905T163803Z
UID:10007493-1701601200-1701604800@www.northparish.org
SUMMARY:Juice Box Hour
DESCRIPTION:
URL:https://www.northparish.org/event/juice-box-hour/2023-12-03/
LOCATION:Flex Room E&W at North Parish\, 190 Great Pond Road\, North Andover\, MA\, 01845\, United States
END:VEVENT
BEGIN:VEVENT
DTSTART;TZID=America/New_York:20231126T110000
DTEND;TZID=America/New_York:20231126T120000
DTSTAMP:20260421T081708
CREATED:20230905T163803Z
LAST-MODIFIED:20230905T163803Z
UID:10007492-1700996400-1701000000@www.northparish.org
SUMMARY:Juice Box Hour
DESCRIPTION:
URL:https://www.northparish.org/event/juice-box-hour/2023-11-26/
LOCATION:Flex Room E&W at North Parish\, 190 Great Pond Road\, North Andover\, MA\, 01845\, United States
END:VEVENT
END:VCALENDAR