BEGIN:VCALENDAR
VERSION:2.0
PRODID:-//The North Parish Church of North Andover - ECPv6.15.13//NONSGML v1.0//EN
CALSCALE:GREGORIAN
METHOD:PUBLISH
X-WR-CALNAME:The North Parish Church of North Andover
X-ORIGINAL-URL:https://www.northparish.org
X-WR-CALDESC:Events for The North Parish Church of North Andover
REFRESH-INTERVAL;VALUE=DURATION:PT1H
X-Robots-Tag:noindex
X-PUBLISHED-TTL:PT1H
BEGIN:VTIMEZONE
TZID:America/New_York
BEGIN:DAYLIGHT
TZOFFSETFROM:-0500
TZOFFSETTO:-0400
TZNAME:EDT
DTSTART:20240310T070000
END:DAYLIGHT
BEGIN:STANDARD
TZOFFSETFROM:-0400
TZOFFSETTO:-0500
TZNAME:EST
DTSTART:20241103T060000
END:STANDARD
BEGIN:DAYLIGHT
TZOFFSETFROM:-0500
TZOFFSETTO:-0400
TZNAME:EDT
DTSTART:20250309T070000
END:DAYLIGHT
BEGIN:STANDARD
TZOFFSETFROM:-0400
TZOFFSETTO:-0500
TZNAME:EST
DTSTART:20251102T060000
END:STANDARD
BEGIN:DAYLIGHT
TZOFFSETFROM:-0500
TZOFFSETTO:-0400
TZNAME:EDT
DTSTART:20260308T070000
END:DAYLIGHT
BEGIN:STANDARD
TZOFFSETFROM:-0400
TZOFFSETTO:-0500
TZNAME:EST
DTSTART:20261101T060000
END:STANDARD
BEGIN:DAYLIGHT
TZOFFSETFROM:-0500
TZOFFSETTO:-0400
TZNAME:EDT
DTSTART:20270314T070000
END:DAYLIGHT
BEGIN:STANDARD
TZOFFSETFROM:-0400
TZOFFSETTO:-0500
TZNAME:EST
DTSTART:20271107T060000
END:STANDARD
END:VTIMEZONE
BEGIN:VEVENT
DTSTART;TZID=America/New_York:20260208T113000
DTEND;TZID=America/New_York:20260208T123000
DTSTAMP:20260421T055023
CREATED:20250922T073942Z
LAST-MODIFIED:20250923T080723Z
UID:10014120-1770550200-1770553800@www.northparish.org
SUMMARY:5th-12th grade parents group meeting
DESCRIPTION:
URL:https://www.northparish.org/event/5th-12th-grade-parents-group-meeting-2/2026-02-08/
LOCATION:Blue Room at North Parish\, 190 Academy Road\, North Andover\, MA\, 01845\, United States
END:VEVENT
BEGIN:VEVENT
DTSTART;TZID=America/New_York:20260208T103000
DTEND;TZID=America/New_York:20260208T113000
DTSTAMP:20260421T055023
CREATED:20250915T112428Z
LAST-MODIFIED:20250915T112428Z
UID:10014108-1770546600-1770550200@www.northparish.org
SUMMARY:RE
DESCRIPTION:
URL:https://www.northparish.org/event/re-2/
LOCATION:Chapel at North Parish\, 190 Academy Road\, North Andover\, MA\, 01845-4022\, United States
END:VEVENT
BEGIN:VEVENT
DTSTART;TZID=America/New_York:20260201T100000
DTEND;TZID=America/New_York:20260201T111500
DTSTAMP:20260421T055023
CREATED:20260121T141226Z
LAST-MODIFIED:20260121T141626Z
UID:10015719-1769940000-1769944500@www.northparish.org
SUMMARY:JYG and SYG Mosaic Curriculum RE
DESCRIPTION:
URL:https://www.northparish.org/event/jyg-and-syg-mosaic-curriculum-re/2026-02-01/
LOCATION:Chapel at North Parish\, 190 Academy Road\, North Andover\, MA\, 01845-4022\, United States
END:VEVENT
BEGIN:VEVENT
DTSTART;TZID=America/New_York:20260201T093000
DTEND;TZID=America/New_York:20260201T100000
DTSTAMP:20260421T055023
CREATED:20260128T144519Z
LAST-MODIFIED:20260128T144519Z
UID:10015725-1769938200-1769940000@www.northparish.org
SUMMARY:Mosaic set-up
DESCRIPTION:
URL:https://www.northparish.org/event/mosaic-set-up/
LOCATION:Chapel at North Parish\, 190 Academy Road\, North Andover\, MA\, 01845-4022\, United States
END:VEVENT
BEGIN:VEVENT
DTSTART;TZID=America/New_York:20260125T113000
DTEND;TZID=America/New_York:20260125T123000
DTSTAMP:20260421T055023
CREATED:20260120T195447Z
LAST-MODIFIED:20260120T195536Z
UID:10015716-1769340600-1769344200@www.northparish.org
SUMMARY:Pre-K through Grade 5 parents meeting
DESCRIPTION:
URL:https://www.northparish.org/event/pre-k-through-grade-5-parents-meeting/
LOCATION:Blue Room at North Parish\, 190 Academy Road\, North Andover\, MA\, 01845\, United States
END:VEVENT
BEGIN:VEVENT
DTSTART;TZID=America/New_York:20260125T100000
DTEND;TZID=America/New_York:20260125T111500
DTSTAMP:20260421T055023
CREATED:20260121T141226Z
LAST-MODIFIED:20260121T141626Z
UID:10015718-1769335200-1769339700@www.northparish.org
SUMMARY:JYG and SYG Mosaic Curriculum RE
DESCRIPTION:
URL:https://www.northparish.org/event/jyg-and-syg-mosaic-curriculum-re/2026-01-25/
LOCATION:Chapel at North Parish\, 190 Academy Road\, North Andover\, MA\, 01845-4022\, United States
END:VEVENT
BEGIN:VEVENT
DTSTART;TZID=America/New_York:20260123T180000
DTEND;TZID=America/New_York:20260124T090000
DTSTAMP:20260421T055023
CREATED:20251203T182332Z
LAST-MODIFIED:20251203T182332Z
UID:10014853-1769191200-1769245200@www.northparish.org
SUMMARY:Annual JYG/SYG Sleepover
DESCRIPTION:
URL:https://www.northparish.org/event/annual-jyg-syg-sleepover/
LOCATION:Whole building at North Parish\, 190 Academy Road\, North Andover\, MA\, 01845\, United States
END:VEVENT
BEGIN:VEVENT
DTSTART;TZID=America/New_York:20260103T173000
DTEND;TZID=America/New_York:20260103T200000
DTSTAMP:20260421T055023
CREATED:20251115T112215Z
LAST-MODIFIED:20251115T112215Z
UID:10014758-1767461400-1767470400@www.northparish.org
SUMMARY:Bridging dinner
DESCRIPTION:
URL:https://www.northparish.org/event/bridging-dinner/
LOCATION:Freeman Hall & Parlor at North Parish\, 190 Academy Road\, North Andover\, MA\, 01845\, United States
END:VEVENT
BEGIN:VEVENT
DTSTART;TZID=America/New_York:20251221T113000
DTEND;TZID=America/New_York:20251221T130000
DTSTAMP:20260421T055023
CREATED:20251115T112403Z
LAST-MODIFIED:20251115T112403Z
UID:10014759-1766316600-1766322000@www.northparish.org
SUMMARY:Bridging meeting
DESCRIPTION:
URL:https://www.northparish.org/event/bridging-meeting-4/
LOCATION:Blue Room at North Parish\, 190 Academy Road\, North Andover\, MA\, 01845\, United States
END:VEVENT
BEGIN:VEVENT
DTSTART;TZID=America/New_York:20251214T113000
DTEND;TZID=America/New_York:20251214T123000
DTSTAMP:20260421T055023
CREATED:20250922T073942Z
LAST-MODIFIED:20250923T080723Z
UID:10014118-1765711800-1765715400@www.northparish.org
SUMMARY:5th-12th grade parents group meeting
DESCRIPTION:
URL:https://www.northparish.org/event/5th-12th-grade-parents-group-meeting-2/2025-12-14/
LOCATION:Blue Room at North Parish\, 190 Academy Road\, North Andover\, MA\, 01845\, United States
END:VEVENT
BEGIN:VEVENT
DTSTART;TZID=America/New_York:20251214T100000
DTEND;TZID=America/New_York:20251214T113000
DTSTAMP:20260421T055023
CREATED:20251205T131034Z
LAST-MODIFIED:20251205T131034Z
UID:10014855-1765706400-1765711800@www.northparish.org
SUMMARY:Mosaic Curriculum for JYG and SYG
DESCRIPTION:
URL:https://www.northparish.org/event/mosaic-curriculum-for-jyg-and-syg/
LOCATION:Chapel at North Parish\, 190 Academy Road\, North Andover\, MA\, 01845-4022\, United States
END:VEVENT
BEGIN:VEVENT
DTSTART;TZID=America/New_York:20251214T100000
DTEND;TZID=America/New_York:20251214T110000
DTSTAMP:20260421T055023
CREATED:20251208T155655Z
LAST-MODIFIED:20251208T155655Z
UID:10014857-1765706400-1765710000@www.northparish.org
SUMMARY:Religious Exploration Winter Holiday Party
DESCRIPTION:
URL:https://www.northparish.org/event/religious-exploration-winter-holiday-party/
LOCATION:Chapel at North Parish\, 190 Academy Road\, North Andover\, MA\, 01845-4022\, United States
END:VEVENT
BEGIN:VEVENT
DTSTART;TZID=America/New_York:20251207T113000
DTEND;TZID=America/New_York:20251207T133000
DTSTAMP:20260421T055023
CREATED:20250618T170502Z
LAST-MODIFIED:20251123T110551Z
UID:10013655-1765107000-1765114200@www.northparish.org
SUMMARY:Parents afternoon out
DESCRIPTION:
URL:https://www.northparish.org/event/parents-afternoon-out/
END:VEVENT
BEGIN:VEVENT
DTSTART;TZID=America/New_York:20251130T100000
DTEND;TZID=America/New_York:20251130T110000
DTSTAMP:20260421T055023
CREATED:20250618T170220Z
LAST-MODIFIED:20250618T170247Z
UID:10013654-1764496800-1764500400@www.northparish.org
SUMMARY:RE - PJ and Popcorn Sunday
DESCRIPTION:
URL:https://www.northparish.org/event/re-pj-and-popcorn-sunday/
LOCATION:Chapel at North Parish\, 190 Academy Road\, North Andover\, MA\, 01845-4022\, United States
END:VEVENT
BEGIN:VEVENT
DTSTART;TZID=America/New_York:20251123T111500
DTEND;TZID=America/New_York:20251123T120000
DTSTAMP:20260421T055023
CREATED:20251023T104422Z
LAST-MODIFIED:20251023T104422Z
UID:10014194-1763896500-1763899200@www.northparish.org
SUMMARY:Parents of PS-4th Grade Group Meeting
DESCRIPTION:
URL:https://www.northparish.org/event/parents-of-ps-4th-grade-group-meeting-2/
LOCATION:Blue Room at North Parish\, 190 Academy Road\, North Andover\, MA\, 01845\, United States
END:VEVENT
BEGIN:VEVENT
DTSTART;TZID=America/New_York:20251116T113000
DTEND;TZID=America/New_York:20251116T130000
DTSTAMP:20260421T055023
CREATED:20251115T112004Z
LAST-MODIFIED:20251115T112004Z
UID:10014757-1763292600-1763298000@www.northparish.org
SUMMARY:Bridging Meeting
DESCRIPTION:
URL:https://www.northparish.org/event/bridging-meeting-3/
LOCATION:Blue Room at North Parish\, 190 Academy Road\, North Andover\, MA\, 01845\, United States
END:VEVENT
BEGIN:VEVENT
DTSTART;TZID=America/New_York:20251116T094500
DTEND;TZID=America/New_York:20251116T111500
DTSTAMP:20260421T055023
CREATED:20251112T164440Z
LAST-MODIFIED:20251112T164440Z
UID:10014494-1763286300-1763291700@www.northparish.org
SUMMARY:RE Activity Stations
DESCRIPTION:
URL:https://www.northparish.org/event/re-activity-stations/
LOCATION:Chapel at North Parish\, 190 Academy Road\, North Andover\, MA\, 01845-4022\, United States
END:VEVENT
BEGIN:VEVENT
DTSTART;TZID=America/New_York:20251109T113000
DTEND;TZID=America/New_York:20251109T123000
DTSTAMP:20260421T055023
CREATED:20250922T073942Z
LAST-MODIFIED:20250923T080723Z
UID:10014117-1762687800-1762691400@www.northparish.org
SUMMARY:5th-12th grade parents group meeting
DESCRIPTION:
URL:https://www.northparish.org/event/5th-12th-grade-parents-group-meeting-2/2025-11-09/
LOCATION:Blue Room at North Parish\, 190 Academy Road\, North Andover\, MA\, 01845\, United States
END:VEVENT
BEGIN:VEVENT
DTSTART;TZID=America/New_York:20251026T111500
DTEND;TZID=America/New_York:20251026T120000
DTSTAMP:20260421T055023
CREATED:20251001T174159Z
LAST-MODIFIED:20251001T174159Z
UID:10014169-1761477300-1761480000@www.northparish.org
SUMMARY:Parents of PS-4th Grade Group Meeting
DESCRIPTION:
URL:https://www.northparish.org/event/parents-of-ps-4th-grade-group-meeting/
LOCATION:Blue Room at North Parish\, 190 Academy Road\, North Andover\, MA\, 01845\, United States
END:VEVENT
BEGIN:VEVENT
DTSTART;TZID=America/New_York:20251026T100000
DTEND;TZID=America/New_York:20251026T110000
DTSTAMP:20260421T055023
CREATED:20250930T183535Z
LAST-MODIFIED:20251007T122115Z
UID:10014175-1761472800-1761476400@www.northparish.org
SUMMARY:RE
DESCRIPTION:
URL:https://www.northparish.org/event/re-3/2025-10-26/
LOCATION:Chapel at North Parish\, 190 Academy Road\, North Andover\, MA\, 01845-4022\, United States
END:VEVENT
BEGIN:VEVENT
DTSTART;TZID=America/New_York:20251026T093000
DTEND;TZID=America/New_York:20251026T221500
DTSTAMP:20260421T055023
CREATED:20250930T183648Z
LAST-MODIFIED:20251007T121627Z
UID:10014168-1761471000-1761516900@www.northparish.org
SUMMARY:RE set-up
DESCRIPTION:
URL:https://www.northparish.org/event/re-set-up/2025-10-26/
LOCATION:Chapel at North Parish\, 190 Academy Road\, North Andover\, MA\, 01845-4022\, United States
CATEGORIES:Exclude from Home
END:VEVENT
BEGIN:VEVENT
DTSTART;TZID=America/New_York:20251025T160000
DTEND;TZID=America/New_York:20251025T210000
DTSTAMP:20260421T055023
CREATED:20250121T144930Z
LAST-MODIFIED:20250121T144930Z
UID:10012661-1761408000-1761426000@www.northparish.org
SUMMARY:The Annual JYG/SYG Haunted House
DESCRIPTION:
URL:https://www.northparish.org/event/the-annual-jyg-syg-haunted-house/
LOCATION:Whole building at North Parish\, 190 Academy Road\, North Andover\, MA\, 01845\, United States
END:VEVENT
BEGIN:VEVENT
DTSTART;TZID=America/New_York:20251024T170000
DTEND;TZID=America/New_York:20251024T200000
DTSTAMP:20260421T055023
CREATED:20250121T145014Z
LAST-MODIFIED:20250121T145014Z
UID:10012662-1761325200-1761336000@www.northparish.org
SUMMARY:JYG Haunted House set up
DESCRIPTION:
URL:https://www.northparish.org/event/jyg-haunted-house-set-up/
LOCATION:Whole building at North Parish\, 190 Academy Road\, North Andover\, MA\, 01845\, United States
END:VEVENT
BEGIN:VEVENT
DTSTART;TZID=America/New_York:20251019T113000
DTEND;TZID=America/New_York:20251019T130000
DTSTAMP:20260421T055023
CREATED:20250929T104329Z
LAST-MODIFIED:20250929T104932Z
UID:10014156-1760873400-1760878800@www.northparish.org
SUMMARY:Haunted House Planning
DESCRIPTION:
URL:https://www.northparish.org/event/haunted-house-planning/
LOCATION:Green Room at North Parish\, 190 Academy Road\, North Andover\, MA\, 01845\, United States
CATEGORIES:Exclude from Home
END:VEVENT
BEGIN:VEVENT
DTSTART;TZID=America/New_York:20251012T113000
DTEND;TZID=America/New_York:20251012T123000
DTSTAMP:20260421T055023
CREATED:20250922T073942Z
LAST-MODIFIED:20250923T080723Z
UID:10014116-1760268600-1760272200@www.northparish.org
SUMMARY:5th-12th grade parents group meeting
DESCRIPTION:
URL:https://www.northparish.org/event/5th-12th-grade-parents-group-meeting-2/2025-10-12/
LOCATION:Blue Room at North Parish\, 190 Academy Road\, North Andover\, MA\, 01845\, United States
END:VEVENT
BEGIN:VEVENT
DTSTART;TZID=America/New_York:20251012T101500
DTEND;TZID=America/New_York:20251012T110000
DTSTAMP:20260421T055023
CREATED:20250930T183535Z
LAST-MODIFIED:20251007T122115Z
UID:10014174-1760264100-1760266800@www.northparish.org
SUMMARY:RE
DESCRIPTION:
URL:https://www.northparish.org/event/re-3/2025-10-12/
LOCATION:Chapel at North Parish\, 190 Academy Road\, North Andover\, MA\, 01845-4022\, United States
END:VEVENT
BEGIN:VEVENT
DTSTART;TZID=America/New_York:20251012T093000
DTEND;TZID=America/New_York:20251012T221500
DTSTAMP:20260421T055023
CREATED:20250930T183648Z
LAST-MODIFIED:20251007T121627Z
UID:10014173-1760261400-1760307300@www.northparish.org
SUMMARY:RE set-up
DESCRIPTION:
URL:https://www.northparish.org/event/re-set-up/2025-10-12/
LOCATION:Chapel at North Parish\, 190 Academy Road\, North Andover\, MA\, 01845-4022\, United States
CATEGORIES:Exclude from Home
END:VEVENT
BEGIN:VEVENT
DTSTART;TZID=America/New_York:20251005T093000
DTEND;TZID=America/New_York:20251005T233000
DTSTAMP:20260421T055023
CREATED:20250930T162254Z
LAST-MODIFIED:20250930T162254Z
UID:10014165-1759656600-1759707000@www.northparish.org
SUMMARY:PK-Kindergarten will be meeting in Chapel instead of Yellow Room
DESCRIPTION:
URL:https://www.northparish.org/event/pk-kindergarten-will-be-meeting-in-chapel-instead-of-yellow-room/
LOCATION:Chapel at North Parish\, 190 Academy Road\, North Andover\, MA\, 01845-4022\, United States
END:VEVENT
BEGIN:VEVENT
DTSTART;TZID=America/New_York:20250928T100000
DTEND;TZID=America/New_York:20250928T120000
DTSTAMP:20260421T055023
CREATED:20250618T163455Z
LAST-MODIFIED:20250618T163455Z
UID:10013641-1759053600-1759060800@www.northparish.org
SUMMARY:RE field trip to Giving Garden
DESCRIPTION:
URL:https://www.northparish.org/event/re-field-trip-to-giving-garden/
END:VEVENT
BEGIN:VEVENT
DTSTART;TZID=America/New_York:20250921T103000
DTEND;TZID=America/New_York:20250921T113000
DTSTAMP:20260421T055023
CREATED:20250915T112132Z
LAST-MODIFIED:20250915T112132Z
UID:10014107-1758450600-1758454200@www.northparish.org
SUMMARY:RE stations
DESCRIPTION:
URL:https://www.northparish.org/event/re-stations/
LOCATION:Chapel at North Parish\, 190 Academy Road\, North Andover\, MA\, 01845-4022\, United States
END:VEVENT
END:VCALENDAR