BEGIN:VCALENDAR
VERSION:2.0
PRODID:-//The North Parish Church of North Andover - ECPv6.15.13//NONSGML v1.0//EN
CALSCALE:GREGORIAN
METHOD:PUBLISH
X-WR-CALNAME:The North Parish Church of North Andover
X-ORIGINAL-URL:https://www.northparish.org
X-WR-CALDESC:Events for The North Parish Church of North Andover
REFRESH-INTERVAL;VALUE=DURATION:PT1H
X-Robots-Tag:noindex
X-PUBLISHED-TTL:PT1H
BEGIN:VTIMEZONE
TZID:America/New_York
BEGIN:DAYLIGHT
TZOFFSETFROM:-0500
TZOFFSETTO:-0400
TZNAME:EDT
DTSTART:20200308T070000
END:DAYLIGHT
BEGIN:STANDARD
TZOFFSETFROM:-0400
TZOFFSETTO:-0500
TZNAME:EST
DTSTART:20201101T060000
END:STANDARD
BEGIN:DAYLIGHT
TZOFFSETFROM:-0500
TZOFFSETTO:-0400
TZNAME:EDT
DTSTART:20210314T070000
END:DAYLIGHT
BEGIN:STANDARD
TZOFFSETFROM:-0400
TZOFFSETTO:-0500
TZNAME:EST
DTSTART:20211107T060000
END:STANDARD
BEGIN:DAYLIGHT
TZOFFSETFROM:-0500
TZOFFSETTO:-0400
TZNAME:EDT
DTSTART:20220313T070000
END:DAYLIGHT
BEGIN:STANDARD
TZOFFSETFROM:-0400
TZOFFSETTO:-0500
TZNAME:EST
DTSTART:20221106T060000
END:STANDARD
END:VTIMEZONE
BEGIN:VEVENT
DTSTART;TZID=America/New_York:20211121T100000
DTEND;TZID=America/New_York:20211121T110000
DTSTAMP:20260422T021557
CREATED:20211104T151339Z
LAST-MODIFIED:20211104T151339Z
UID:10004782-1637488800-1637492400@www.northparish.org
SUMMARY:JYG Classes
DESCRIPTION:JYG classes will be held in the Parish Hall (closest to the stage) beginning Sunday\, November 7\, 2021 from 10 to 11 am.  Please contact Amy Ruiter with any questions.
URL:https://www.northparish.org/event/jyg-classes/2021-11-21/
LOCATION:Freeman Hall at North Parish\, 190 Academy Road\, North Andover\, MA\, 01845-4022\, United States
END:VEVENT
BEGIN:VEVENT
DTSTART;TZID=America/New_York:20211121T100000
DTEND;TZID=America/New_York:20211121T110000
DTSTAMP:20260422T021557
CREATED:20210913T174043Z
LAST-MODIFIED:20211104T154325Z
UID:10004684-1637488800-1637492400@www.northparish.org
SUMMARY:Elementary RE Classes
DESCRIPTION:Elementary RE classes will be held in the North Parish Chapel beginning November 7\, 2021 at 10 am.  Contact Kerry Anne Kilkelly\, Director of Faith Formation\, with any questions.
URL:https://www.northparish.org/event/children-and-youth-faith-formation-classes/2021-11-21/
LOCATION:Chapel at North Parish\, 190 Academy Road\, North Andover\, MA\, 01845-4022\, United States
END:VEVENT
BEGIN:VEVENT
DTSTART;TZID=America/New_York:20211114T100000
DTEND;TZID=America/New_York:20211114T110000
DTSTAMP:20260422T021557
CREATED:20211104T151339Z
LAST-MODIFIED:20211104T151339Z
UID:10004781-1636884000-1636887600@www.northparish.org
SUMMARY:JYG Classes
DESCRIPTION:JYG classes will be held in the Parish Hall (closest to the stage) beginning Sunday\, November 7\, 2021 from 10 to 11 am.  Please contact Amy Ruiter with any questions.
URL:https://www.northparish.org/event/jyg-classes/2021-11-14/
LOCATION:Freeman Hall at North Parish\, 190 Academy Road\, North Andover\, MA\, 01845-4022\, United States
END:VEVENT
BEGIN:VEVENT
DTSTART;TZID=America/New_York:20211114T100000
DTEND;TZID=America/New_York:20211114T110000
DTSTAMP:20260422T021557
CREATED:20210913T174043Z
LAST-MODIFIED:20211104T154325Z
UID:10004683-1636884000-1636887600@www.northparish.org
SUMMARY:Elementary RE Classes
DESCRIPTION:Elementary RE classes will be held in the North Parish Chapel beginning November 7\, 2021 at 10 am.  Contact Kerry Anne Kilkelly\, Director of Faith Formation\, with any questions.
URL:https://www.northparish.org/event/children-and-youth-faith-formation-classes/2021-11-14/
LOCATION:Chapel at North Parish\, 190 Academy Road\, North Andover\, MA\, 01845-4022\, United States
END:VEVENT
BEGIN:VEVENT
DTSTART;TZID=America/New_York:20211107T100000
DTEND;TZID=America/New_York:20211107T110000
DTSTAMP:20260422T021557
CREATED:20211104T153737Z
LAST-MODIFIED:20211104T153737Z
UID:10004967-1636279200-1636282800@www.northparish.org
SUMMARY:SYG Classes
DESCRIPTION:SYG will meet every other week beginning on November 7\, 2021 in the North Parish Parlor from 10 to 11 am.  Please contact Amy Ruiter\, Youth Coordinator\, with any questions.
URL:https://www.northparish.org/event/syg-classes/2021-11-07/
LOCATION:Parlor at North Parish\, 190 Academy Road\, North Andover\, MA\, 01845\, United States
END:VEVENT
BEGIN:VEVENT
DTSTART;TZID=America/New_York:20211107T100000
DTEND;TZID=America/New_York:20211107T110000
DTSTAMP:20260422T021557
CREATED:20211104T151339Z
LAST-MODIFIED:20211104T151339Z
UID:10004780-1636279200-1636282800@www.northparish.org
SUMMARY:JYG Classes
DESCRIPTION:JYG classes will be held in the Parish Hall (closest to the stage) beginning Sunday\, November 7\, 2021 from 10 to 11 am.  Please contact Amy Ruiter with any questions.
URL:https://www.northparish.org/event/jyg-classes/2021-11-07/
LOCATION:Freeman Hall at North Parish\, 190 Academy Road\, North Andover\, MA\, 01845-4022\, United States
END:VEVENT
BEGIN:VEVENT
DTSTART;TZID=America/New_York:20211107T100000
DTEND;TZID=America/New_York:20211107T110000
DTSTAMP:20260422T021557
CREATED:20210913T174043Z
LAST-MODIFIED:20211104T154325Z
UID:10004682-1636279200-1636282800@www.northparish.org
SUMMARY:Elementary RE Classes
DESCRIPTION:Elementary RE classes will be held in the North Parish Chapel beginning November 7\, 2021 at 10 am.  Contact Kerry Anne Kilkelly\, Director of Faith Formation\, with any questions.
URL:https://www.northparish.org/event/children-and-youth-faith-formation-classes/2021-11-07/
LOCATION:Chapel at North Parish\, 190 Academy Road\, North Andover\, MA\, 01845-4022\, United States
END:VEVENT
BEGIN:VEVENT
DTSTART;TZID=America/New_York:20211031T120000
DTEND;TZID=America/New_York:20211031T140000
DTSTAMP:20260422T021557
CREATED:20211007T184422Z
LAST-MODIFIED:20211021T155926Z
UID:10004575-1635681600-1635688800@www.northparish.org
SUMMARY:Halloween Trunk or Treat Party - CANCELLED
DESCRIPTION:Unfortunately due to low registration\, we have to cancel our planned Halloween Trunk or Treat party that was scheduled for Sunday\, October 31st at 12:00.
URL:https://www.northparish.org/event/halloween-trunk-or-treat-party/
LOCATION:Parking Circle at North Parish\, 190 Academy Road\, North Andover\, MA\, 01845\, United States
END:VEVENT
BEGIN:VEVENT
DTSTART;TZID=America/New_York:20211030T180000
DTEND;TZID=America/New_York:20211030T200000
DTSTAMP:20260422T021557
CREATED:20211007T182834Z
LAST-MODIFIED:20211030T144549Z
UID:10004573-1635616800-1635624000@www.northparish.org
SUMMARY:JYG Halloween Movie Fundraiser
DESCRIPTION:Last minute change due to weather!\nMOVIE SHOWING for actors and their families has been moved inside to the  North Parish Sanctuary. \nThe rest of us are invited to join the hauntings by making a donation and watching the movie online – safe and dry at home! Click HERE to register to get the link to see the movie on Halloween and/or contribute $10 a person to Neighbors in Need. \nAll proceeds go to benefit Neighbors in Need in Lawrence (http://www.needfood.org/) \nContact Kerry Anne with any questions.
URL:https://www.northparish.org/event/jyg-halloween-movie-fundraiser/
LOCATION:Backyard at North Parish\, 190 Academy Road\, North Andover\, MA\, 01845-4202
END:VEVENT
BEGIN:VEVENT
DTSTART;TZID=America/New_York:20210926T113000
DTEND;TZID=America/New_York:20210926T123000
DTSTAMP:20260422T021557
CREATED:20211105T180400Z
LAST-MODIFIED:20211105T180400Z
UID:10004993-1632655800-1632659400@www.northparish.org
SUMMARY:Children and Youth Faith Formation Gathering this Sunday\, September 26th
DESCRIPTION:Things are a buzzing around the grounds of North Parish as we joyfully continue our outdoor Elementary and Youth Group gatherings this Sunday from 11:30 to 12:30! Elementary grade kids will meet in the lower backyard area to learn all about the amazing beauty of bees with our guest teacher\, Laura Howell. JYG youth will meet in the upper back yard area by the Flex Room doors to continue exploring and working on their big annual Haunted Halloween fundraiser SYG youth will gather together along the grass by the circle parking for games and conversation revolving around their adopted community service plans this year\, working with The Clean River Project.
URL:https://www.northparish.org/event/children-and-youth-faith-formation-gathering-this-sunday-september-26th/
LOCATION:Backyard at North Parish\, 190 Academy Road\, North Andover\, MA\, 01845-4202
END:VEVENT
BEGIN:VEVENT
DTSTART;TZID=America/New_York:20210718T081500
DTEND;TZID=America/New_York:20210718T170000
DTSTAMP:20260422T021557
CREATED:20210713T103714Z
LAST-MODIFIED:20210713T113727Z
UID:10004617-1626596100-1626627600@www.northparish.org
SUMMARY:Museum Of Science Outing
DESCRIPTION:Anna Choi has generously donated up to 27 passes for North Parish RE for kids and families to go!  Please email ANNA CHOI to confirm that you want to go.  There may be Adults with one or two available spaces for kids (JYG and older) if some parents are unable to go but would like their kids to participate.  When you RSVP\, please indicate how many additional children you are able to take and supervise.  Remember\, the Museum of Science expects us to roam about the museum with masks and appropriate small group of social distancing. \nDate/Meet:  Sunday\, July 18th at 8:15 am at North Parish Parking area.  Please be on time as we will have a reserved time slot of 9:15 am at the Museum. \nPick up for parents who cannot go:  1 pm. \nDeadline for notification:  July 6th.  Please be firm in your participation–I will LOSE these valuable passes if I make reservations and you decide not to show up and I will not be able to use them another time. \nPARKING:  There is parking at the museum and you will have to pay for it.  The lot fills up very quickly on the weekends which accounts for the early departure! \nShows:  Any additional shows at the  Museum\, you will have to book at the museum but I may be able to secure you a discount for them when we get there. \nMuseum website can be found here. \nAny questions:  please email ANNA CHOI or call 978.618.1836.
URL:https://www.northparish.org/event/museum-of-science-outing/
END:VEVENT
END:VCALENDAR