BEGIN:VCALENDAR
VERSION:2.0
PRODID:-//The North Parish Church of North Andover - ECPv6.15.13//NONSGML v1.0//EN
CALSCALE:GREGORIAN
METHOD:PUBLISH
X-ORIGINAL-URL:https://www.northparish.org
X-WR-CALDESC:Events for The North Parish Church of North Andover
REFRESH-INTERVAL;VALUE=DURATION:PT1H
X-Robots-Tag:noindex
X-PUBLISHED-TTL:PT1H
BEGIN:VTIMEZONE
TZID:America/New_York
BEGIN:DAYLIGHT
TZOFFSETFROM:-0500
TZOFFSETTO:-0400
TZNAME:EDT
DTSTART:20200308T070000
END:DAYLIGHT
BEGIN:STANDARD
TZOFFSETFROM:-0400
TZOFFSETTO:-0500
TZNAME:EST
DTSTART:20201101T060000
END:STANDARD
BEGIN:DAYLIGHT
TZOFFSETFROM:-0500
TZOFFSETTO:-0400
TZNAME:EDT
DTSTART:20210314T070000
END:DAYLIGHT
BEGIN:STANDARD
TZOFFSETFROM:-0400
TZOFFSETTO:-0500
TZNAME:EST
DTSTART:20211107T060000
END:STANDARD
BEGIN:DAYLIGHT
TZOFFSETFROM:-0500
TZOFFSETTO:-0400
TZNAME:EDT
DTSTART:20220313T070000
END:DAYLIGHT
BEGIN:STANDARD
TZOFFSETFROM:-0400
TZOFFSETTO:-0500
TZNAME:EST
DTSTART:20221106T060000
END:STANDARD
BEGIN:DAYLIGHT
TZOFFSETFROM:-0500
TZOFFSETTO:-0400
TZNAME:EDT
DTSTART:20230312T070000
END:DAYLIGHT
BEGIN:STANDARD
TZOFFSETFROM:-0400
TZOFFSETTO:-0500
TZNAME:EST
DTSTART:20231105T060000
END:STANDARD
END:VTIMEZONE
BEGIN:VEVENT
DTSTART;TZID=America/New_York:20220227T100000
DTEND;TZID=America/New_York:20220227T110000
DTSTAMP:20260421T232651
CREATED:20211104T151339Z
LAST-MODIFIED:20211104T151339Z
UID:10004792-1645956000-1645959600@www.northparish.org
SUMMARY:JYG Classes
DESCRIPTION:JYG classes will be held in the Parish Hall (closest to the stage) beginning Sunday\, November 7\, 2021 from 10 to 11 am.  Please contact Amy Ruiter with any questions.
URL:https://www.northparish.org/event/jyg-classes/2022-02-27/
LOCATION:Freeman Hall at North Parish\, 190 Academy Road\, North Andover\, MA\, 01845-4022\, United States
END:VEVENT
BEGIN:VEVENT
DTSTART;TZID=America/New_York:20220220T100000
DTEND;TZID=America/New_York:20220220T110000
DTSTAMP:20260421T232651
CREATED:20211104T151339Z
LAST-MODIFIED:20211104T151339Z
UID:10004791-1645351200-1645354800@www.northparish.org
SUMMARY:JYG Classes
DESCRIPTION:JYG classes will be held in the Parish Hall (closest to the stage) beginning Sunday\, November 7\, 2021 from 10 to 11 am.  Please contact Amy Ruiter with any questions.
URL:https://www.northparish.org/event/jyg-classes/2022-02-20/
LOCATION:Freeman Hall at North Parish\, 190 Academy Road\, North Andover\, MA\, 01845-4022\, United States
END:VEVENT
BEGIN:VEVENT
DTSTART;TZID=America/New_York:20220213T100000
DTEND;TZID=America/New_York:20220213T110000
DTSTAMP:20260421T232651
CREATED:20211104T153737Z
LAST-MODIFIED:20211104T153737Z
UID:10004972-1644746400-1644750000@www.northparish.org
SUMMARY:SYG Classes
DESCRIPTION:SYG will meet every other week beginning on November 7\, 2021 in the North Parish Parlor from 10 to 11 am.  Please contact Amy Ruiter\, Youth Coordinator\, with any questions.
URL:https://www.northparish.org/event/syg-classes/2022-02-13/
LOCATION:Parlor at North Parish\, 190 Academy Road\, North Andover\, MA\, 01845\, United States
END:VEVENT
BEGIN:VEVENT
DTSTART;TZID=America/New_York:20220213T100000
DTEND;TZID=America/New_York:20220213T110000
DTSTAMP:20260421T232651
CREATED:20211104T151339Z
LAST-MODIFIED:20211104T151339Z
UID:10004790-1644746400-1644750000@www.northparish.org
SUMMARY:JYG Classes
DESCRIPTION:JYG classes will be held in the Parish Hall (closest to the stage) beginning Sunday\, November 7\, 2021 from 10 to 11 am.  Please contact Amy Ruiter with any questions.
URL:https://www.northparish.org/event/jyg-classes/2022-02-13/
LOCATION:Freeman Hall at North Parish\, 190 Academy Road\, North Andover\, MA\, 01845-4022\, United States
END:VEVENT
BEGIN:VEVENT
DTSTART;TZID=America/New_York:20220206T123000
DTEND;TZID=America/New_York:20220206T140000
DTSTAMP:20260421T232651
CREATED:20220107T142448Z
LAST-MODIFIED:20220107T142448Z
UID:10005079-1644150600-1644156000@www.northparish.org
SUMMARY:8th-9th Grade OWL youth class
DESCRIPTION:Please view HERE for an overview of the program curriculum and tentative class scheduling.
URL:https://www.northparish.org/event/8th-9th-grade-owl-youth-class/
LOCATION:Freeman Hall at North Parish\, 190 Academy Road\, North Andover\, MA\, 01845-4022\, United States
END:VEVENT
BEGIN:VEVENT
DTSTART;TZID=America/New_York:20220206T100000
DTEND;TZID=America/New_York:20220206T110000
DTSTAMP:20260421T232651
CREATED:20211104T151339Z
LAST-MODIFIED:20211104T151339Z
UID:10004789-1644141600-1644145200@www.northparish.org
SUMMARY:JYG Classes
DESCRIPTION:JYG classes will be held in the Parish Hall (closest to the stage) beginning Sunday\, November 7\, 2021 from 10 to 11 am.  Please contact Amy Ruiter with any questions.
URL:https://www.northparish.org/event/jyg-classes/2022-02-06/
LOCATION:Freeman Hall at North Parish\, 190 Academy Road\, North Andover\, MA\, 01845-4022\, United States
END:VEVENT
BEGIN:VEVENT
DTSTART;TZID=America/New_York:20220130T123000
DTEND;TZID=America/New_York:20220130T143000
DTSTAMP:20260421T232651
CREATED:20211209T161441Z
LAST-MODIFIED:20220127T160400Z
UID:10005049-1643545800-1643553000@www.northparish.org
SUMMARY:Zoom 8th/9th Grade OWL Parent/Guardian Orientation
DESCRIPTION:The 8th-9th Grade OWL program Parent Orientation workshop will be held on Zoom\, this Sunday\, January 30th from 12:30-2:00 pm. \nMeeting ID:  891 6653 6561; Passcode:  NP2022 \nThe youth classes will begin the following Sunday\, February 6th from 12:30-2:00 pm.  Please view HERE for an overview of the program curriculum and tentative class scheduling. \nPlease contact Kerry Anne Kilkelly\, Director of Faith Formation\, with any questions. \n  \n 
URL:https://www.northparish.org/event/8th-9th-grade-owl-parent-guardian-orientation/
LOCATION:via NP Zoom 2
END:VEVENT
BEGIN:VEVENT
DTSTART;TZID=America/New_York:20220130T120000
DTEND;TZID=America/New_York:20220130T123000
DTSTAMP:20260421T232651
CREATED:20211104T153737Z
LAST-MODIFIED:20220127T155419Z
UID:10004981-1643544000-1643545800@www.northparish.org
SUMMARY:SYG Class
DESCRIPTION:Faith Formation is inviting you to a scheduled Zoom meeting.  Sunday\, January 30\, 2022 at 12 pm.  Meeting ID:  885 2003 5431; Passcode:  NP2022. \nPlease contact Amy Ruiter\, Youth Coordinator\, with any questions.
URL:https://www.northparish.org/event/syg-classes-2022-01-30/
LOCATION:via NP Zoom 3
END:VEVENT
BEGIN:VEVENT
DTSTART;TZID=America/New_York:20220130T110000
DTEND;TZID=America/New_York:20220130T113000
DTSTAMP:20260421T232651
CREATED:20211104T151339Z
LAST-MODIFIED:20220127T155314Z
UID:10004965-1643540400-1643542200@www.northparish.org
SUMMARY:JYG Class
DESCRIPTION:Faith Formation is inviting you to a scheduled Zoom meeting.  Sunday\, January 30\, 2022 at 11 am.  Meeting ID: 818 4740 5908; Passcode:  NP2022 \nPlease contact Amy Ruiter with any questions.
URL:https://www.northparish.org/event/jyg-classes-2022-01-30/
LOCATION:via NP Zoom 3
END:VEVENT
BEGIN:VEVENT
DTSTART;TZID=America/New_York:20220109T113000
DTEND;TZID=America/New_York:20220109T120000
DTSTAMP:20260421T232651
CREATED:20220106T155234Z
LAST-MODIFIED:20220106T155234Z
UID:10005078-1641727800-1641729600@www.northparish.org
SUMMARY:Elementary Classes
DESCRIPTION:Please contact Kerry Anne Kilkelly or Amy Ruiter for Zoom info.
URL:https://www.northparish.org/event/elementary-classes/
LOCATION:via NP Zoom 3
END:VEVENT
BEGIN:VEVENT
DTSTART;TZID=America/New_York:20220109T113000
DTEND;TZID=America/New_York:20220109T120000
DTSTAMP:20260421T232651
CREATED:20220106T154254Z
LAST-MODIFIED:20220106T154912Z
UID:10005077-1641727800-1641729600@www.northparish.org
SUMMARY:SYG Classes
DESCRIPTION:Please contact Kerry Anne Kilkelly or Amy Ruiter for Zoom information.
URL:https://www.northparish.org/event/syg-classes-2/
LOCATION:via NP Zoom
END:VEVENT
BEGIN:VEVENT
DTSTART;TZID=America/New_York:20220109T110000
DTEND;TZID=America/New_York:20220109T113000
DTSTAMP:20260421T232651
CREATED:20211104T151339Z
LAST-MODIFIED:20220106T154023Z
UID:10004808-1641726000-1641727800@www.northparish.org
SUMMARY:JYG Classes
DESCRIPTION:Please contact Kerry Anne Kilkelly or Amy Ruiter for Zoom information.
URL:https://www.northparish.org/event/jyg-classes-2022-01-09/
LOCATION:via NP Zoom 2
END:VEVENT
BEGIN:VEVENT
DTSTART;TZID=America/New_York:20220102T100000
DTEND;TZID=America/New_York:20220102T110000
DTSTAMP:20260421T232651
CREATED:20211104T153737Z
LAST-MODIFIED:20211104T153737Z
UID:10004971-1641117600-1641121200@www.northparish.org
SUMMARY:SYG Classes
DESCRIPTION:SYG will meet every other week beginning on November 7\, 2021 in the North Parish Parlor from 10 to 11 am.  Please contact Amy Ruiter\, Youth Coordinator\, with any questions.
URL:https://www.northparish.org/event/syg-classes/2022-01-02/
LOCATION:Parlor at North Parish\, 190 Academy Road\, North Andover\, MA\, 01845\, United States
END:VEVENT
BEGIN:VEVENT
DTSTART;TZID=America/New_York:20220102T100000
DTEND;TZID=America/New_York:20220102T110000
DTSTAMP:20260421T232651
CREATED:20211104T151339Z
LAST-MODIFIED:20211104T151339Z
UID:10004788-1641117600-1641121200@www.northparish.org
SUMMARY:JYG Classes
DESCRIPTION:JYG classes will be held in the Parish Hall (closest to the stage) beginning Sunday\, November 7\, 2021 from 10 to 11 am.  Please contact Amy Ruiter with any questions.
URL:https://www.northparish.org/event/jyg-classes/2022-01-02/
LOCATION:Freeman Hall at North Parish\, 190 Academy Road\, North Andover\, MA\, 01845-4022\, United States
END:VEVENT
BEGIN:VEVENT
DTSTART;TZID=America/New_York:20211226T100000
DTEND;TZID=America/New_York:20211226T110000
DTSTAMP:20260421T232651
CREATED:20211104T151339Z
LAST-MODIFIED:20211104T151339Z
UID:10004787-1640512800-1640516400@www.northparish.org
SUMMARY:JYG Classes
DESCRIPTION:JYG classes will be held in the Parish Hall (closest to the stage) beginning Sunday\, November 7\, 2021 from 10 to 11 am.  Please contact Amy Ruiter with any questions.
URL:https://www.northparish.org/event/jyg-classes/2021-12-26/
LOCATION:Freeman Hall at North Parish\, 190 Academy Road\, North Andover\, MA\, 01845-4022\, United States
END:VEVENT
BEGIN:VEVENT
DTSTART;TZID=America/New_York:20211219T100000
DTEND;TZID=America/New_York:20211219T110000
DTSTAMP:20260421T232651
CREATED:20211104T153737Z
LAST-MODIFIED:20211104T153737Z
UID:10004970-1639908000-1639911600@www.northparish.org
SUMMARY:SYG Classes
DESCRIPTION:SYG will meet every other week beginning on November 7\, 2021 in the North Parish Parlor from 10 to 11 am.  Please contact Amy Ruiter\, Youth Coordinator\, with any questions.
URL:https://www.northparish.org/event/syg-classes/2021-12-19/
LOCATION:Parlor at North Parish\, 190 Academy Road\, North Andover\, MA\, 01845\, United States
END:VEVENT
BEGIN:VEVENT
DTSTART;TZID=America/New_York:20211219T100000
DTEND;TZID=America/New_York:20211219T110000
DTSTAMP:20260421T232651
CREATED:20211104T151339Z
LAST-MODIFIED:20211104T151339Z
UID:10004786-1639908000-1639911600@www.northparish.org
SUMMARY:JYG Classes
DESCRIPTION:JYG classes will be held in the Parish Hall (closest to the stage) beginning Sunday\, November 7\, 2021 from 10 to 11 am.  Please contact Amy Ruiter with any questions.
URL:https://www.northparish.org/event/jyg-classes/2021-12-19/
LOCATION:Freeman Hall at North Parish\, 190 Academy Road\, North Andover\, MA\, 01845-4022\, United States
END:VEVENT
BEGIN:VEVENT
DTSTART;TZID=America/New_York:20211212T100000
DTEND;TZID=America/New_York:20211212T110000
DTSTAMP:20260421T232651
CREATED:20211104T151339Z
LAST-MODIFIED:20211104T151339Z
UID:10004785-1639303200-1639306800@www.northparish.org
SUMMARY:JYG Classes
DESCRIPTION:JYG classes will be held in the Parish Hall (closest to the stage) beginning Sunday\, November 7\, 2021 from 10 to 11 am.  Please contact Amy Ruiter with any questions.
URL:https://www.northparish.org/event/jyg-classes/2021-12-12/
LOCATION:Freeman Hall at North Parish\, 190 Academy Road\, North Andover\, MA\, 01845-4022\, United States
END:VEVENT
BEGIN:VEVENT
DTSTART;TZID=America/New_York:20211205T100000
DTEND;TZID=America/New_York:20211205T110000
DTSTAMP:20260421T232651
CREATED:20211104T153737Z
LAST-MODIFIED:20211104T153737Z
UID:10004969-1638698400-1638702000@www.northparish.org
SUMMARY:SYG Classes
DESCRIPTION:SYG will meet every other week beginning on November 7\, 2021 in the North Parish Parlor from 10 to 11 am.  Please contact Amy Ruiter\, Youth Coordinator\, with any questions.
URL:https://www.northparish.org/event/syg-classes/2021-12-05/
LOCATION:Parlor at North Parish\, 190 Academy Road\, North Andover\, MA\, 01845\, United States
END:VEVENT
BEGIN:VEVENT
DTSTART;TZID=America/New_York:20211205T100000
DTEND;TZID=America/New_York:20211205T110000
DTSTAMP:20260421T232651
CREATED:20211104T151339Z
LAST-MODIFIED:20211104T151339Z
UID:10004784-1638698400-1638702000@www.northparish.org
SUMMARY:JYG Classes
DESCRIPTION:JYG classes will be held in the Parish Hall (closest to the stage) beginning Sunday\, November 7\, 2021 from 10 to 11 am.  Please contact Amy Ruiter with any questions.
URL:https://www.northparish.org/event/jyg-classes/2021-12-05/
LOCATION:Freeman Hall at North Parish\, 190 Academy Road\, North Andover\, MA\, 01845-4022\, United States
END:VEVENT
BEGIN:VEVENT
DTSTART;TZID=America/New_York:20211128T100000
DTEND;TZID=America/New_York:20211128T110000
DTSTAMP:20260421T232651
CREATED:20211111T154111Z
LAST-MODIFIED:20211111T154111Z
UID:10005008-1638093600-1638097200@www.northparish.org
SUMMARY:Stone Soup Sunday - Seeking Adult Helpers
DESCRIPTION:Stone Soup Sunday is back in the North Parish building! \nFaith Formation for Children and Youth is seeking adult volunteers to help our Elementary and Youth groups in the kitchen on Sunday\, November 28th from 10:00 to 11:00 am as we spend a morning of sharing and caring and creating a special soup to nourish ourselves and others. \nPlease email faithformation@northparish.org to volunteer and for details on our Stone Soup gathering.
URL:https://www.northparish.org/event/stone-soup-sunday-seeking-adult-helpers/
LOCATION:Kitchen at North Parish\, 190 Academy Road\, North Andover\, MA\, 01845\, United States
END:VEVENT
BEGIN:VEVENT
DTSTART;TZID=America/New_York:20211128T100000
DTEND;TZID=America/New_York:20211128T110000
DTSTAMP:20260421T232651
CREATED:20211104T151339Z
LAST-MODIFIED:20211104T151339Z
UID:10004783-1638093600-1638097200@www.northparish.org
SUMMARY:JYG Classes
DESCRIPTION:JYG classes will be held in the Parish Hall (closest to the stage) beginning Sunday\, November 7\, 2021 from 10 to 11 am.  Please contact Amy Ruiter with any questions.
URL:https://www.northparish.org/event/jyg-classes/2021-11-28/
LOCATION:Freeman Hall at North Parish\, 190 Academy Road\, North Andover\, MA\, 01845-4022\, United States
END:VEVENT
BEGIN:VEVENT
DTSTART;TZID=America/New_York:20211127T113000
DTEND;TZID=America/New_York:20211127T133000
DTSTAMP:20260421T232651
CREATED:20211111T153618Z
LAST-MODIFIED:20211111T153618Z
UID:10005007-1638012600-1638019800@www.northparish.org
SUMMARY:North Andover Santa Parade
DESCRIPTION:Join us as we walk in this year’s Santa Parade and promote North Parish and the Red Bow Fair. We will have banners\, candy\, music\, and holiday costumes to make this a fun outing!  North Andover Middle School (Parade Start) \nEmail faithformation@northparish.org to get involved in this great event
URL:https://www.northparish.org/event/north-andover-santa-parade/
END:VEVENT
BEGIN:VEVENT
DTSTART;TZID=America/New_York:20211121T100000
DTEND;TZID=America/New_York:20211121T110000
DTSTAMP:20260421T232651
CREATED:20211104T153737Z
LAST-MODIFIED:20211104T153737Z
UID:10004968-1637488800-1637492400@www.northparish.org
SUMMARY:SYG Classes
DESCRIPTION:SYG will meet every other week beginning on November 7\, 2021 in the North Parish Parlor from 10 to 11 am.  Please contact Amy Ruiter\, Youth Coordinator\, with any questions.
URL:https://www.northparish.org/event/syg-classes/2021-11-21/
LOCATION:Parlor at North Parish\, 190 Academy Road\, North Andover\, MA\, 01845\, United States
END:VEVENT
BEGIN:VEVENT
DTSTART;TZID=America/New_York:20211121T100000
DTEND;TZID=America/New_York:20211121T110000
DTSTAMP:20260421T232651
CREATED:20211104T151339Z
LAST-MODIFIED:20211104T151339Z
UID:10004782-1637488800-1637492400@www.northparish.org
SUMMARY:JYG Classes
DESCRIPTION:JYG classes will be held in the Parish Hall (closest to the stage) beginning Sunday\, November 7\, 2021 from 10 to 11 am.  Please contact Amy Ruiter with any questions.
URL:https://www.northparish.org/event/jyg-classes/2021-11-21/
LOCATION:Freeman Hall at North Parish\, 190 Academy Road\, North Andover\, MA\, 01845-4022\, United States
END:VEVENT
BEGIN:VEVENT
DTSTART;TZID=America/New_York:20211121T100000
DTEND;TZID=America/New_York:20211121T110000
DTSTAMP:20260421T232651
CREATED:20210913T174043Z
LAST-MODIFIED:20211104T154325Z
UID:10004684-1637488800-1637492400@www.northparish.org
SUMMARY:Elementary RE Classes
DESCRIPTION:Elementary RE classes will be held in the North Parish Chapel beginning November 7\, 2021 at 10 am.  Contact Kerry Anne Kilkelly\, Director of Faith Formation\, with any questions.
URL:https://www.northparish.org/event/children-and-youth-faith-formation-classes/2021-11-21/
LOCATION:Chapel at North Parish\, 190 Academy Road\, North Andover\, MA\, 01845-4022\, United States
END:VEVENT
BEGIN:VEVENT
DTSTART;TZID=America/New_York:20211114T100000
DTEND;TZID=America/New_York:20211114T110000
DTSTAMP:20260421T232651
CREATED:20211104T151339Z
LAST-MODIFIED:20211104T151339Z
UID:10004781-1636884000-1636887600@www.northparish.org
SUMMARY:JYG Classes
DESCRIPTION:JYG classes will be held in the Parish Hall (closest to the stage) beginning Sunday\, November 7\, 2021 from 10 to 11 am.  Please contact Amy Ruiter with any questions.
URL:https://www.northparish.org/event/jyg-classes/2021-11-14/
LOCATION:Freeman Hall at North Parish\, 190 Academy Road\, North Andover\, MA\, 01845-4022\, United States
END:VEVENT
BEGIN:VEVENT
DTSTART;TZID=America/New_York:20211114T100000
DTEND;TZID=America/New_York:20211114T110000
DTSTAMP:20260421T232651
CREATED:20210913T174043Z
LAST-MODIFIED:20211104T154325Z
UID:10004683-1636884000-1636887600@www.northparish.org
SUMMARY:Elementary RE Classes
DESCRIPTION:Elementary RE classes will be held in the North Parish Chapel beginning November 7\, 2021 at 10 am.  Contact Kerry Anne Kilkelly\, Director of Faith Formation\, with any questions.
URL:https://www.northparish.org/event/children-and-youth-faith-formation-classes/2021-11-14/
LOCATION:Chapel at North Parish\, 190 Academy Road\, North Andover\, MA\, 01845-4022\, United States
END:VEVENT
BEGIN:VEVENT
DTSTART;TZID=America/New_York:20211107T100000
DTEND;TZID=America/New_York:20211107T110000
DTSTAMP:20260421T232651
CREATED:20211104T153737Z
LAST-MODIFIED:20211104T153737Z
UID:10004967-1636279200-1636282800@www.northparish.org
SUMMARY:SYG Classes
DESCRIPTION:SYG will meet every other week beginning on November 7\, 2021 in the North Parish Parlor from 10 to 11 am.  Please contact Amy Ruiter\, Youth Coordinator\, with any questions.
URL:https://www.northparish.org/event/syg-classes/2021-11-07/
LOCATION:Parlor at North Parish\, 190 Academy Road\, North Andover\, MA\, 01845\, United States
END:VEVENT
BEGIN:VEVENT
DTSTART;TZID=America/New_York:20211107T100000
DTEND;TZID=America/New_York:20211107T110000
DTSTAMP:20260421T232651
CREATED:20211104T151339Z
LAST-MODIFIED:20211104T151339Z
UID:10004780-1636279200-1636282800@www.northparish.org
SUMMARY:JYG Classes
DESCRIPTION:JYG classes will be held in the Parish Hall (closest to the stage) beginning Sunday\, November 7\, 2021 from 10 to 11 am.  Please contact Amy Ruiter with any questions.
URL:https://www.northparish.org/event/jyg-classes/2021-11-07/
LOCATION:Freeman Hall at North Parish\, 190 Academy Road\, North Andover\, MA\, 01845-4022\, United States
END:VEVENT
END:VCALENDAR