BEGIN:VCALENDAR
VERSION:2.0
PRODID:-//The North Parish Church of North Andover - ECPv6.15.13//NONSGML v1.0//EN
CALSCALE:GREGORIAN
METHOD:PUBLISH
X-WR-CALNAME:The North Parish Church of North Andover
X-ORIGINAL-URL:https://www.northparish.org
X-WR-CALDESC:Events for The North Parish Church of North Andover
REFRESH-INTERVAL;VALUE=DURATION:PT1H
X-Robots-Tag:noindex
X-PUBLISHED-TTL:PT1H
BEGIN:VTIMEZONE
TZID:America/New_York
BEGIN:DAYLIGHT
TZOFFSETFROM:-0500
TZOFFSETTO:-0400
TZNAME:EDT
DTSTART:20210314T070000
END:DAYLIGHT
BEGIN:STANDARD
TZOFFSETFROM:-0400
TZOFFSETTO:-0500
TZNAME:EST
DTSTART:20211107T060000
END:STANDARD
BEGIN:DAYLIGHT
TZOFFSETFROM:-0500
TZOFFSETTO:-0400
TZNAME:EDT
DTSTART:20220313T070000
END:DAYLIGHT
BEGIN:STANDARD
TZOFFSETFROM:-0400
TZOFFSETTO:-0500
TZNAME:EST
DTSTART:20221106T060000
END:STANDARD
BEGIN:DAYLIGHT
TZOFFSETFROM:-0500
TZOFFSETTO:-0400
TZNAME:EDT
DTSTART:20230312T070000
END:DAYLIGHT
BEGIN:STANDARD
TZOFFSETFROM:-0400
TZOFFSETTO:-0500
TZNAME:EST
DTSTART:20231105T060000
END:STANDARD
END:VTIMEZONE
BEGIN:VEVENT
DTSTART;TZID=America/New_York:20220522T100000
DTEND;TZID=America/New_York:20220522T110000
DTSTAMP:20260421T204919
CREATED:20211104T151339Z
LAST-MODIFIED:20211104T151339Z
UID:10004804-1653213600-1653217200@www.northparish.org
SUMMARY:JYG Classes
DESCRIPTION:JYG classes will be held in the Parish Hall (closest to the stage) beginning Sunday\, November 7\, 2021 from 10 to 11 am.  Please contact Amy Ruiter with any questions.
URL:https://www.northparish.org/event/jyg-classes/2022-05-22/
LOCATION:Freeman Hall at North Parish\, 190 Academy Road\, North Andover\, MA\, 01845-4022\, United States
END:VEVENT
BEGIN:VEVENT
DTSTART;TZID=America/New_York:20220520T183000
DTEND;TZID=America/New_York:20220520T203000
DTSTAMP:20260421T204919
CREATED:20220505T180533Z
LAST-MODIFIED:20220505T180533Z
UID:10005213-1653071400-1653078600@www.northparish.org
SUMMARY:Faith Formation Sip 'N Learn Cocktail Evening
DESCRIPTION:Please join us for an adult evening of cocktails\, mocktails\, food and friendship. Catch up with North Parish members and meet new people and learn and share goals\, wishes as well as concerns regarding next year’s Children and Youth Faith Formation Program as well as how you can get involved and volunteer to help build a stronger program for our North Parish families. \nClick HERE to RSVP
URL:https://www.northparish.org/event/faith-formation-sip-n-learn-cocktail-evening/
LOCATION:Backyard at North Parish\, 190 Academy Road\, North Andover\, MA\, 01845-4202
END:VEVENT
BEGIN:VEVENT
DTSTART;TZID=America/New_York:20220515T100000
DTEND;TZID=America/New_York:20220515T110000
DTSTAMP:20260421T204919
CREATED:20211104T151339Z
LAST-MODIFIED:20211104T151339Z
UID:10004803-1652608800-1652612400@www.northparish.org
SUMMARY:JYG Classes
DESCRIPTION:JYG classes will be held in the Parish Hall (closest to the stage) beginning Sunday\, November 7\, 2021 from 10 to 11 am.  Please contact Amy Ruiter with any questions.
URL:https://www.northparish.org/event/jyg-classes/2022-05-15/
LOCATION:Freeman Hall at North Parish\, 190 Academy Road\, North Andover\, MA\, 01845-4022\, United States
END:VEVENT
BEGIN:VEVENT
DTSTART;TZID=America/New_York:20220508T100000
DTEND;TZID=America/New_York:20220508T110000
DTSTAMP:20260421T204919
CREATED:20211104T153737Z
LAST-MODIFIED:20211104T153737Z
UID:10004978-1652004000-1652007600@www.northparish.org
SUMMARY:SYG Classes
DESCRIPTION:SYG will meet every other week beginning on November 7\, 2021 in the North Parish Parlor from 10 to 11 am.  Please contact Amy Ruiter\, Youth Coordinator\, with any questions.
URL:https://www.northparish.org/event/syg-classes/2022-05-08/
LOCATION:Parlor at North Parish\, 190 Academy Road\, North Andover\, MA\, 01845\, United States
END:VEVENT
BEGIN:VEVENT
DTSTART;TZID=America/New_York:20220508T100000
DTEND;TZID=America/New_York:20220508T110000
DTSTAMP:20260421T204919
CREATED:20211104T151339Z
LAST-MODIFIED:20211104T151339Z
UID:10004802-1652004000-1652007600@www.northparish.org
SUMMARY:JYG Classes
DESCRIPTION:JYG classes will be held in the Parish Hall (closest to the stage) beginning Sunday\, November 7\, 2021 from 10 to 11 am.  Please contact Amy Ruiter with any questions.
URL:https://www.northparish.org/event/jyg-classes/2022-05-08/
LOCATION:Freeman Hall at North Parish\, 190 Academy Road\, North Andover\, MA\, 01845-4022\, United States
END:VEVENT
BEGIN:VEVENT
DTSTART;TZID=America/New_York:20220501T100000
DTEND;TZID=America/New_York:20220501T110000
DTSTAMP:20260421T204919
CREATED:20211104T151339Z
LAST-MODIFIED:20211104T151339Z
UID:10004801-1651399200-1651402800@www.northparish.org
SUMMARY:JYG Classes
DESCRIPTION:JYG classes will be held in the Parish Hall (closest to the stage) beginning Sunday\, November 7\, 2021 from 10 to 11 am.  Please contact Amy Ruiter with any questions.
URL:https://www.northparish.org/event/jyg-classes/2022-05-01/
LOCATION:Freeman Hall at North Parish\, 190 Academy Road\, North Andover\, MA\, 01845-4022\, United States
END:VEVENT
BEGIN:VEVENT
DTSTART;TZID=America/New_York:20220424T100000
DTEND;TZID=America/New_York:20220424T110000
DTSTAMP:20260421T204919
CREATED:20211104T153737Z
LAST-MODIFIED:20211104T153737Z
UID:10004977-1650794400-1650798000@www.northparish.org
SUMMARY:SYG Classes
DESCRIPTION:SYG will meet every other week beginning on November 7\, 2021 in the North Parish Parlor from 10 to 11 am.  Please contact Amy Ruiter\, Youth Coordinator\, with any questions.
URL:https://www.northparish.org/event/syg-classes/2022-04-24/
LOCATION:Parlor at North Parish\, 190 Academy Road\, North Andover\, MA\, 01845\, United States
END:VEVENT
BEGIN:VEVENT
DTSTART;TZID=America/New_York:20220424T100000
DTEND;TZID=America/New_York:20220424T110000
DTSTAMP:20260421T204919
CREATED:20211104T151339Z
LAST-MODIFIED:20211104T151339Z
UID:10004800-1650794400-1650798000@www.northparish.org
SUMMARY:JYG Classes
DESCRIPTION:JYG classes will be held in the Parish Hall (closest to the stage) beginning Sunday\, November 7\, 2021 from 10 to 11 am.  Please contact Amy Ruiter with any questions.
URL:https://www.northparish.org/event/jyg-classes/2022-04-24/
LOCATION:Freeman Hall at North Parish\, 190 Academy Road\, North Andover\, MA\, 01845-4022\, United States
END:VEVENT
BEGIN:VEVENT
DTSTART;TZID=America/New_York:20220417T100000
DTEND;TZID=America/New_York:20220417T110000
DTSTAMP:20260421T204919
CREATED:20220414T143247Z
LAST-MODIFIED:20220414T143247Z
UID:10005197-1650189600-1650193200@www.northparish.org
SUMMARY:Kids and Youth Easter Egg Hunt & Activities
DESCRIPTION:Start your Easter off on a fun start at North Parish as we host our kids and youth Easter Egg hunt and activities event during service. We will all start out in the sanctuary together at 10:00 for the start of the service and then kids and youth will head outside with our wonderful Easter helpers to spend time searching for eggs\, playing games and making crafts together!
URL:https://www.northparish.org/event/kids-and-youth-easter-egg-hunt-activities/
END:VEVENT
BEGIN:VEVENT
DTSTART;TZID=America/New_York:20220417T100000
DTEND;TZID=America/New_York:20220417T110000
DTSTAMP:20260421T204919
CREATED:20220317T181558Z
LAST-MODIFIED:20220317T181558Z
UID:10005120-1650189600-1650193200@www.northparish.org
SUMMARY:All Ages Easter Egg Hunt & Games
DESCRIPTION:Join us in the backyard at North Parish for an hour of searching for Easter Eggs and games as we celebrate the Easter holiday. \nWe are also seeking volunteers to help out with this event. If interested\, please email faithformation@northparish.org
URL:https://www.northparish.org/event/all-ages-easter-egg-hunt-games/
LOCATION:Backyard at North Parish\, 190 Academy Road\, North Andover\, MA\, 01845-4202
END:VEVENT
BEGIN:VEVENT
DTSTART;TZID=America/New_York:20220417T100000
DTEND;TZID=America/New_York:20220417T110000
DTSTAMP:20260421T204919
CREATED:20211104T151339Z
LAST-MODIFIED:20211104T151339Z
UID:10004799-1650189600-1650193200@www.northparish.org
SUMMARY:JYG Classes
DESCRIPTION:JYG classes will be held in the Parish Hall (closest to the stage) beginning Sunday\, November 7\, 2021 from 10 to 11 am.  Please contact Amy Ruiter with any questions.
URL:https://www.northparish.org/event/jyg-classes/2022-04-17/
LOCATION:Freeman Hall at North Parish\, 190 Academy Road\, North Andover\, MA\, 01845-4022\, United States
END:VEVENT
BEGIN:VEVENT
DTSTART;TZID=America/New_York:20220410T100000
DTEND;TZID=America/New_York:20220410T110000
DTSTAMP:20260421T204919
CREATED:20211104T153737Z
LAST-MODIFIED:20211104T153737Z
UID:10004976-1649584800-1649588400@www.northparish.org
SUMMARY:SYG Classes
DESCRIPTION:SYG will meet every other week beginning on November 7\, 2021 in the North Parish Parlor from 10 to 11 am.  Please contact Amy Ruiter\, Youth Coordinator\, with any questions.
URL:https://www.northparish.org/event/syg-classes/2022-04-10/
LOCATION:Parlor at North Parish\, 190 Academy Road\, North Andover\, MA\, 01845\, United States
END:VEVENT
BEGIN:VEVENT
DTSTART;TZID=America/New_York:20220410T100000
DTEND;TZID=America/New_York:20220410T110000
DTSTAMP:20260421T204919
CREATED:20211104T151339Z
LAST-MODIFIED:20211104T151339Z
UID:10004798-1649584800-1649588400@www.northparish.org
SUMMARY:JYG Classes
DESCRIPTION:JYG classes will be held in the Parish Hall (closest to the stage) beginning Sunday\, November 7\, 2021 from 10 to 11 am.  Please contact Amy Ruiter with any questions.
URL:https://www.northparish.org/event/jyg-classes/2022-04-10/
LOCATION:Freeman Hall at North Parish\, 190 Academy Road\, North Andover\, MA\, 01845-4022\, United States
END:VEVENT
BEGIN:VEVENT
DTSTART;TZID=America/New_York:20220403T100000
DTEND;TZID=America/New_York:20220403T110000
DTSTAMP:20260421T204919
CREATED:20211104T151339Z
LAST-MODIFIED:20211104T151339Z
UID:10004797-1648980000-1648983600@www.northparish.org
SUMMARY:JYG Classes
DESCRIPTION:JYG classes will be held in the Parish Hall (closest to the stage) beginning Sunday\, November 7\, 2021 from 10 to 11 am.  Please contact Amy Ruiter with any questions.
URL:https://www.northparish.org/event/jyg-classes/2022-04-03/
LOCATION:Freeman Hall at North Parish\, 190 Academy Road\, North Andover\, MA\, 01845-4022\, United States
END:VEVENT
BEGIN:VEVENT
DTSTART;VALUE=DATE:20220401
DTEND;VALUE=DATE:20220404
DTSTAMP:20260421T204919
CREATED:20220303T171959Z
LAST-MODIFIED:20220303T171959Z
UID:10004759-1648771200-1649030399@www.northparish.org
SUMMARY:OWL Facilitator Training Offered at UU Reading
DESCRIPTION:Our Whole Lives (OWL) is an integral and very important youth program at North Parish and we need your help right now. \nWe are seeking to build up a team of trained OWL youth facilitators who can rotate in and out of supporting and teaching our youth so as to better spread out the work as well as provide our youth with different voices to learn along with. \nA 3-day OWL Training session is currently being offered at the UU Church of Reading\, just a few short hops away from North Parish from April 1st to 3rd. Please consider participating in this important training and helping to rebuild our OWL program here at North Parish. If you can make the training dates\, please email Kerry Anne at faithformation@northparish.org for registration and training information.
URL:https://www.northparish.org/event/owl-facilitator-training-offered-at-uu-reading/
END:VEVENT
BEGIN:VEVENT
DTSTART;TZID=America/New_York:20220327T100000
DTEND;TZID=America/New_York:20220327T110000
DTSTAMP:20260421T204919
CREATED:20211104T153737Z
LAST-MODIFIED:20211104T153737Z
UID:10004975-1648375200-1648378800@www.northparish.org
SUMMARY:SYG Classes
DESCRIPTION:SYG will meet every other week beginning on November 7\, 2021 in the North Parish Parlor from 10 to 11 am.  Please contact Amy Ruiter\, Youth Coordinator\, with any questions.
URL:https://www.northparish.org/event/syg-classes/2022-03-27/
LOCATION:Parlor at North Parish\, 190 Academy Road\, North Andover\, MA\, 01845\, United States
END:VEVENT
BEGIN:VEVENT
DTSTART;TZID=America/New_York:20220327T100000
DTEND;TZID=America/New_York:20220327T110000
DTSTAMP:20260421T204919
CREATED:20211104T151339Z
LAST-MODIFIED:20211104T151339Z
UID:10004796-1648375200-1648378800@www.northparish.org
SUMMARY:JYG Classes
DESCRIPTION:JYG classes will be held in the Parish Hall (closest to the stage) beginning Sunday\, November 7\, 2021 from 10 to 11 am.  Please contact Amy Ruiter with any questions.
URL:https://www.northparish.org/event/jyg-classes/2022-03-27/
LOCATION:Freeman Hall at North Parish\, 190 Academy Road\, North Andover\, MA\, 01845-4022\, United States
END:VEVENT
BEGIN:VEVENT
DTSTART;TZID=America/New_York:20220326T200000
DTEND;TZID=America/New_York:20220326T220000
DTSTAMP:20260421T204919
CREATED:20220303T171003Z
LAST-MODIFIED:20220317T181128Z
UID:10004758-1648324800-1648332000@www.northparish.org
SUMMARY:SYG Earth Hour Scavenger Hunt
DESCRIPTION:Calling all SYG Youth! Join us Saturday\, March 26th from 8:00pm – 10:00 pm (meet in the Sanctuary) as we support our North Parish Climate Justice Group and honor the annual observance of Earth Hour. We will gather together to solve puzzles\, search for clues and find our way through a darkened church ending in the backyard with a bonfire and food! \nEvery year at 8:30 pm on the last Saturday of March\, people from across the world come together to raise awareness of the climate issues facing our Big Blue Home by switching off their lights for an hour. In honor of Earth Hour\, North Parish will be going dark from 8:00 to 10:00 pm and the building will set the stage for a large-scale “Escape Church” as we wind our way through the darkened halls and rooms with only the aid flashlights\, camera lights….working together to solve clues and find items to find our way out of the building and into the backyard where a bonfire and food/drinks await.
URL:https://www.northparish.org/event/syg-earth-hour-scavenger-hunt/
LOCATION:Whole building at North Parish\, 190 Academy Road\, North Andover\, MA\, 01845\, United States
END:VEVENT
BEGIN:VEVENT
DTSTART;TZID=America/New_York:20220320T100000
DTEND;TZID=America/New_York:20220320T110000
DTSTAMP:20260421T204919
CREATED:20220317T130904Z
LAST-MODIFIED:20220317T130904Z
UID:10004769-1647770400-1647774000@www.northparish.org
SUMMARY:Elementary Classes (PreK-Grade 4)
DESCRIPTION:Elementary Faith Formation Class for Pre-K through 4th Grade
URL:https://www.northparish.org/event/elementary-classes-prek-grade-4/
LOCATION:Chapel at North Parish\, 190 Academy Road\, North Andover\, MA\, 01845-4022\, United States
END:VEVENT
BEGIN:VEVENT
DTSTART;TZID=America/New_York:20220320T100000
DTEND;TZID=America/New_York:20220320T110000
DTSTAMP:20260421T204919
CREATED:20211104T151339Z
LAST-MODIFIED:20211104T151339Z
UID:10004795-1647770400-1647774000@www.northparish.org
SUMMARY:JYG Classes
DESCRIPTION:JYG classes will be held in the Parish Hall (closest to the stage) beginning Sunday\, November 7\, 2021 from 10 to 11 am.  Please contact Amy Ruiter with any questions.
URL:https://www.northparish.org/event/jyg-classes/2022-03-20/
LOCATION:Freeman Hall at North Parish\, 190 Academy Road\, North Andover\, MA\, 01845-4022\, United States
END:VEVENT
BEGIN:VEVENT
DTSTART;TZID=America/New_York:20220313T100000
DTEND;TZID=America/New_York:20220313T110000
DTSTAMP:20260421T204919
CREATED:20211104T153737Z
LAST-MODIFIED:20211104T153737Z
UID:10004974-1647165600-1647169200@www.northparish.org
SUMMARY:SYG Classes
DESCRIPTION:SYG will meet every other week beginning on November 7\, 2021 in the North Parish Parlor from 10 to 11 am.  Please contact Amy Ruiter\, Youth Coordinator\, with any questions.
URL:https://www.northparish.org/event/syg-classes/2022-03-13/
LOCATION:Parlor at North Parish\, 190 Academy Road\, North Andover\, MA\, 01845\, United States
END:VEVENT
BEGIN:VEVENT
DTSTART;TZID=America/New_York:20220313T100000
DTEND;TZID=America/New_York:20220313T110000
DTSTAMP:20260421T204919
CREATED:20211104T151339Z
LAST-MODIFIED:20211104T151339Z
UID:10004794-1647165600-1647169200@www.northparish.org
SUMMARY:JYG Classes
DESCRIPTION:JYG classes will be held in the Parish Hall (closest to the stage) beginning Sunday\, November 7\, 2021 from 10 to 11 am.  Please contact Amy Ruiter with any questions.
URL:https://www.northparish.org/event/jyg-classes/2022-03-13/
LOCATION:Freeman Hall at North Parish\, 190 Academy Road\, North Andover\, MA\, 01845-4022\, United States
END:VEVENT
BEGIN:VEVENT
DTSTART;TZID=America/New_York:20220306T100000
DTEND;TZID=America/New_York:20220306T110000
DTSTAMP:20260421T204919
CREATED:20211104T151339Z
LAST-MODIFIED:20211104T151339Z
UID:10004793-1646560800-1646564400@www.northparish.org
SUMMARY:JYG Classes
DESCRIPTION:JYG classes will be held in the Parish Hall (closest to the stage) beginning Sunday\, November 7\, 2021 from 10 to 11 am.  Please contact Amy Ruiter with any questions.
URL:https://www.northparish.org/event/jyg-classes/2022-03-06/
LOCATION:Freeman Hall at North Parish\, 190 Academy Road\, North Andover\, MA\, 01845-4022\, United States
END:VEVENT
BEGIN:VEVENT
DTSTART;TZID=America/New_York:20220227T100000
DTEND;TZID=America/New_York:20220227T110000
DTSTAMP:20260421T204919
CREATED:20211104T153737Z
LAST-MODIFIED:20211104T153737Z
UID:10004973-1645956000-1645959600@www.northparish.org
SUMMARY:SYG Classes
DESCRIPTION:SYG will meet every other week beginning on November 7\, 2021 in the North Parish Parlor from 10 to 11 am.  Please contact Amy Ruiter\, Youth Coordinator\, with any questions.
URL:https://www.northparish.org/event/syg-classes/2022-02-27/
LOCATION:Parlor at North Parish\, 190 Academy Road\, North Andover\, MA\, 01845\, United States
END:VEVENT
BEGIN:VEVENT
DTSTART;TZID=America/New_York:20220227T100000
DTEND;TZID=America/New_York:20220227T110000
DTSTAMP:20260421T204919
CREATED:20211104T151339Z
LAST-MODIFIED:20211104T151339Z
UID:10004792-1645956000-1645959600@www.northparish.org
SUMMARY:JYG Classes
DESCRIPTION:JYG classes will be held in the Parish Hall (closest to the stage) beginning Sunday\, November 7\, 2021 from 10 to 11 am.  Please contact Amy Ruiter with any questions.
URL:https://www.northparish.org/event/jyg-classes/2022-02-27/
LOCATION:Freeman Hall at North Parish\, 190 Academy Road\, North Andover\, MA\, 01845-4022\, United States
END:VEVENT
BEGIN:VEVENT
DTSTART;TZID=America/New_York:20220220T100000
DTEND;TZID=America/New_York:20220220T110000
DTSTAMP:20260421T204919
CREATED:20211104T151339Z
LAST-MODIFIED:20211104T151339Z
UID:10004791-1645351200-1645354800@www.northparish.org
SUMMARY:JYG Classes
DESCRIPTION:JYG classes will be held in the Parish Hall (closest to the stage) beginning Sunday\, November 7\, 2021 from 10 to 11 am.  Please contact Amy Ruiter with any questions.
URL:https://www.northparish.org/event/jyg-classes/2022-02-20/
LOCATION:Freeman Hall at North Parish\, 190 Academy Road\, North Andover\, MA\, 01845-4022\, United States
END:VEVENT
BEGIN:VEVENT
DTSTART;TZID=America/New_York:20220213T100000
DTEND;TZID=America/New_York:20220213T110000
DTSTAMP:20260421T204919
CREATED:20211104T153737Z
LAST-MODIFIED:20211104T153737Z
UID:10004972-1644746400-1644750000@www.northparish.org
SUMMARY:SYG Classes
DESCRIPTION:SYG will meet every other week beginning on November 7\, 2021 in the North Parish Parlor from 10 to 11 am.  Please contact Amy Ruiter\, Youth Coordinator\, with any questions.
URL:https://www.northparish.org/event/syg-classes/2022-02-13/
LOCATION:Parlor at North Parish\, 190 Academy Road\, North Andover\, MA\, 01845\, United States
END:VEVENT
BEGIN:VEVENT
DTSTART;TZID=America/New_York:20220213T100000
DTEND;TZID=America/New_York:20220213T110000
DTSTAMP:20260421T204919
CREATED:20211104T151339Z
LAST-MODIFIED:20211104T151339Z
UID:10004790-1644746400-1644750000@www.northparish.org
SUMMARY:JYG Classes
DESCRIPTION:JYG classes will be held in the Parish Hall (closest to the stage) beginning Sunday\, November 7\, 2021 from 10 to 11 am.  Please contact Amy Ruiter with any questions.
URL:https://www.northparish.org/event/jyg-classes/2022-02-13/
LOCATION:Freeman Hall at North Parish\, 190 Academy Road\, North Andover\, MA\, 01845-4022\, United States
END:VEVENT
BEGIN:VEVENT
DTSTART;TZID=America/New_York:20220206T123000
DTEND;TZID=America/New_York:20220206T140000
DTSTAMP:20260421T204919
CREATED:20220107T142448Z
LAST-MODIFIED:20220107T142448Z
UID:10005079-1644150600-1644156000@www.northparish.org
SUMMARY:8th-9th Grade OWL youth class
DESCRIPTION:Please view HERE for an overview of the program curriculum and tentative class scheduling.
URL:https://www.northparish.org/event/8th-9th-grade-owl-youth-class/
LOCATION:Freeman Hall at North Parish\, 190 Academy Road\, North Andover\, MA\, 01845-4022\, United States
END:VEVENT
BEGIN:VEVENT
DTSTART;TZID=America/New_York:20220206T100000
DTEND;TZID=America/New_York:20220206T110000
DTSTAMP:20260421T204919
CREATED:20211104T151339Z
LAST-MODIFIED:20211104T151339Z
UID:10004789-1644141600-1644145200@www.northparish.org
SUMMARY:JYG Classes
DESCRIPTION:JYG classes will be held in the Parish Hall (closest to the stage) beginning Sunday\, November 7\, 2021 from 10 to 11 am.  Please contact Amy Ruiter with any questions.
URL:https://www.northparish.org/event/jyg-classes/2022-02-06/
LOCATION:Freeman Hall at North Parish\, 190 Academy Road\, North Andover\, MA\, 01845-4022\, United States
END:VEVENT
END:VCALENDAR